BEGIN:VCALENDAR
VERSION:2.0
PRODID:-//AFLabs urnik izvoz - fmf//aflabs.si//SI
DTSTAMP:20260422T011001Z
NAME:UL FMF urnik
REFRESH-INTERVAL:PT1H
SOURCE:https://urnik.fmf.uni-lj.si/teacher/544?day=2024-01-29&export=1
URL:https://urnik.fmf.uni-lj.si/teacher/544?day=2024-01-29&export=1
X-PUBLISHED-TTL:PT1H
X-WR-CALNAME:UL FMF urnik
X-WR-TIMEZONE:Europe/Ljubljana
BEGIN:VTIMEZONE
TZID:Europe/Ljubljana
BEGIN:DAYLIGHT
DTSTART:20260329T020000
RDATE:20260329T020000
RDATE:20270328T020000
TZNAME:CEST
TZOFFSETFROM:+0100
TZOFFSETTO:+0200
END:DAYLIGHT
BEGIN:STANDARD
DTSTART:20261025T030000
RDATE:20261025T030000
RDATE:20271031T030000
TZNAME:CET
TZOFFSETFROM:+0200
TZOFFSETTO:+0100
END:STANDARD
END:VTIMEZONE
BEGIN:VEVENT
SUMMARY:Moderna fizika (APF-3)\, Vaje (V)
DTSTART;TZID=Europe/Ljubljana:20231226T140000
DTEND;TZID=Europe/Ljubljana:20231226T160000
DTSTAMP:20260422T011001Z
UID:fmf-AFLABS-URNIK:premaknjeno-srecanje:73966
ATTENDEE:3. letnik (Aplikativna fizika)
CATEGORIES:Entry,Standard
COLOR:darkgreen
DESCRIPTION:Predmet: Moderna fizika (APF-3)\, Vaje (V)\nLetniki: 3. letnik
  (Aplikativna fizika)\nIzvajalci: Katja Gosar\nProstor: F6
LOCATION:F6
ORGANIZER:Katja Gosar
RELATED-TO:fmf-AFLABS-URNIK:srecanje:9334
X-WR-TIMEZONE:Europe/Ljubljana
END:VEVENT
BEGIN:VEVENT
SUMMARY:Moderna fizika (APF-3)\, Vaje (V)
DTSTART;TZID=Europe/Ljubljana:20240102T140000
DTEND;TZID=Europe/Ljubljana:20240102T160000
DTSTAMP:20260422T011001Z
UID:fmf-AFLABS-URNIK:premaknjeno-srecanje:73967
ATTENDEE:3. letnik (Aplikativna fizika)
CATEGORIES:Entry,Standard
COLOR:darkgreen
DESCRIPTION:Predmet: Moderna fizika (APF-3)\, Vaje (V)\nLetniki: 3. letnik
  (Aplikativna fizika)\nIzvajalci: Katja Gosar\nProstor: F6
LOCATION:F6
ORGANIZER:Katja Gosar
RELATED-TO:fmf-AFLABS-URNIK:srecanje:9334
X-WR-TIMEZONE:Europe/Ljubljana
END:VEVENT
BEGIN:VEVENT
SUMMARY:Moderna fizika (APF-3)\, Vaje (V)
DTSTART;TZID=Europe/Ljubljana:20240109T140000
DTEND;TZID=Europe/Ljubljana:20240109T160000
DTSTAMP:20260422T011001Z
UID:fmf-AFLABS-URNIK:premaknjeno-srecanje:73968
ATTENDEE:3. letnik (Aplikativna fizika)
CATEGORIES:Entry,Standard
COLOR:darkgreen
DESCRIPTION:Predmet: Moderna fizika (APF-3)\, Vaje (V)\nLetniki: 3. letnik
  (Aplikativna fizika)\nIzvajalci: Katja Gosar\nProstor: F6
LOCATION:F6
ORGANIZER:Katja Gosar
RELATED-TO:fmf-AFLABS-URNIK:srecanje:9334
X-WR-TIMEZONE:Europe/Ljubljana
END:VEVENT
BEGIN:VEVENT
SUMMARY:Moderna fizika (APF-3)\, Vaje (V)
DTSTART;TZID=Europe/Ljubljana:20240116T140000
DTEND;TZID=Europe/Ljubljana:20240116T160000
DTSTAMP:20260422T011001Z
UID:fmf-AFLABS-URNIK:premaknjeno-srecanje:73969
ATTENDEE:3. letnik (Aplikativna fizika)
CATEGORIES:Entry,Standard
COLOR:darkgreen
DESCRIPTION:Predmet: Moderna fizika (APF-3)\, Vaje (V)\nLetniki: 3. letnik
  (Aplikativna fizika)\nIzvajalci: Katja Gosar\nProstor: F6
LOCATION:F6
ORGANIZER:Katja Gosar
RELATED-TO:fmf-AFLABS-URNIK:srecanje:9334
X-WR-TIMEZONE:Europe/Ljubljana
END:VEVENT
BEGIN:VEVENT
SUMMARY:Moderna fizika (APF-3)\, Vaje (V)
DTSTART;TZID=Europe/Ljubljana:20240123T140000
DTEND;TZID=Europe/Ljubljana:20240123T160000
DTSTAMP:20260422T011001Z
UID:fmf-AFLABS-URNIK:premaknjeno-srecanje:73970
ATTENDEE:3. letnik (Aplikativna fizika)
CATEGORIES:Entry,Standard
COLOR:darkgreen
DESCRIPTION:Predmet: Moderna fizika (APF-3)\, Vaje (V)\nLetniki: 3. letnik
  (Aplikativna fizika)\nIzvajalci: Katja Gosar\nProstor: F6
LOCATION:F6
ORGANIZER:Katja Gosar
RELATED-TO:fmf-AFLABS-URNIK:srecanje:9334
X-WR-TIMEZONE:Europe/Ljubljana
END:VEVENT
BEGIN:VEVENT
SUMMARY:Moderna fizika (APF-3)\, Vaje (V)
DTSTART;TZID=Europe/Ljubljana:20240219T100000
DTEND;TZID=Europe/Ljubljana:20240219T120000
DTSTAMP:20260422T011001Z
UID:fmf-AFLABS-URNIK:premaknjeno-srecanje:127694
ATTENDEE:3. letnik (Aplikativna fizika)
CATEGORIES:Entry,Standard
COLOR:darkgreen
DESCRIPTION:Predmet: Moderna fizika (APF-3)\, Vaje (V)\nLetniki: 3. letnik
  (Aplikativna fizika)\nIzvajalci: Katja Gosar\nProstor: F6
LOCATION:F6
ORGANIZER:Katja Gosar
RELATED-TO:fmf-AFLABS-URNIK:srecanje:10552
X-WR-TIMEZONE:Europe/Ljubljana
END:VEVENT
BEGIN:VEVENT
SUMMARY:Moderna fizika (APF-3)\, Vaje (V)
DTSTART;TZID=Europe/Ljubljana:20240226T100000
DTEND;TZID=Europe/Ljubljana:20240226T120000
DTSTAMP:20260422T011001Z
UID:fmf-AFLABS-URNIK:premaknjeno-srecanje:127695
ATTENDEE:3. letnik (Aplikativna fizika)
CATEGORIES:Entry,Standard
COLOR:darkgreen
DESCRIPTION:Predmet: Moderna fizika (APF-3)\, Vaje (V)\nLetniki: 3. letnik
  (Aplikativna fizika)\nIzvajalci: Katja Gosar\nProstor: F6
LOCATION:F6
ORGANIZER:Katja Gosar
RELATED-TO:fmf-AFLABS-URNIK:srecanje:10552
X-WR-TIMEZONE:Europe/Ljubljana
END:VEVENT
BEGIN:VEVENT
SUMMARY:Moderna fizika (APF-3)\, Vaje (V)
DTSTART;TZID=Europe/Ljubljana:20240304T100000
DTEND;TZID=Europe/Ljubljana:20240304T120000
DTSTAMP:20260422T011001Z
UID:fmf-AFLABS-URNIK:premaknjeno-srecanje:127696
ATTENDEE:3. letnik (Aplikativna fizika)
CATEGORIES:Entry,Standard
COLOR:darkgreen
DESCRIPTION:Predmet: Moderna fizika (APF-3)\, Vaje (V)\nLetniki: 3. letnik
  (Aplikativna fizika)\nIzvajalci: Katja Gosar\nProstor: F6
LOCATION:F6
ORGANIZER:Katja Gosar
RELATED-TO:fmf-AFLABS-URNIK:srecanje:10552
X-WR-TIMEZONE:Europe/Ljubljana
END:VEVENT
BEGIN:VEVENT
SUMMARY:Rezervacija
DTSTART;TZID=Europe/Ljubljana:20240205T090000
DTEND;TZID=Europe/Ljubljana:20240205T110000
DTSTAMP:20260422T011001Z
UID:fmf-AFLABS-URNIK:rezervacija:13951
ATTENDEE:3. letnik (Aplikativna fizika)
CATEGORIES:Reservation
COLOR:royalblue
DESCRIPTION:Predmeti: Moderna fizika (APF-3)\nLetniki: 3. letnik (Aplikati
 vna fizika)\nIzvajalci: Katja Gosar\nProstori: F6
LOCATION:F6
ORGANIZER:Katja Gosar
X-WR-TIMEZONE:Europe/Ljubljana
END:VEVENT
BEGIN:VEVENT
SUMMARY:Rezervacija
DTSTART;TZID=Europe/Ljubljana:20240212T090000
DTEND;TZID=Europe/Ljubljana:20240212T110000
DTSTAMP:20260422T011001Z
UID:fmf-AFLABS-URNIK:rezervacija:13983
ATTENDEE:3. letnik (Aplikativna fizika)
CATEGORIES:Reservation
COLOR:royalblue
DESCRIPTION:Predmeti: Moderna fizika (APF-3)\nLetniki: 3. letnik (Aplikati
 vna fizika)\nIzvajalci: Katja Gosar\nProstori: F6
LOCATION:F6
ORGANIZER:Katja Gosar
X-WR-TIMEZONE:Europe/Ljubljana
END:VEVENT
END:VCALENDAR
