BEGIN:VCALENDAR
VERSION:2.0
PRODID:-//AFLabs urnik izvoz - fmf//aflabs.si//SI
DTSTAMP:20260425T125624Z
NAME:UL FMF urnik
REFRESH-INTERVAL:PT1H
SOURCE:https://urnik.fmf.uni-lj.si/teacher/544?day=2025-02-03&export=1
URL:https://urnik.fmf.uni-lj.si/teacher/544?day=2025-02-03&export=1
X-PUBLISHED-TTL:PT1H
X-WR-CALNAME:UL FMF urnik
X-WR-TIMEZONE:Europe/Ljubljana
BEGIN:VTIMEZONE
TZID:Europe/Ljubljana
BEGIN:DAYLIGHT
DTSTART:20260329T020000
RDATE:20260329T020000
RDATE:20270328T020000
TZNAME:CEST
TZOFFSETFROM:+0100
TZOFFSETTO:+0200
END:DAYLIGHT
BEGIN:STANDARD
DTSTART:20261025T030000
RDATE:20261025T030000
RDATE:20271031T030000
TZNAME:CET
TZOFFSETFROM:+0200
TZOFFSETTO:+0100
END:STANDARD
END:VTIMEZONE
BEGIN:VEVENT
SUMMARY:Klasična mehanika (FIZ-2)\, Vaje (V)\, [1]
DTSTART;TZID=Europe/Ljubljana:20250217T100000
DTEND;TZID=Europe/Ljubljana:20250217T120000
DTSTAMP:20260425T125624Z
UID:fmf-AFLABS-URNIK:premaknjeno-srecanje:207656
ATTENDEE:2. letnik (Fizika, 1. stopnja)
CATEGORIES:Entry,Standard
COLOR:darkgreen
DESCRIPTION:Predmet: Klasična mehanika (FIZ-2)\, Vaje (V)\, [1]\nLetniki:
  2. letnik (Fizika\, 1. stopnja)\nIzvajalci: Katja Gosar\nProstor: P.02
LOCATION:P.02
ORGANIZER:Katja Gosar
RELATED-TO:fmf-AFLABS-URNIK:srecanje:14907
X-WR-TIMEZONE:Europe/Ljubljana
END:VEVENT
BEGIN:VEVENT
SUMMARY:Klasična mehanika (FIZ-2)\, Vaje (V)\, [1]
DTSTART;TZID=Europe/Ljubljana:20250224T100000
DTEND;TZID=Europe/Ljubljana:20250224T120000
DTSTAMP:20260425T125624Z
UID:fmf-AFLABS-URNIK:premaknjeno-srecanje:207657
ATTENDEE:2. letnik (Fizika, 1. stopnja)
CATEGORIES:Entry,Standard
COLOR:darkgreen
DESCRIPTION:Predmet: Klasična mehanika (FIZ-2)\, Vaje (V)\, [1]\nLetniki:
  2. letnik (Fizika\, 1. stopnja)\nIzvajalci: Katja Gosar\nProstor: P.02
LOCATION:P.02
ORGANIZER:Katja Gosar
RELATED-TO:fmf-AFLABS-URNIK:srecanje:14907
X-WR-TIMEZONE:Europe/Ljubljana
END:VEVENT
BEGIN:VEVENT
SUMMARY:Klasična mehanika (FIZ-2)\, Vaje (V)\, [1]
DTSTART;TZID=Europe/Ljubljana:20250303T100000
DTEND;TZID=Europe/Ljubljana:20250303T120000
DTSTAMP:20260425T125624Z
UID:fmf-AFLABS-URNIK:premaknjeno-srecanje:207658
ATTENDEE:2. letnik (Fizika, 1. stopnja)
CATEGORIES:Entry,Standard
COLOR:darkgreen
DESCRIPTION:Predmet: Klasična mehanika (FIZ-2)\, Vaje (V)\, [1]\nLetniki:
  2. letnik (Fizika\, 1. stopnja)\nIzvajalci: Katja Gosar\nProstor: P.02
LOCATION:P.02
ORGANIZER:Katja Gosar
RELATED-TO:fmf-AFLABS-URNIK:srecanje:14907
X-WR-TIMEZONE:Europe/Ljubljana
END:VEVENT
BEGIN:VEVENT
SUMMARY:Klasična mehanika (FIZ-2)\, Vaje (V)\, [1]
DTSTART;TZID=Europe/Ljubljana:20250310T100000
DTEND;TZID=Europe/Ljubljana:20250310T120000
DTSTAMP:20260425T125624Z
UID:fmf-AFLABS-URNIK:premaknjeno-srecanje:207659
ATTENDEE:2. letnik (Fizika, 1. stopnja)
CATEGORIES:Entry,Standard
COLOR:darkgreen
DESCRIPTION:Predmet: Klasična mehanika (FIZ-2)\, Vaje (V)\, [1]\nLetniki:
  2. letnik (Fizika\, 1. stopnja)\nIzvajalci: Katja Gosar\nProstor: P.02
LOCATION:P.02
ORGANIZER:Katja Gosar
RELATED-TO:fmf-AFLABS-URNIK:srecanje:14907
X-WR-TIMEZONE:Europe/Ljubljana
END:VEVENT
END:VCALENDAR
