BEGIN:VCALENDAR
VERSION:2.0
PRODID:-//AFLabs urnik izvoz - fmf//aflabs.si//SI
DTSTAMP:20260421T030253Z
NAME:UL FMF urnik
REFRESH-INTERVAL:PT1H
SOURCE:https://urnik.fmf.uni-lj.si/teacher/546?day=2024-04-01&export=1
URL:https://urnik.fmf.uni-lj.si/teacher/546?day=2024-04-01&export=1
X-PUBLISHED-TTL:PT1H
X-WR-CALNAME:UL FMF urnik
X-WR-TIMEZONE:Europe/Ljubljana
BEGIN:VTIMEZONE
TZID:Europe/Ljubljana
BEGIN:DAYLIGHT
DTSTART:20260329T020000
RDATE:20260329T020000
RDATE:20270328T020000
TZNAME:CEST
TZOFFSETFROM:+0100
TZOFFSETTO:+0200
END:DAYLIGHT
BEGIN:STANDARD
DTSTART:20261025T030000
RDATE:20261025T030000
RDATE:20271031T030000
TZNAME:CET
TZOFFSETFROM:+0200
TZOFFSETTO:+0100
END:STANDARD
END:VTIMEZONE
BEGIN:VEVENT
SUMMARY:konference
DTSTART;TZID=Europe/Ljubljana:20240227T130000
DTEND;TZID=Europe/Ljubljana:20240227T140000
DTSTAMP:20260421T030253Z
UID:fmf-AFLABS-URNIK:rezervacija:14997
CATEGORIES:Reservation
COLOR:royalblue
DESCRIPTION:Predmeti: \nLetniki: \nIzvajalci: Bernarda Golob Hribar\nProst
 ori: Sejna soba J21
LOCATION:Sejna soba J21
ORGANIZER:Bernarda Golob Hribar
X-WR-TIMEZONE:Europe/Ljubljana
END:VEVENT
BEGIN:VEVENT
SUMMARY:Založniške zadeve
DTSTART;TZID=Europe/Ljubljana:20240301T140000
DTEND;TZID=Europe/Ljubljana:20240301T150000
DTSTAMP:20260421T030253Z
UID:fmf-AFLABS-URNIK:rezervacija:15554
CATEGORIES:Reservation
COLOR:royalblue
DESCRIPTION:Predmeti: \nLetniki: \nIzvajalci: Bernarda Golob Hribar\nProst
 ori: Sejna soba J21
LOCATION:Sejna soba J21
ORGANIZER:Bernarda Golob Hribar
X-WR-TIMEZONE:Europe/Ljubljana
END:VEVENT
BEGIN:VEVENT
SUMMARY:Založniške zadeve
DTSTART;TZID=Europe/Ljubljana:20240305T120000
DTEND;TZID=Europe/Ljubljana:20240305T133000
DTSTAMP:20260421T030253Z
UID:fmf-AFLABS-URNIK:rezervacija:15555
CATEGORIES:Reservation
COLOR:royalblue
DESCRIPTION:Predmeti: \nLetniki: \nIzvajalci: Bernarda Golob Hribar\nProst
 ori: Sejna soba J21
LOCATION:Sejna soba J21
ORGANIZER:Bernarda Golob Hribar
X-WR-TIMEZONE:Europe/Ljubljana
END:VEVENT
BEGIN:VEVENT
SUMMARY:Odprta znanost
DTSTART;TZID=Europe/Ljubljana:20240507T140000
DTEND;TZID=Europe/Ljubljana:20240507T170000
DTSTAMP:20260421T030253Z
UID:fmf-AFLABS-URNIK:rezervacija:16093
CATEGORIES:Reservation
COLOR:royalblue
DESCRIPTION:Predmeti: \nLetniki: \nIzvajalci: Bernarda Golob Hribar\nProst
 ori: 1.01
LOCATION:1.01
ORGANIZER:Bernarda Golob Hribar
X-WR-TIMEZONE:Europe/Ljubljana
END:VEVENT
BEGIN:VEVENT
SUMMARY:Odprta znanost
DTSTART;TZID=Europe/Ljubljana:20240521T140000
DTEND;TZID=Europe/Ljubljana:20240521T170000
DTSTAMP:20260421T030253Z
UID:fmf-AFLABS-URNIK:rezervacija:16094
CATEGORIES:Reservation
COLOR:royalblue
DESCRIPTION:Predmeti: \nLetniki: \nIzvajalci: Bernarda Golob Hribar\nProst
 ori: 1.01
LOCATION:1.01
ORGANIZER:Bernarda Golob Hribar
X-WR-TIMEZONE:Europe/Ljubljana
END:VEVENT
BEGIN:VEVENT
SUMMARY:SAP - viri za nakup osnovnih sredstev
DTSTART;TZID=Europe/Ljubljana:20240410T110000
DTEND;TZID=Europe/Ljubljana:20240410T130000
DTSTAMP:20260421T030253Z
UID:fmf-AFLABS-URNIK:rezervacija:16119
CATEGORIES:Reservation
COLOR:royalblue
DESCRIPTION:Predmeti: \nLetniki: \nIzvajalci: Bernarda Golob Hribar\nProst
 ori: 1.02
LOCATION:1.02
ORGANIZER:Bernarda Golob Hribar
X-WR-TIMEZONE:Europe/Ljubljana
END:VEVENT
BEGIN:VEVENT
SUMMARY:Pedagoška konferenca  UL FMF
DTSTART;TZID=Europe/Ljubljana:20240522T140000
DTEND;TZID=Europe/Ljubljana:20240522T160000
DTSTAMP:20260421T030253Z
UID:fmf-AFLABS-URNIK:rezervacija:16122
CATEGORIES:Reservation
COLOR:royalblue
DESCRIPTION:Predmeti: \nLetniki: \nIzvajalci: Bernarda Golob Hribar\nProst
 ori: VFP
LOCATION:VFP
ORGANIZER:Bernarda Golob Hribar
X-WR-TIMEZONE:Europe/Ljubljana
END:VEVENT
BEGIN:VEVENT
SUMMARY:Sestanek v zvezi z finančnimi poročili za Založbo UL FMF
DTSTART;TZID=Europe/Ljubljana:20240416T140000
DTEND;TZID=Europe/Ljubljana:20240416T160000
DTSTAMP:20260421T030253Z
UID:fmf-AFLABS-URNIK:rezervacija:16205
CATEGORIES:Reservation
COLOR:royalblue
DESCRIPTION:Predmeti: \nLetniki: \nIzvajalci: Bernarda Golob Hribar\nProst
 ori: Sejna soba J21
LOCATION:Sejna soba J21
ORGANIZER:Bernarda Golob Hribar
X-WR-TIMEZONE:Europe/Ljubljana
END:VEVENT
BEGIN:VEVENT
SUMMARY:Sestanek vodij programskih skupin
DTSTART;TZID=Europe/Ljubljana:20240529T130000
DTEND;TZID=Europe/Ljubljana:20240529T140000
DTSTAMP:20260421T030253Z
UID:fmf-AFLABS-URNIK:rezervacija:16599
CATEGORIES:Reservation
COLOR:royalblue
DESCRIPTION:Predmeti: \nLetniki: \nIzvajalci: Bernarda Golob Hribar\nProst
 ori: P.01
LOCATION:P.01
ORGANIZER:Bernarda Golob Hribar
X-WR-TIMEZONE:Europe/Ljubljana
END:VEVENT
BEGIN:VEVENT
SUMMARY:Nateh
DTSTART;TZID=Europe/Ljubljana:20240524T130000
DTEND;TZID=Europe/Ljubljana:20240524T160000
DTSTAMP:20260421T030253Z
UID:fmf-AFLABS-URNIK:rezervacija:16724
CATEGORIES:Reservation
COLOR:royalblue
DESCRIPTION:Predmeti: \nLetniki: \nIzvajalci: Bernarda Golob Hribar\nProst
 ori: P.02
LOCATION:P.02
ORGANIZER:Bernarda Golob Hribar
X-WR-TIMEZONE:Europe/Ljubljana
END:VEVENT
END:VCALENDAR
