BEGIN:VCALENDAR
VERSION:2.0
PRODID:-//AFLabs urnik izvoz - fmf//aflabs.si//SI
DTSTAMP:20260423T082335Z
NAME:UL FMF urnik
REFRESH-INTERVAL:PT1H
SOURCE:https://urnik.fmf.uni-lj.si/teacher/546?day=2024-07-29&export=1
URL:https://urnik.fmf.uni-lj.si/teacher/546?day=2024-07-29&export=1
X-PUBLISHED-TTL:PT1H
X-WR-CALNAME:UL FMF urnik
X-WR-TIMEZONE:Europe/Ljubljana
BEGIN:VTIMEZONE
TZID:Europe/Ljubljana
BEGIN:DAYLIGHT
DTSTART:20260329T020000
RDATE:20260329T020000
RDATE:20270328T020000
TZNAME:CEST
TZOFFSETFROM:+0100
TZOFFSETTO:+0200
END:DAYLIGHT
BEGIN:STANDARD
DTSTART:20261025T030000
RDATE:20261025T030000
RDATE:20271031T030000
TZNAME:CET
TZOFFSETFROM:+0200
TZOFFSETTO:+0100
END:STANDARD
END:VTIMEZONE
BEGIN:VEVENT
SUMMARY:Sestanek vodij programskih skupin
DTSTART;TZID=Europe/Ljubljana:20240703T130000
DTEND;TZID=Europe/Ljubljana:20240703T150000
DTSTAMP:20260423T082335Z
UID:fmf-AFLABS-URNIK:rezervacija:16936
CATEGORIES:Reservation
COLOR:royalblue
DESCRIPTION:Predmeti: \nLetniki: \nIzvajalci: Bernarda Golob Hribar\nProst
 ori: Sejna soba J21
LOCATION:Sejna soba J21
ORGANIZER:Bernarda Golob Hribar
X-WR-TIMEZONE:Europe/Ljubljana
END:VEVENT
BEGIN:VEVENT
SUMMARY:Razgovor
DTSTART;TZID=Europe/Ljubljana:20240827T150000
DTEND;TZID=Europe/Ljubljana:20240827T170000
DTSTAMP:20260423T082335Z
UID:fmf-AFLABS-URNIK:rezervacija:17864
CATEGORIES:Reservation
COLOR:royalblue
DESCRIPTION:Predmeti: \nLetniki: \nIzvajalci: Barbara Dorić\, Bernarda Go
 lob Hribar\, Urška Selaković\nProstori: 1.02
LOCATION:1.02
ORGANIZER:Barbara Dorić, Bernarda Golob Hribar, Urška Selaković
X-WR-TIMEZONE:Europe/Ljubljana
END:VEVENT
END:VCALENDAR
