BEGIN:VCALENDAR
VERSION:2.0
PRODID:-//AFLabs urnik izvoz - fmf//aflabs.si//SI
DTSTAMP:20260425T231238Z
NAME:UL FMF urnik
REFRESH-INTERVAL:PT1H
SOURCE:https://urnik.fmf.uni-lj.si/teacher/548?day=2024-05-27&export=1
URL:https://urnik.fmf.uni-lj.si/teacher/548?day=2024-05-27&export=1
X-PUBLISHED-TTL:PT1H
X-WR-CALNAME:UL FMF urnik
X-WR-TIMEZONE:Europe/Ljubljana
BEGIN:VTIMEZONE
TZID:Europe/Ljubljana
BEGIN:DAYLIGHT
DTSTART:20260329T020000
RDATE:20260329T020000
RDATE:20270328T020000
TZNAME:CEST
TZOFFSETFROM:+0100
TZOFFSETTO:+0200
END:DAYLIGHT
BEGIN:STANDARD
DTSTART:20261025T030000
RDATE:20261025T030000
RDATE:20271031T030000
TZNAME:CET
TZOFFSETFROM:+0200
TZOFFSETTO:+0100
END:STANDARD
END:VTIMEZONE
BEGIN:VEVENT
SUMMARY:Tutorstvo Matematika 3
DTSTART;TZID=Europe/Ljubljana:20240229T140000
DTEND;TZID=Europe/Ljubljana:20240229T150000
DTSTAMP:20260425T231238Z
UID:fmf-AFLABS-URNIK:rezervacija:15877
CATEGORIES:Reservation
COLOR:royalblue
DESCRIPTION:Predmeti: \nLetniki: \nIzvajalci: Jakob Dežman\, Luka Santelj
 \nProstori: F8
LOCATION:F8
ORGANIZER:Jakob Dežman, Luka Santelj
X-WR-TIMEZONE:Europe/Ljubljana
END:VEVENT
BEGIN:VEVENT
SUMMARY:Tutorstvo Matematika 3
DTSTART;TZID=Europe/Ljubljana:20240502T140000
DTEND;TZID=Europe/Ljubljana:20240502T150000
DTSTAMP:20260425T231238Z
UID:fmf-AFLABS-URNIK:rezervacija:15886
CATEGORIES:Reservation
COLOR:royalblue
DESCRIPTION:Predmeti: \nLetniki: \nIzvajalci: Jakob Dežman\, Luka Santelj
 \nProstori: F8
LOCATION:F8
ORGANIZER:Jakob Dežman, Luka Santelj
X-WR-TIMEZONE:Europe/Ljubljana
END:VEVENT
BEGIN:VEVENT
SUMMARY:Tutorstvo Matematika 3
DTSTART;TZID=Europe/Ljubljana:20240411T140000
DTEND;TZID=Europe/Ljubljana:20240411T150000
DTSTAMP:20260425T231238Z
UID:fmf-AFLABS-URNIK:rezervacija:15883
CATEGORIES:Reservation
COLOR:royalblue
DESCRIPTION:Predmeti: \nLetniki: \nIzvajalci: Jakob Dežman\, Luka Santelj
 \nProstori: F8
LOCATION:F8
ORGANIZER:Jakob Dežman, Luka Santelj
X-WR-TIMEZONE:Europe/Ljubljana
END:VEVENT
BEGIN:VEVENT
SUMMARY:Tutorstvo Matematika 3
DTSTART;TZID=Europe/Ljubljana:20240321T140000
DTEND;TZID=Europe/Ljubljana:20240321T150000
DTSTAMP:20260425T231238Z
UID:fmf-AFLABS-URNIK:rezervacija:15880
CATEGORIES:Reservation
COLOR:royalblue
DESCRIPTION:Predmeti: \nLetniki: \nIzvajalci: Jakob Dežman\, Luka Santelj
 \nProstori: F8
LOCATION:F8
ORGANIZER:Jakob Dežman, Luka Santelj
X-WR-TIMEZONE:Europe/Ljubljana
END:VEVENT
BEGIN:VEVENT
SUMMARY:Izpit iz merjenj ionizirajocega sevanja
DTSTART;TZID=Europe/Ljubljana:20240618T100000
DTEND;TZID=Europe/Ljubljana:20240618T110000
DTSTAMP:20260425T231238Z
UID:fmf-AFLABS-URNIK:rezervacija:17135
ATTENDEE:3. letnik (Fizika, 1. stopnja)
CATEGORIES:Reservation
COLOR:royalblue
DESCRIPTION:Predmeti: Merjenje ionizirajočega sevanja (FIZ-3)\nLetniki: 3
 . letnik (Fizika\, 1. stopnja)\nIzvajalci: Luka Santelj\nProstori: F2
LOCATION:F2
ORGANIZER:Luka Santelj
X-WR-TIMEZONE:Europe/Ljubljana
END:VEVENT
BEGIN:VEVENT
SUMMARY:Tutorstvo Matematika 3
DTSTART;TZID=Europe/Ljubljana:20240222T140000
DTEND;TZID=Europe/Ljubljana:20240222T150000
DTSTAMP:20260425T231238Z
UID:fmf-AFLABS-URNIK:rezervacija:15876
CATEGORIES:Reservation
COLOR:royalblue
DESCRIPTION:Predmeti: \nLetniki: \nIzvajalci: Jakob Dežman\, Luka Santelj
 \nProstori: F8
LOCATION:F8
ORGANIZER:Jakob Dežman, Luka Santelj
X-WR-TIMEZONE:Europe/Ljubljana
END:VEVENT
BEGIN:VEVENT
SUMMARY:Tutorstvo Matematika 3
DTSTART;TZID=Europe/Ljubljana:20240523T140000
DTEND;TZID=Europe/Ljubljana:20240523T150000
DTSTAMP:20260425T231238Z
UID:fmf-AFLABS-URNIK:rezervacija:15889
CATEGORIES:Reservation
COLOR:royalblue
DESCRIPTION:Predmeti: \nLetniki: \nIzvajalci: Jakob Dežman\, Luka Santelj
 \nProstori: F8
LOCATION:F8
ORGANIZER:Jakob Dežman, Luka Santelj
X-WR-TIMEZONE:Europe/Ljubljana
END:VEVENT
BEGIN:VEVENT
SUMMARY:Izpit iz Merjenj ionizirajocega sevanja (vaje)
DTSTART;TZID=Europe/Ljubljana:20240620T100000
DTEND;TZID=Europe/Ljubljana:20240620T120000
DTSTAMP:20260425T231238Z
UID:fmf-AFLABS-URNIK:rezervacija:17136
ATTENDEE:3. letnik (Fizika, 1. stopnja)
CATEGORIES:Reservation
COLOR:royalblue
DESCRIPTION:Predmeti: Merjenje ionizirajočega sevanja (FIZ-3)\nLetniki: 3
 . letnik (Fizika\, 1. stopnja)\nIzvajalci: Luka Santelj\nProstori: F5
LOCATION:F5
ORGANIZER:Luka Santelj
X-WR-TIMEZONE:Europe/Ljubljana
END:VEVENT
BEGIN:VEVENT
SUMMARY:Tutorstvo Matematika 3
DTSTART;TZID=Europe/Ljubljana:20240404T140000
DTEND;TZID=Europe/Ljubljana:20240404T150000
DTSTAMP:20260425T231238Z
UID:fmf-AFLABS-URNIK:rezervacija:15882
CATEGORIES:Reservation
COLOR:royalblue
DESCRIPTION:Predmeti: \nLetniki: \nIzvajalci: Jakob Dežman\, Luka Santelj
 \nProstori: F8
LOCATION:F8
ORGANIZER:Jakob Dežman, Luka Santelj
X-WR-TIMEZONE:Europe/Ljubljana
END:VEVENT
BEGIN:VEVENT
SUMMARY:Tutorstvo Matematika 3
DTSTART;TZID=Europe/Ljubljana:20240530T140000
DTEND;TZID=Europe/Ljubljana:20240530T150000
DTSTAMP:20260425T231238Z
UID:fmf-AFLABS-URNIK:rezervacija:15890
CATEGORIES:Reservation
COLOR:royalblue
DESCRIPTION:Predmeti: \nLetniki: \nIzvajalci: Jakob Dežman\, Luka Santelj
 \nProstori: F8
LOCATION:F8
ORGANIZER:Jakob Dežman, Luka Santelj
X-WR-TIMEZONE:Europe/Ljubljana
END:VEVENT
BEGIN:VEVENT
SUMMARY:Tutorstvo Matematika 3
DTSTART;TZID=Europe/Ljubljana:20240418T140000
DTEND;TZID=Europe/Ljubljana:20240418T150000
DTSTAMP:20260425T231238Z
UID:fmf-AFLABS-URNIK:rezervacija:15884
CATEGORIES:Reservation
COLOR:royalblue
DESCRIPTION:Predmeti: \nLetniki: \nIzvajalci: Jakob Dežman\, Luka Santelj
 \nProstori: F8
LOCATION:F8
ORGANIZER:Jakob Dežman, Luka Santelj
X-WR-TIMEZONE:Europe/Ljubljana
END:VEVENT
BEGIN:VEVENT
SUMMARY:Tutorstvo Matematika 3
DTSTART;TZID=Europe/Ljubljana:20240516T140000
DTEND;TZID=Europe/Ljubljana:20240516T150000
DTSTAMP:20260425T231238Z
UID:fmf-AFLABS-URNIK:rezervacija:15888
CATEGORIES:Reservation
COLOR:royalblue
DESCRIPTION:Predmeti: \nLetniki: \nIzvajalci: Jakob Dežman\, Luka Santelj
 \nProstori: F8
LOCATION:F8
ORGANIZER:Jakob Dežman, Luka Santelj
X-WR-TIMEZONE:Europe/Ljubljana
END:VEVENT
BEGIN:VEVENT
SUMMARY:Tutorstvo Matematika 3
DTSTART;TZID=Europe/Ljubljana:20240314T140000
DTEND;TZID=Europe/Ljubljana:20240314T150000
DTSTAMP:20260425T231238Z
UID:fmf-AFLABS-URNIK:rezervacija:15879
CATEGORIES:Reservation
COLOR:royalblue
DESCRIPTION:Predmeti: \nLetniki: \nIzvajalci: Jakob Dežman\, Luka Santelj
 \nProstori: F8
LOCATION:F8
ORGANIZER:Jakob Dežman, Luka Santelj
X-WR-TIMEZONE:Europe/Ljubljana
END:VEVENT
BEGIN:VEVENT
SUMMARY:Tutorstvo Matematika 3
DTSTART;TZID=Europe/Ljubljana:20240307T140000
DTEND;TZID=Europe/Ljubljana:20240307T150000
DTSTAMP:20260425T231238Z
UID:fmf-AFLABS-URNIK:rezervacija:15878
CATEGORIES:Reservation
COLOR:royalblue
DESCRIPTION:Predmeti: \nLetniki: \nIzvajalci: Jakob Dežman\, Luka Santelj
 \nProstori: F8
LOCATION:F8
ORGANIZER:Jakob Dežman, Luka Santelj
X-WR-TIMEZONE:Europe/Ljubljana
END:VEVENT
BEGIN:VEVENT
SUMMARY:Tutorstvo Matematika 3
DTSTART;TZID=Europe/Ljubljana:20240328T140000
DTEND;TZID=Europe/Ljubljana:20240328T150000
DTSTAMP:20260425T231238Z
UID:fmf-AFLABS-URNIK:rezervacija:15881
CATEGORIES:Reservation
COLOR:royalblue
DESCRIPTION:Predmeti: \nLetniki: \nIzvajalci: Jakob Dežman\, Luka Santelj
 \nProstori: F8
LOCATION:F8
ORGANIZER:Jakob Dežman, Luka Santelj
X-WR-TIMEZONE:Europe/Ljubljana
END:VEVENT
BEGIN:VEVENT
SUMMARY:Tutorstvo Matematika 3
DTSTART;TZID=Europe/Ljubljana:20240425T140000
DTEND;TZID=Europe/Ljubljana:20240425T150000
DTSTAMP:20260425T231238Z
UID:fmf-AFLABS-URNIK:rezervacija:15885
CATEGORIES:Reservation
COLOR:royalblue
DESCRIPTION:Predmeti: \nLetniki: \nIzvajalci: Jakob Dežman\, Luka Santelj
 \nProstori: F8
LOCATION:F8
ORGANIZER:Jakob Dežman, Luka Santelj
X-WR-TIMEZONE:Europe/Ljubljana
END:VEVENT
BEGIN:VEVENT
SUMMARY:Tutorstvo Matematika 3
DTSTART;TZID=Europe/Ljubljana:20240509T140000
DTEND;TZID=Europe/Ljubljana:20240509T150000
DTSTAMP:20260425T231238Z
UID:fmf-AFLABS-URNIK:rezervacija:15887
CATEGORIES:Reservation
COLOR:royalblue
DESCRIPTION:Predmeti: \nLetniki: \nIzvajalci: Jakob Dežman\, Luka Santelj
 \nProstori: F8
LOCATION:F8
ORGANIZER:Jakob Dežman, Luka Santelj
X-WR-TIMEZONE:Europe/Ljubljana
END:VEVENT
END:VCALENDAR
