BEGIN:VCALENDAR
VERSION:2.0
PRODID:-//AFLabs urnik izvoz - fmf//aflabs.si//SI
DTSTAMP:20260420T061121Z
NAME:UL FMF urnik
REFRESH-INTERVAL:PT1H
SOURCE:https://urnik.fmf.uni-lj.si/teacher/548?day=2025-04-21&export=1
URL:https://urnik.fmf.uni-lj.si/teacher/548?day=2025-04-21&export=1
X-PUBLISHED-TTL:PT1H
X-WR-CALNAME:UL FMF urnik
X-WR-TIMEZONE:Europe/Ljubljana
BEGIN:VTIMEZONE
TZID:Europe/Ljubljana
BEGIN:DAYLIGHT
DTSTART:20260329T020000
RDATE:20260329T020000
RDATE:20270328T020000
TZNAME:CEST
TZOFFSETFROM:+0100
TZOFFSETTO:+0200
END:DAYLIGHT
BEGIN:STANDARD
DTSTART:20261025T030000
RDATE:20261025T030000
RDATE:20271031T030000
TZNAME:CET
TZOFFSETFROM:+0200
TZOFFSETTO:+0100
END:STANDARD
END:VTIMEZONE
BEGIN:VEVENT
SUMMARY:Kolokvij MIS
DTSTART;TZID=Europe/Ljubljana:20250429T180000
DTEND;TZID=Europe/Ljubljana:20250429T200000
DTSTAMP:20260420T061121Z
UID:fmf-AFLABS-URNIK:rezervacija:22054
ATTENDEE:3. letnik (Fizika, 1. stopnja)
CATEGORIES:Reservation
COLOR:royalblue
DESCRIPTION:Predmeti: Merjenje ionizirajočega sevanja (FIZ-3)\nLetniki: 3
 . letnik (Fizika\, 1. stopnja)\nIzvajalci: Luka Santelj\nProstori: F1
LOCATION:F1
ORGANIZER:Luka Santelj
X-WR-TIMEZONE:Europe/Ljubljana
END:VEVENT
BEGIN:VEVENT
SUMMARY:sestanek skupine za fiziko osnovnih delcev
DTSTART;TZID=Europe/Ljubljana:20250415T120000
DTEND;TZID=Europe/Ljubljana:20250415T140000
DTSTAMP:20260420T061121Z
UID:fmf-AFLABS-URNIK:rezervacija:22100
CATEGORIES:Reservation
COLOR:royalblue
DESCRIPTION:Predmeti: \nLetniki: \nIzvajalci: Luka Santelj\nProstori: Kuš
 čerjev seminar
LOCATION:Kuščerjev seminar
ORGANIZER:Luka Santelj
X-WR-TIMEZONE:Europe/Ljubljana
END:VEVENT
BEGIN:VEVENT
SUMMARY:sestanek skupine za eksperimentalno fiziko osnovnih delcev
DTSTART;TZID=Europe/Ljubljana:20250509T120000
DTEND;TZID=Europe/Ljubljana:20250509T140000
DTSTAMP:20260420T061121Z
UID:fmf-AFLABS-URNIK:rezervacija:22361
CATEGORIES:Reservation
COLOR:royalblue
DESCRIPTION:Predmeti: \nLetniki: \nIzvajalci: Luka Santelj\nProstori: F6
LOCATION:F6
ORGANIZER:Luka Santelj
X-WR-TIMEZONE:Europe/Ljubljana
END:VEVENT
BEGIN:VEVENT
SUMMARY:Sestanek skupine za eks. fiziko osnovnih delcev
DTSTART;TZID=Europe/Ljubljana:20250516T130000
DTEND;TZID=Europe/Ljubljana:20250516T150000
DTSTAMP:20260420T061121Z
UID:fmf-AFLABS-URNIK:rezervacija:22487
CATEGORIES:Reservation
COLOR:royalblue
DESCRIPTION:Predmeti: \nLetniki: \nIzvajalci: Luka Santelj\nProstori: F4
LOCATION:F4
ORGANIZER:Luka Santelj
X-WR-TIMEZONE:Europe/Ljubljana
END:VEVENT
BEGIN:VEVENT
SUMMARY:MIS - 2. kolokvij
DTSTART;TZID=Europe/Ljubljana:20250527T180000
DTEND;TZID=Europe/Ljubljana:20250527T200000
DTSTAMP:20260420T061121Z
UID:fmf-AFLABS-URNIK:rezervacija:22628
ATTENDEE:3. letnik (Fizika, 1. stopnja)
CATEGORIES:Reservation
COLOR:royalblue
DESCRIPTION:Predmeti: Merjenje ionizirajočega sevanja (FIZ-3)\nLetniki: 3
 . letnik (Fizika\, 1. stopnja)\nIzvajalci: Luka Santelj\nProstori: F1
LOCATION:F1
ORGANIZER:Luka Santelj
X-WR-TIMEZONE:Europe/Ljubljana
END:VEVENT
END:VCALENDAR
