BEGIN:VCALENDAR
VERSION:2.0
PRODID:-//AFLabs urnik izvoz - fmf//aflabs.si//SI
DTSTAMP:20260423T211316Z
NAME:UL FMF urnik
REFRESH-INTERVAL:PT1H
SOURCE:https://urnik.fmf.uni-lj.si/teacher/549?day=2024-01-22&export=1
URL:https://urnik.fmf.uni-lj.si/teacher/549?day=2024-01-22&export=1
X-PUBLISHED-TTL:PT1H
X-WR-CALNAME:UL FMF urnik
X-WR-TIMEZONE:Europe/Ljubljana
BEGIN:VTIMEZONE
TZID:Europe/Ljubljana
BEGIN:DAYLIGHT
DTSTART:20260329T020000
RDATE:20260329T020000
RDATE:20270328T020000
TZNAME:CEST
TZOFFSETFROM:+0100
TZOFFSETTO:+0200
END:DAYLIGHT
BEGIN:STANDARD
DTSTART:20261025T030000
RDATE:20261025T030000
RDATE:20271031T030000
TZNAME:CET
TZOFFSETFROM:+0200
TZOFFSETTO:+0100
END:STANDARD
END:VTIMEZONE
BEGIN:VEVENT
SUMMARY:Makroekonomija (FM-2)\, Vaje (V)
DTSTART;TZID=Europe/Ljubljana:20231006T150000
DTEND;TZID=Europe/Ljubljana:20231006T170000
DTSTAMP:20260423T211316Z
UID:fmf-AFLABS-URNIK:premaknjeno-srecanje:60786
ATTENDEE:2. letnik (FM)
CATEGORIES:Entry,Standard
COLOR:darkgreen
DESCRIPTION:Predmet: Makroekonomija (FM-2)\, Vaje (V)\nLetniki: 2. letnik 
 (FM)\nIzvajalci: Tanja Istenič\nProstor: 2.02
LOCATION:2.02
ORGANIZER:Tanja Istenič
RELATED-TO:fmf-AFLABS-URNIK:srecanje:9269
X-WR-TIMEZONE:Europe/Ljubljana
END:VEVENT
BEGIN:VEVENT
SUMMARY:Makroekonomija (FM-2)\, Vaje (V)
DTSTART;TZID=Europe/Ljubljana:20231013T150000
DTEND;TZID=Europe/Ljubljana:20231013T170000
DTSTAMP:20260423T211316Z
UID:fmf-AFLABS-URNIK:premaknjeno-srecanje:60787
ATTENDEE:2. letnik (FM)
CATEGORIES:Entry,Standard
COLOR:darkgreen
DESCRIPTION:Predmet: Makroekonomija (FM-2)\, Vaje (V)\nLetniki: 2. letnik 
 (FM)\nIzvajalci: Tanja Istenič\nProstor: 2.02
LOCATION:2.02
ORGANIZER:Tanja Istenič
RELATED-TO:fmf-AFLABS-URNIK:srecanje:9269
X-WR-TIMEZONE:Europe/Ljubljana
END:VEVENT
BEGIN:VEVENT
SUMMARY:Makroekonomija (FM-2)\, Vaje (V)
DTSTART;TZID=Europe/Ljubljana:20231020T150000
DTEND;TZID=Europe/Ljubljana:20231020T170000
DTSTAMP:20260423T211316Z
UID:fmf-AFLABS-URNIK:premaknjeno-srecanje:60788
ATTENDEE:2. letnik (FM)
CATEGORIES:Entry,Standard
COLOR:darkgreen
DESCRIPTION:Predmet: Makroekonomija (FM-2)\, Vaje (V)\nLetniki: 2. letnik 
 (FM)\nIzvajalci: Tanja Istenič\nProstor: 2.02
LOCATION:2.02
ORGANIZER:Tanja Istenič
RELATED-TO:fmf-AFLABS-URNIK:srecanje:9269
X-WR-TIMEZONE:Europe/Ljubljana
END:VEVENT
BEGIN:VEVENT
SUMMARY:Makroekonomija (FM-2)\, Vaje (V)
DTSTART;TZID=Europe/Ljubljana:20231027T150000
DTEND;TZID=Europe/Ljubljana:20231027T170000
DTSTAMP:20260423T211316Z
UID:fmf-AFLABS-URNIK:premaknjeno-srecanje:60789
ATTENDEE:2. letnik (FM)
CATEGORIES:Entry,Standard
COLOR:darkgreen
DESCRIPTION:Predmet: Makroekonomija (FM-2)\, Vaje (V)\nLetniki: 2. letnik 
 (FM)\nIzvajalci: Tanja Istenič\nProstor: 2.02
LOCATION:2.02
ORGANIZER:Tanja Istenič
RELATED-TO:fmf-AFLABS-URNIK:srecanje:9269
X-WR-TIMEZONE:Europe/Ljubljana
END:VEVENT
BEGIN:VEVENT
SUMMARY:Makroekonomija (FM-2)\, Vaje (V)
DTSTART;TZID=Europe/Ljubljana:20231103T150000
DTEND;TZID=Europe/Ljubljana:20231103T170000
DTSTAMP:20260423T211316Z
UID:fmf-AFLABS-URNIK:premaknjeno-srecanje:60790
ATTENDEE:2. letnik (FM)
CATEGORIES:Entry,Standard
COLOR:darkgreen
DESCRIPTION:Predmet: Makroekonomija (FM-2)\, Vaje (V)\nLetniki: 2. letnik 
 (FM)\nIzvajalci: Tanja Istenič\nProstor: 2.02
LOCATION:2.02
ORGANIZER:Tanja Istenič
RELATED-TO:fmf-AFLABS-URNIK:srecanje:9269
X-WR-TIMEZONE:Europe/Ljubljana
END:VEVENT
BEGIN:VEVENT
SUMMARY:Makroekonomija (FM-2)\, Vaje (V)
DTSTART;TZID=Europe/Ljubljana:20231110T150000
DTEND;TZID=Europe/Ljubljana:20231110T170000
DTSTAMP:20260423T211316Z
UID:fmf-AFLABS-URNIK:premaknjeno-srecanje:60791
ATTENDEE:2. letnik (FM)
CATEGORIES:Entry,Standard
COLOR:darkgreen
DESCRIPTION:Predmet: Makroekonomija (FM-2)\, Vaje (V)\nLetniki: 2. letnik 
 (FM)\nIzvajalci: Tanja Istenič\nProstor: 2.02
LOCATION:2.02
ORGANIZER:Tanja Istenič
RELATED-TO:fmf-AFLABS-URNIK:srecanje:9269
X-WR-TIMEZONE:Europe/Ljubljana
END:VEVENT
BEGIN:VEVENT
SUMMARY:Makroekonomija (FM-2)\, Vaje (V)
DTSTART;TZID=Europe/Ljubljana:20231117T150000
DTEND;TZID=Europe/Ljubljana:20231117T170000
DTSTAMP:20260423T211316Z
UID:fmf-AFLABS-URNIK:premaknjeno-srecanje:60792
ATTENDEE:2. letnik (FM)
CATEGORIES:Entry,Standard
COLOR:darkgreen
DESCRIPTION:Predmet: Makroekonomija (FM-2)\, Vaje (V)\nLetniki: 2. letnik 
 (FM)\nIzvajalci: Tanja Istenič\nProstor: 2.02
LOCATION:2.02
ORGANIZER:Tanja Istenič
RELATED-TO:fmf-AFLABS-URNIK:srecanje:9269
X-WR-TIMEZONE:Europe/Ljubljana
END:VEVENT
BEGIN:VEVENT
SUMMARY:Makroekonomija (FM-2)\, Vaje (V)
DTSTART;TZID=Europe/Ljubljana:20231124T150000
DTEND;TZID=Europe/Ljubljana:20231124T170000
DTSTAMP:20260423T211316Z
UID:fmf-AFLABS-URNIK:premaknjeno-srecanje:60793
ATTENDEE:2. letnik (FM)
CATEGORIES:Entry,Standard
COLOR:darkgreen
DESCRIPTION:Predmet: Makroekonomija (FM-2)\, Vaje (V)\nLetniki: 2. letnik 
 (FM)\nIzvajalci: Tanja Istenič\nProstor: 2.02
LOCATION:2.02
ORGANIZER:Tanja Istenič
RELATED-TO:fmf-AFLABS-URNIK:srecanje:9269
X-WR-TIMEZONE:Europe/Ljubljana
END:VEVENT
BEGIN:VEVENT
SUMMARY:Makroekonomija (FM-2)\, Vaje (V)
DTSTART;TZID=Europe/Ljubljana:20231201T150000
DTEND;TZID=Europe/Ljubljana:20231201T170000
DTSTAMP:20260423T211316Z
UID:fmf-AFLABS-URNIK:premaknjeno-srecanje:60794
ATTENDEE:2. letnik (FM)
CATEGORIES:Entry,Standard
COLOR:darkgreen
DESCRIPTION:Predmet: Makroekonomija (FM-2)\, Vaje (V)\nLetniki: 2. letnik 
 (FM)\nIzvajalci: Tanja Istenič\nProstor: 2.02
LOCATION:2.02
ORGANIZER:Tanja Istenič
RELATED-TO:fmf-AFLABS-URNIK:srecanje:9269
X-WR-TIMEZONE:Europe/Ljubljana
END:VEVENT
BEGIN:VEVENT
SUMMARY:Makroekonomija (FM-2)\, Vaje (V)
DTSTART;TZID=Europe/Ljubljana:20231208T150000
DTEND;TZID=Europe/Ljubljana:20231208T170000
DTSTAMP:20260423T211316Z
UID:fmf-AFLABS-URNIK:premaknjeno-srecanje:60795
ATTENDEE:2. letnik (FM)
CATEGORIES:Entry,Standard
COLOR:darkgreen
DESCRIPTION:Predmet: Makroekonomija (FM-2)\, Vaje (V)\nLetniki: 2. letnik 
 (FM)\nIzvajalci: Tanja Istenič\nProstor: 2.02
LOCATION:2.02
ORGANIZER:Tanja Istenič
RELATED-TO:fmf-AFLABS-URNIK:srecanje:9269
X-WR-TIMEZONE:Europe/Ljubljana
END:VEVENT
BEGIN:VEVENT
SUMMARY:Makroekonomija (FM-2)\, Vaje (V)
DTSTART;TZID=Europe/Ljubljana:20231215T150000
DTEND;TZID=Europe/Ljubljana:20231215T170000
DTSTAMP:20260423T211316Z
UID:fmf-AFLABS-URNIK:premaknjeno-srecanje:60796
ATTENDEE:2. letnik (FM)
CATEGORIES:Entry,Standard
COLOR:darkgreen
DESCRIPTION:Predmet: Makroekonomija (FM-2)\, Vaje (V)\nLetniki: 2. letnik 
 (FM)\nIzvajalci: Tanja Istenič\nProstor: 2.02
LOCATION:2.02
ORGANIZER:Tanja Istenič
RELATED-TO:fmf-AFLABS-URNIK:srecanje:9269
X-WR-TIMEZONE:Europe/Ljubljana
END:VEVENT
BEGIN:VEVENT
SUMMARY:Makroekonomija (FM-2)\, Vaje (V)
DTSTART;TZID=Europe/Ljubljana:20231222T150000
DTEND;TZID=Europe/Ljubljana:20231222T170000
DTSTAMP:20260423T211316Z
UID:fmf-AFLABS-URNIK:premaknjeno-srecanje:60797
ATTENDEE:2. letnik (FM)
CATEGORIES:Entry,Standard
COLOR:darkgreen
DESCRIPTION:Predmet: Makroekonomija (FM-2)\, Vaje (V)\nLetniki: 2. letnik 
 (FM)\nIzvajalci: Tanja Istenič\nProstor: 2.02
LOCATION:2.02
ORGANIZER:Tanja Istenič
RELATED-TO:fmf-AFLABS-URNIK:srecanje:9269
X-WR-TIMEZONE:Europe/Ljubljana
END:VEVENT
BEGIN:VEVENT
SUMMARY:Makroekonomija (FM-2)\, Vaje (V)
DTSTART;TZID=Europe/Ljubljana:20231229T150000
DTEND;TZID=Europe/Ljubljana:20231229T170000
DTSTAMP:20260423T211316Z
UID:fmf-AFLABS-URNIK:premaknjeno-srecanje:60798
ATTENDEE:2. letnik (FM)
CATEGORIES:Entry,Standard
COLOR:darkgreen
DESCRIPTION:Predmet: Makroekonomija (FM-2)\, Vaje (V)\nLetniki: 2. letnik 
 (FM)\nIzvajalci: Tanja Istenič\nProstor: 2.02
LOCATION:2.02
ORGANIZER:Tanja Istenič
RELATED-TO:fmf-AFLABS-URNIK:srecanje:9269
X-WR-TIMEZONE:Europe/Ljubljana
END:VEVENT
BEGIN:VEVENT
SUMMARY:Makroekonomija (FM-2)\, Vaje (V)
DTSTART;TZID=Europe/Ljubljana:20240105T150000
DTEND;TZID=Europe/Ljubljana:20240105T170000
DTSTAMP:20260423T211316Z
UID:fmf-AFLABS-URNIK:premaknjeno-srecanje:60799
ATTENDEE:2. letnik (FM)
CATEGORIES:Entry,Standard
COLOR:darkgreen
DESCRIPTION:Predmet: Makroekonomija (FM-2)\, Vaje (V)\nLetniki: 2. letnik 
 (FM)\nIzvajalci: Tanja Istenič\nProstor: 2.02
LOCATION:2.02
ORGANIZER:Tanja Istenič
RELATED-TO:fmf-AFLABS-URNIK:srecanje:9269
X-WR-TIMEZONE:Europe/Ljubljana
END:VEVENT
BEGIN:VEVENT
SUMMARY:Makroekonomija (FM-2)\, Vaje (V)
DTSTART;TZID=Europe/Ljubljana:20240112T150000
DTEND;TZID=Europe/Ljubljana:20240112T170000
DTSTAMP:20260423T211316Z
UID:fmf-AFLABS-URNIK:premaknjeno-srecanje:60800
ATTENDEE:2. letnik (FM)
CATEGORIES:Entry,Standard
COLOR:darkgreen
DESCRIPTION:Predmet: Makroekonomija (FM-2)\, Vaje (V)\nLetniki: 2. letnik 
 (FM)\nIzvajalci: Tanja Istenič\nProstor: 2.02
LOCATION:2.02
ORGANIZER:Tanja Istenič
RELATED-TO:fmf-AFLABS-URNIK:srecanje:9269
X-WR-TIMEZONE:Europe/Ljubljana
END:VEVENT
BEGIN:VEVENT
SUMMARY:Makroekonomija (FM-2)\, Vaje (V)
DTSTART;TZID=Europe/Ljubljana:20240119T150000
DTEND;TZID=Europe/Ljubljana:20240119T170000
DTSTAMP:20260423T211316Z
UID:fmf-AFLABS-URNIK:premaknjeno-srecanje:60801
ATTENDEE:2. letnik (FM)
CATEGORIES:Entry,Standard
COLOR:darkgreen
DESCRIPTION:Predmet: Makroekonomija (FM-2)\, Vaje (V)\nLetniki: 2. letnik 
 (FM)\nIzvajalci: Tanja Istenič\nProstor: 2.02
LOCATION:2.02
ORGANIZER:Tanja Istenič
RELATED-TO:fmf-AFLABS-URNIK:srecanje:9269
X-WR-TIMEZONE:Europe/Ljubljana
END:VEVENT
END:VCALENDAR
