BEGIN:VCALENDAR
VERSION:2.0
PRODID:-//AFLabs urnik izvoz - fmf//aflabs.si//SI
DTSTAMP:20260423T054912Z
NAME:UL FMF urnik
REFRESH-INTERVAL:PT1H
SOURCE:https://urnik.fmf.uni-lj.si/teacher/55?day=2020-02-10&export=1
URL:https://urnik.fmf.uni-lj.si/teacher/55?day=2020-02-10&export=1
X-PUBLISHED-TTL:PT1H
X-WR-CALNAME:UL FMF urnik
X-WR-TIMEZONE:Europe/Ljubljana
BEGIN:VTIMEZONE
TZID:Europe/Ljubljana
BEGIN:DAYLIGHT
DTSTART:20260329T020000
RDATE:20260329T020000
RDATE:20270328T020000
TZNAME:CEST
TZOFFSETFROM:+0100
TZOFFSETTO:+0200
END:DAYLIGHT
BEGIN:STANDARD
DTSTART:20261025T030000
RDATE:20261025T030000
RDATE:20271031T030000
TZNAME:CET
TZOFFSETFROM:+0200
TZOFFSETTO:+0100
END:STANDARD
END:VTIMEZONE
BEGIN:VEVENT
SUMMARY:MAT 2 (APM-2)\, Predavanja (P)
DTSTART;TZID=Europe/Ljubljana:20200107T090000
DTEND;TZID=Europe/Ljubljana:20200107T120000
DTSTAMP:20260423T054912Z
UID:fmf-AFLABS-URNIK:premaknjeno-srecanje:59898
ATTENDEE:2. letnik (APM)
CATEGORIES:Entry,Standard
COLOR:darkgreen
DESCRIPTION:Predmet: MAT 2 (APM-2)\, Predavanja (P)\nLetniki: 2. letnik (A
 PM)\nIzvajalci: Uroš Kuzman\nProstor: 3.06
LOCATION:3.06
ORGANIZER:Uroš Kuzman
RELATED-TO:fmf-AFLABS-URNIK:srecanje:3521
X-WR-TIMEZONE:Europe/Ljubljana
END:VEVENT
BEGIN:VEVENT
SUMMARY:MAT 2 (APM-2)\, Predavanja (P)
DTSTART;TZID=Europe/Ljubljana:20200114T090000
DTEND;TZID=Europe/Ljubljana:20200114T120000
DTSTAMP:20260423T054912Z
UID:fmf-AFLABS-URNIK:premaknjeno-srecanje:59899
ATTENDEE:2. letnik (APM)
CATEGORIES:Entry,Standard
COLOR:darkgreen
DESCRIPTION:Predmet: MAT 2 (APM-2)\, Predavanja (P)\nLetniki: 2. letnik (A
 PM)\nIzvajalci: Uroš Kuzman\nProstor: 3.06
LOCATION:3.06
ORGANIZER:Uroš Kuzman
RELATED-TO:fmf-AFLABS-URNIK:srecanje:3521
X-WR-TIMEZONE:Europe/Ljubljana
END:VEVENT
BEGIN:VEVENT
SUMMARY:Analiza 1 (MAT-1\, PM-1)\, Vaje (V)\, [2]
DTSTART;TZID=Europe/Ljubljana:20200108T080000
DTEND;TZID=Europe/Ljubljana:20200108T100000
DTSTAMP:20260423T054912Z
UID:fmf-AFLABS-URNIK:premaknjeno-srecanje:5873
ATTENDEE:1. letnik (M)
ATTENDEE:1. letnik (PM)
CATEGORIES:Entry,Standard
COLOR:darkgreen
DESCRIPTION:Predmet: Analiza 1 (MAT-1\, PM-1)\, Vaje (V)\, [2]\nLetniki: 1
 . letnik (M)\, 1. letnik (PM)\nIzvajalci: Uroš Kuzman\nProstor: 2.05
LOCATION:2.05
ORGANIZER:Uroš Kuzman
RELATED-TO:fmf-AFLABS-URNIK:srecanje:3243
X-WR-TIMEZONE:Europe/Ljubljana
END:VEVENT
BEGIN:VEVENT
SUMMARY:Analiza 1 (MAT-1\, PM-1)\, Vaje (V)\, [2]
DTSTART;TZID=Europe/Ljubljana:20200115T080000
DTEND;TZID=Europe/Ljubljana:20200115T100000
DTSTAMP:20260423T054912Z
UID:fmf-AFLABS-URNIK:premaknjeno-srecanje:5874
ATTENDEE:1. letnik (M)
ATTENDEE:1. letnik (PM)
CATEGORIES:Entry,Standard
COLOR:darkgreen
DESCRIPTION:Predmet: Analiza 1 (MAT-1\, PM-1)\, Vaje (V)\, [2]\nLetniki: 1
 . letnik (M)\, 1. letnik (PM)\nIzvajalci: Uroš Kuzman\nProstor: 2.05
LOCATION:2.05
ORGANIZER:Uroš Kuzman
RELATED-TO:fmf-AFLABS-URNIK:srecanje:3243
X-WR-TIMEZONE:Europe/Ljubljana
END:VEVENT
BEGIN:VEVENT
SUMMARY:Govorilna ura ()\, Ostalo (O)
DTSTART;TZID=Europe/Ljubljana:20200108T100000
DTEND;TZID=Europe/Ljubljana:20200108T110000
DTSTAMP:20260423T054912Z
UID:fmf-AFLABS-URNIK:premaknjeno-srecanje:39634
CATEGORIES:Entry,Standard
COLOR:darkgreen
DESCRIPTION:Predmet: Govorilna ura ()\, Ostalo (O)\nLetniki: \nIzvajalci: 
 Uroš Kuzman\nProstor: 5.10
LOCATION:5.10
ORGANIZER:Uroš Kuzman
RELATED-TO:fmf-AFLABS-URNIK:srecanje:3422
X-WR-TIMEZONE:Europe/Ljubljana
END:VEVENT
BEGIN:VEVENT
SUMMARY:Govorilna ura ()\, Ostalo (O)
DTSTART;TZID=Europe/Ljubljana:20200115T100000
DTEND;TZID=Europe/Ljubljana:20200115T110000
DTSTAMP:20260423T054912Z
UID:fmf-AFLABS-URNIK:premaknjeno-srecanje:39635
CATEGORIES:Entry,Standard
COLOR:darkgreen
DESCRIPTION:Predmet: Govorilna ura ()\, Ostalo (O)\nLetniki: \nIzvajalci: 
 Uroš Kuzman\nProstor: 5.10
LOCATION:5.10
ORGANIZER:Uroš Kuzman
RELATED-TO:fmf-AFLABS-URNIK:srecanje:3422
X-WR-TIMEZONE:Europe/Ljubljana
END:VEVENT
BEGIN:VEVENT
SUMMARY:REZ FM ()\, Predavanja (P)
DTSTART;TZID=Europe/Ljubljana:20200108T070000
DTEND;TZID=Europe/Ljubljana:20200108T080000
DTSTAMP:20260423T054912Z
UID:fmf-AFLABS-URNIK:premaknjeno-srecanje:90182
CATEGORIES:Entry,Standard
COLOR:darkgreen
DESCRIPTION:Predmet: REZ FM ()\, Predavanja (P)\nLetniki: \nIzvajalci: Uro
 š Kuzman\nProstor: 2.05
LOCATION:2.05
ORGANIZER:Uroš Kuzman
RELATED-TO:fmf-AFLABS-URNIK:srecanje:3845
X-WR-TIMEZONE:Europe/Ljubljana
END:VEVENT
BEGIN:VEVENT
SUMMARY:REZ FM ()\, Predavanja (P)
DTSTART;TZID=Europe/Ljubljana:20200115T070000
DTEND;TZID=Europe/Ljubljana:20200115T080000
DTSTAMP:20260423T054912Z
UID:fmf-AFLABS-URNIK:premaknjeno-srecanje:90183
CATEGORIES:Entry,Standard
COLOR:darkgreen
DESCRIPTION:Predmet: REZ FM ()\, Predavanja (P)\nLetniki: \nIzvajalci: Uro
 š Kuzman\nProstor: 2.05
LOCATION:2.05
ORGANIZER:Uroš Kuzman
RELATED-TO:fmf-AFLABS-URNIK:srecanje:3845
X-WR-TIMEZONE:Europe/Ljubljana
END:VEVENT
BEGIN:VEVENT
SUMMARY:Analiza 1 (MAT-1\, PM-1)\, Vaje (V)\, [2]
DTSTART;TZID=Europe/Ljubljana:20200110T120000
DTEND;TZID=Europe/Ljubljana:20200110T140000
DTSTAMP:20260423T054912Z
UID:fmf-AFLABS-URNIK:premaknjeno-srecanje:6263
ATTENDEE:1. letnik (M)
ATTENDEE:1. letnik (PM)
CATEGORIES:Entry,Standard
COLOR:darkgreen
DESCRIPTION:Predmet: Analiza 1 (MAT-1\, PM-1)\, Vaje (V)\, [2]\nLetniki: 1
 . letnik (M)\, 1. letnik (PM)\nIzvajalci: Uroš Kuzman\nProstor: 2.05
LOCATION:2.05
ORGANIZER:Uroš Kuzman
RELATED-TO:fmf-AFLABS-URNIK:srecanje:3245
X-WR-TIMEZONE:Europe/Ljubljana
END:VEVENT
BEGIN:VEVENT
SUMMARY:Analiza 1 (MAT-1\, PM-1)\, Vaje (V)\, [2]
DTSTART;TZID=Europe/Ljubljana:20200117T120000
DTEND;TZID=Europe/Ljubljana:20200117T140000
DTSTAMP:20260423T054912Z
UID:fmf-AFLABS-URNIK:premaknjeno-srecanje:6264
ATTENDEE:1. letnik (M)
ATTENDEE:1. letnik (PM)
CATEGORIES:Entry,Standard
COLOR:darkgreen
DESCRIPTION:Predmet: Analiza 1 (MAT-1\, PM-1)\, Vaje (V)\, [2]\nLetniki: 1
 . letnik (M)\, 1. letnik (PM)\nIzvajalci: Uroš Kuzman\nProstor: 2.05
LOCATION:2.05
ORGANIZER:Uroš Kuzman
RELATED-TO:fmf-AFLABS-URNIK:srecanje:3245
X-WR-TIMEZONE:Europe/Ljubljana
END:VEVENT
BEGIN:VEVENT
SUMMARY:Analiza 1 (MAT-1\, PM-1)\, Vaje (V)\, [2]
DTSTART;TZID=Europe/Ljubljana:20200217T080000
DTEND;TZID=Europe/Ljubljana:20200217T100000
DTSTAMP:20260423T054912Z
UID:fmf-AFLABS-URNIK:premaknjeno-srecanje:5686
ATTENDEE:1. letnik (M)
ATTENDEE:1. letnik (PM)
CATEGORIES:Entry,Standard
COLOR:darkgreen
DESCRIPTION:Predmet: Analiza 1 (MAT-1\, PM-1)\, Vaje (V)\, [2]\nLetniki: 1
 . letnik (M)\, 1. letnik (PM)\nIzvajalci: Uroš Kuzman\nProstor: 2.01
LOCATION:2.01
ORGANIZER:Uroš Kuzman
RELATED-TO:fmf-AFLABS-URNIK:srecanje:4596
X-WR-TIMEZONE:Europe/Ljubljana
END:VEVENT
BEGIN:VEVENT
SUMMARY:Analiza 1 (MAT-1\, PM-1)\, Vaje (V)\, [2]
DTSTART;TZID=Europe/Ljubljana:20200224T080000
DTEND;TZID=Europe/Ljubljana:20200224T100000
DTSTAMP:20260423T054912Z
UID:fmf-AFLABS-URNIK:premaknjeno-srecanje:5687
ATTENDEE:1. letnik (M)
ATTENDEE:1. letnik (PM)
CATEGORIES:Entry,Standard
COLOR:darkgreen
DESCRIPTION:Predmet: Analiza 1 (MAT-1\, PM-1)\, Vaje (V)\, [2]\nLetniki: 1
 . letnik (M)\, 1. letnik (PM)\nIzvajalci: Uroš Kuzman\nProstor: 2.01
LOCATION:2.01
ORGANIZER:Uroš Kuzman
RELATED-TO:fmf-AFLABS-URNIK:srecanje:4596
X-WR-TIMEZONE:Europe/Ljubljana
END:VEVENT
BEGIN:VEVENT
SUMMARY:Analiza 1 (MAT-1\, PM-1)\, Vaje (V)\, [2]
DTSTART;TZID=Europe/Ljubljana:20200302T080000
DTEND;TZID=Europe/Ljubljana:20200302T100000
DTSTAMP:20260423T054912Z
UID:fmf-AFLABS-URNIK:premaknjeno-srecanje:5688
ATTENDEE:1. letnik (M)
ATTENDEE:1. letnik (PM)
CATEGORIES:Entry,Standard
COLOR:darkgreen
DESCRIPTION:Predmet: Analiza 1 (MAT-1\, PM-1)\, Vaje (V)\, [2]\nLetniki: 1
 . letnik (M)\, 1. letnik (PM)\nIzvajalci: Uroš Kuzman\nProstor: 2.01
LOCATION:2.01
ORGANIZER:Uroš Kuzman
RELATED-TO:fmf-AFLABS-URNIK:srecanje:4596
X-WR-TIMEZONE:Europe/Ljubljana
END:VEVENT
BEGIN:VEVENT
SUMMARY:Analiza 1 (MAT-1\, PM-1)\, Vaje (V)\, [2]
DTSTART;TZID=Europe/Ljubljana:20200309T080000
DTEND;TZID=Europe/Ljubljana:20200309T100000
DTSTAMP:20260423T054912Z
UID:fmf-AFLABS-URNIK:premaknjeno-srecanje:5689
ATTENDEE:1. letnik (M)
ATTENDEE:1. letnik (PM)
CATEGORIES:Entry,Standard
COLOR:darkgreen
DESCRIPTION:Predmet: Analiza 1 (MAT-1\, PM-1)\, Vaje (V)\, [2]\nLetniki: 1
 . letnik (M)\, 1. letnik (PM)\nIzvajalci: Uroš Kuzman\nProstor: 2.01
LOCATION:2.01
ORGANIZER:Uroš Kuzman
RELATED-TO:fmf-AFLABS-URNIK:srecanje:4596
X-WR-TIMEZONE:Europe/Ljubljana
END:VEVENT
BEGIN:VEVENT
SUMMARY:Analiza 1 (MAT-1\, PM-1)\, Vaje (V)\, [2]
DTSTART;TZID=Europe/Ljubljana:20200316T080000
DTEND;TZID=Europe/Ljubljana:20200316T100000
DTSTAMP:20260423T054912Z
UID:fmf-AFLABS-URNIK:premaknjeno-srecanje:5690
ATTENDEE:1. letnik (M)
ATTENDEE:1. letnik (PM)
CATEGORIES:Entry,Standard
COLOR:darkgreen
DESCRIPTION:Predmet: Analiza 1 (MAT-1\, PM-1)\, Vaje (V)\, [2]\nLetniki: 1
 . letnik (M)\, 1. letnik (PM)\nIzvajalci: Uroš Kuzman\nProstor: 2.01
LOCATION:2.01
ORGANIZER:Uroš Kuzman
RELATED-TO:fmf-AFLABS-URNIK:srecanje:4596
X-WR-TIMEZONE:Europe/Ljubljana
END:VEVENT
BEGIN:VEVENT
SUMMARY:Diferencialne enačbe (APF-2\, APM-2)\, Predavanja (P)
DTSTART;TZID=Europe/Ljubljana:20200217T120000
DTEND;TZID=Europe/Ljubljana:20200217T140000
DTSTAMP:20260423T054912Z
UID:fmf-AFLABS-URNIK:premaknjeno-srecanje:14637
ATTENDEE:2. letnik (APM)
ATTENDEE:2. letnik (Aplikativna fizika)
CATEGORIES:Entry,Standard
COLOR:darkgreen
DESCRIPTION:Predmet: Diferencialne enačbe (APF-2\, APM-2)\, Predavanja (P
 )\nLetniki: 2. letnik (Aplikativna fizika)\, 2. letnik (APM)\nIzvajalci: U
 roš Kuzman\nProstor: 2.02
LOCATION:2.02
ORGANIZER:Uroš Kuzman
RELATED-TO:fmf-AFLABS-URNIK:srecanje:4037
X-WR-TIMEZONE:Europe/Ljubljana
END:VEVENT
BEGIN:VEVENT
SUMMARY:Diferencialne enačbe (APF-2\, APM-2)\, Predavanja (P)
DTSTART;TZID=Europe/Ljubljana:20200224T120000
DTEND;TZID=Europe/Ljubljana:20200224T140000
DTSTAMP:20260423T054912Z
UID:fmf-AFLABS-URNIK:premaknjeno-srecanje:14638
ATTENDEE:2. letnik (APM)
ATTENDEE:2. letnik (Aplikativna fizika)
CATEGORIES:Entry,Standard
COLOR:darkgreen
DESCRIPTION:Predmet: Diferencialne enačbe (APF-2\, APM-2)\, Predavanja (P
 )\nLetniki: 2. letnik (Aplikativna fizika)\, 2. letnik (APM)\nIzvajalci: U
 roš Kuzman\nProstor: 2.02
LOCATION:2.02
ORGANIZER:Uroš Kuzman
RELATED-TO:fmf-AFLABS-URNIK:srecanje:4037
X-WR-TIMEZONE:Europe/Ljubljana
END:VEVENT
BEGIN:VEVENT
SUMMARY:Diferencialne enačbe (APF-2\, APM-2)\, Predavanja (P)
DTSTART;TZID=Europe/Ljubljana:20200302T120000
DTEND;TZID=Europe/Ljubljana:20200302T140000
DTSTAMP:20260423T054912Z
UID:fmf-AFLABS-URNIK:premaknjeno-srecanje:14639
ATTENDEE:2. letnik (APM)
ATTENDEE:2. letnik (Aplikativna fizika)
CATEGORIES:Entry,Standard
COLOR:darkgreen
DESCRIPTION:Predmet: Diferencialne enačbe (APF-2\, APM-2)\, Predavanja (P
 )\nLetniki: 2. letnik (Aplikativna fizika)\, 2. letnik (APM)\nIzvajalci: U
 roš Kuzman\nProstor: 2.02
LOCATION:2.02
ORGANIZER:Uroš Kuzman
RELATED-TO:fmf-AFLABS-URNIK:srecanje:4037
X-WR-TIMEZONE:Europe/Ljubljana
END:VEVENT
BEGIN:VEVENT
SUMMARY:Diferencialne enačbe (APF-2\, APM-2)\, Predavanja (P)
DTSTART;TZID=Europe/Ljubljana:20200309T120000
DTEND;TZID=Europe/Ljubljana:20200309T140000
DTSTAMP:20260423T054912Z
UID:fmf-AFLABS-URNIK:premaknjeno-srecanje:14640
ATTENDEE:2. letnik (APM)
ATTENDEE:2. letnik (Aplikativna fizika)
CATEGORIES:Entry,Standard
COLOR:darkgreen
DESCRIPTION:Predmet: Diferencialne enačbe (APF-2\, APM-2)\, Predavanja (P
 )\nLetniki: 2. letnik (Aplikativna fizika)\, 2. letnik (APM)\nIzvajalci: U
 roš Kuzman\nProstor: 2.02
LOCATION:2.02
ORGANIZER:Uroš Kuzman
RELATED-TO:fmf-AFLABS-URNIK:srecanje:4037
X-WR-TIMEZONE:Europe/Ljubljana
END:VEVENT
BEGIN:VEVENT
SUMMARY:Diferencialne enačbe (APF-2\, APM-2)\, Predavanja (P)
DTSTART;TZID=Europe/Ljubljana:20200316T120000
DTEND;TZID=Europe/Ljubljana:20200316T140000
DTSTAMP:20260423T054912Z
UID:fmf-AFLABS-URNIK:premaknjeno-srecanje:14641
ATTENDEE:2. letnik (APM)
ATTENDEE:2. letnik (Aplikativna fizika)
CATEGORIES:Entry,Standard
COLOR:darkgreen
DESCRIPTION:Predmet: Diferencialne enačbe (APF-2\, APM-2)\, Predavanja (P
 )\nLetniki: 2. letnik (Aplikativna fizika)\, 2. letnik (APM)\nIzvajalci: U
 roš Kuzman\nProstor: 2.02
LOCATION:2.02
ORGANIZER:Uroš Kuzman
RELATED-TO:fmf-AFLABS-URNIK:srecanje:4037
X-WR-TIMEZONE:Europe/Ljubljana
END:VEVENT
BEGIN:VEVENT
SUMMARY:Analiza 1 (MAT-1\, PM-1)\, Vaje (V)\, [2]
DTSTART;TZID=Europe/Ljubljana:20200220T120000
DTEND;TZID=Europe/Ljubljana:20200220T140000
DTSTAMP:20260423T054912Z
UID:fmf-AFLABS-URNIK:premaknjeno-srecanje:6078
ATTENDEE:1. letnik (M)
ATTENDEE:1. letnik (PM)
CATEGORIES:Entry,Standard
COLOR:darkgreen
DESCRIPTION:Predmet: Analiza 1 (MAT-1\, PM-1)\, Vaje (V)\, [2]\nLetniki: 1
 . letnik (M)\, 1. letnik (PM)\nIzvajalci: Uroš Kuzman\nProstor: P.02
LOCATION:P.02
ORGANIZER:Uroš Kuzman
RELATED-TO:fmf-AFLABS-URNIK:srecanje:4000
X-WR-TIMEZONE:Europe/Ljubljana
END:VEVENT
BEGIN:VEVENT
SUMMARY:Analiza 1 (MAT-1\, PM-1)\, Vaje (V)\, [2]
DTSTART;TZID=Europe/Ljubljana:20200227T120000
DTEND;TZID=Europe/Ljubljana:20200227T140000
DTSTAMP:20260423T054912Z
UID:fmf-AFLABS-URNIK:premaknjeno-srecanje:6079
ATTENDEE:1. letnik (M)
ATTENDEE:1. letnik (PM)
CATEGORIES:Entry,Standard
COLOR:darkgreen
DESCRIPTION:Predmet: Analiza 1 (MAT-1\, PM-1)\, Vaje (V)\, [2]\nLetniki: 1
 . letnik (M)\, 1. letnik (PM)\nIzvajalci: Uroš Kuzman\nProstor: P.02
LOCATION:P.02
ORGANIZER:Uroš Kuzman
RELATED-TO:fmf-AFLABS-URNIK:srecanje:4000
X-WR-TIMEZONE:Europe/Ljubljana
END:VEVENT
BEGIN:VEVENT
SUMMARY:Analiza 1 (MAT-1\, PM-1)\, Vaje (V)\, [2]
DTSTART;TZID=Europe/Ljubljana:20200305T120000
DTEND;TZID=Europe/Ljubljana:20200305T140000
DTSTAMP:20260423T054912Z
UID:fmf-AFLABS-URNIK:premaknjeno-srecanje:6080
ATTENDEE:1. letnik (M)
ATTENDEE:1. letnik (PM)
CATEGORIES:Entry,Standard
COLOR:darkgreen
DESCRIPTION:Predmet: Analiza 1 (MAT-1\, PM-1)\, Vaje (V)\, [2]\nLetniki: 1
 . letnik (M)\, 1. letnik (PM)\nIzvajalci: Uroš Kuzman\nProstor: P.02
LOCATION:P.02
ORGANIZER:Uroš Kuzman
RELATED-TO:fmf-AFLABS-URNIK:srecanje:4000
X-WR-TIMEZONE:Europe/Ljubljana
END:VEVENT
BEGIN:VEVENT
SUMMARY:Analiza 1 (MAT-1\, PM-1)\, Vaje (V)\, [2]
DTSTART;TZID=Europe/Ljubljana:20200312T120000
DTEND;TZID=Europe/Ljubljana:20200312T140000
DTSTAMP:20260423T054912Z
UID:fmf-AFLABS-URNIK:premaknjeno-srecanje:6081
ATTENDEE:1. letnik (M)
ATTENDEE:1. letnik (PM)
CATEGORIES:Entry,Standard
COLOR:darkgreen
DESCRIPTION:Predmet: Analiza 1 (MAT-1\, PM-1)\, Vaje (V)\, [2]\nLetniki: 1
 . letnik (M)\, 1. letnik (PM)\nIzvajalci: Uroš Kuzman\nProstor: P.02
LOCATION:P.02
ORGANIZER:Uroš Kuzman
RELATED-TO:fmf-AFLABS-URNIK:srecanje:4000
X-WR-TIMEZONE:Europe/Ljubljana
END:VEVENT
BEGIN:VEVENT
SUMMARY:Matematika 2 (APM-2)\, Predavanja (P)
DTSTART;TZID=Europe/Ljubljana:20200220T080000
DTEND;TZID=Europe/Ljubljana:20200220T110000
DTSTAMP:20260423T054912Z
UID:fmf-AFLABS-URNIK:premaknjeno-srecanje:63225
ATTENDEE:2. letnik (APM)
CATEGORIES:Entry,Standard
COLOR:darkgreen
DESCRIPTION:Predmet: Matematika 2 (APM-2)\, Predavanja (P)\nLetniki: 2. le
 tnik (APM)\nIzvajalci: Uroš Kuzman\nProstor: 3.05
LOCATION:3.05
ORGANIZER:Uroš Kuzman
RELATED-TO:fmf-AFLABS-URNIK:srecanje:4259
X-WR-TIMEZONE:Europe/Ljubljana
END:VEVENT
BEGIN:VEVENT
SUMMARY:Matematika 2 (APM-2)\, Predavanja (P)
DTSTART;TZID=Europe/Ljubljana:20200227T080000
DTEND;TZID=Europe/Ljubljana:20200227T110000
DTSTAMP:20260423T054912Z
UID:fmf-AFLABS-URNIK:premaknjeno-srecanje:63226
ATTENDEE:2. letnik (APM)
CATEGORIES:Entry,Standard
COLOR:darkgreen
DESCRIPTION:Predmet: Matematika 2 (APM-2)\, Predavanja (P)\nLetniki: 2. le
 tnik (APM)\nIzvajalci: Uroš Kuzman\nProstor: 3.05
LOCATION:3.05
ORGANIZER:Uroš Kuzman
RELATED-TO:fmf-AFLABS-URNIK:srecanje:4259
X-WR-TIMEZONE:Europe/Ljubljana
END:VEVENT
BEGIN:VEVENT
SUMMARY:Matematika 2 (APM-2)\, Predavanja (P)
DTSTART;TZID=Europe/Ljubljana:20200305T080000
DTEND;TZID=Europe/Ljubljana:20200305T110000
DTSTAMP:20260423T054912Z
UID:fmf-AFLABS-URNIK:premaknjeno-srecanje:63227
ATTENDEE:2. letnik (APM)
CATEGORIES:Entry,Standard
COLOR:darkgreen
DESCRIPTION:Predmet: Matematika 2 (APM-2)\, Predavanja (P)\nLetniki: 2. le
 tnik (APM)\nIzvajalci: Uroš Kuzman\nProstor: 3.05
LOCATION:3.05
ORGANIZER:Uroš Kuzman
RELATED-TO:fmf-AFLABS-URNIK:srecanje:4259
X-WR-TIMEZONE:Europe/Ljubljana
END:VEVENT
BEGIN:VEVENT
SUMMARY:Matematika 2 (APM-2)\, Predavanja (P)
DTSTART;TZID=Europe/Ljubljana:20200312T080000
DTEND;TZID=Europe/Ljubljana:20200312T110000
DTSTAMP:20260423T054912Z
UID:fmf-AFLABS-URNIK:premaknjeno-srecanje:63228
ATTENDEE:2. letnik (APM)
CATEGORIES:Entry,Standard
COLOR:darkgreen
DESCRIPTION:Predmet: Matematika 2 (APM-2)\, Predavanja (P)\nLetniki: 2. le
 tnik (APM)\nIzvajalci: Uroš Kuzman\nProstor: 3.05
LOCATION:3.05
ORGANIZER:Uroš Kuzman
RELATED-TO:fmf-AFLABS-URNIK:srecanje:4259
X-WR-TIMEZONE:Europe/Ljubljana
END:VEVENT
BEGIN:VEVENT
SUMMARY:Rezervacija
DTSTART;TZID=Europe/Ljubljana:20200106T140000
DTEND;TZID=Europe/Ljubljana:20200106T160000
DTSTAMP:20260423T054912Z
UID:fmf-AFLABS-URNIK:rezervacija:4745
CATEGORIES:Reservation
COLOR:royalblue
DESCRIPTION:Predmeti: \nLetniki: \nIzvajalci: Uroš Kuzman\nProstori: 3.06
LOCATION:3.06
ORGANIZER:Uroš Kuzman
X-WR-TIMEZONE:Europe/Ljubljana
END:VEVENT
BEGIN:VEVENT
SUMMARY:Rezervacija
DTSTART;TZID=Europe/Ljubljana:20200106T160000
DTEND;TZID=Europe/Ljubljana:20200106T170000
DTSTAMP:20260423T054912Z
UID:fmf-AFLABS-URNIK:rezervacija:4747
CATEGORIES:Reservation
COLOR:royalblue
DESCRIPTION:Predmeti: \nLetniki: \nIzvajalci: Uroš Kuzman\nProstori: 3.04
LOCATION:3.04
ORGANIZER:Uroš Kuzman
X-WR-TIMEZONE:Europe/Ljubljana
END:VEVENT
BEGIN:VEVENT
SUMMARY:Rezervacija
DTSTART;TZID=Europe/Ljubljana:20200108T140000
DTEND;TZID=Europe/Ljubljana:20200108T160000
DTSTAMP:20260423T054912Z
UID:fmf-AFLABS-URNIK:rezervacija:4761
CATEGORIES:Reservation
COLOR:royalblue
DESCRIPTION:Predmeti: \nLetniki: \nIzvajalci: Uroš Kuzman\nProstori: 2.01
LOCATION:2.01
ORGANIZER:Uroš Kuzman
X-WR-TIMEZONE:Europe/Ljubljana
END:VEVENT
BEGIN:VEVENT
SUMMARY:Rezervacija
DTSTART;TZID=Europe/Ljubljana:20200221T090000
DTEND;TZID=Europe/Ljubljana:20200221T100000
DTSTAMP:20260423T054912Z
UID:fmf-AFLABS-URNIK:rezervacija:5177
CATEGORIES:Reservation
COLOR:royalblue
DESCRIPTION:Predmeti: \nLetniki: \nIzvajalci: Uroš Kuzman\nProstori: P.02
LOCATION:P.02
ORGANIZER:Uroš Kuzman
X-WR-TIMEZONE:Europe/Ljubljana
END:VEVENT
BEGIN:VEVENT
SUMMARY:Rezervacija
DTSTART;TZID=Europe/Ljubljana:20200221T100000
DTEND;TZID=Europe/Ljubljana:20200221T120000
DTSTAMP:20260423T054912Z
UID:fmf-AFLABS-URNIK:rezervacija:5178
CATEGORIES:Reservation
COLOR:royalblue
DESCRIPTION:Predmeti: \nLetniki: \nIzvajalci: Uroš Kuzman\nProstori: 3.05
LOCATION:3.05
ORGANIZER:Uroš Kuzman
X-WR-TIMEZONE:Europe/Ljubljana
END:VEVENT
BEGIN:VEVENT
SUMMARY:Rezervacija
DTSTART;TZID=Europe/Ljubljana:20200221T130000
DTEND;TZID=Europe/Ljubljana:20200221T150000
DTSTAMP:20260423T054912Z
UID:fmf-AFLABS-URNIK:rezervacija:5182
CATEGORIES:Reservation
COLOR:royalblue
DESCRIPTION:Predmeti: \nLetniki: \nIzvajalci: Uroš Kuzman\nProstori: 2.05
LOCATION:2.05
ORGANIZER:Uroš Kuzman
X-WR-TIMEZONE:Europe/Ljubljana
END:VEVENT
BEGIN:VEVENT
SUMMARY:Rezervacija
DTSTART;TZID=Europe/Ljubljana:20200305T140000
DTEND;TZID=Europe/Ljubljana:20200305T150000
DTSTAMP:20260423T054912Z
UID:fmf-AFLABS-URNIK:rezervacija:5225
CATEGORIES:Reservation
COLOR:royalblue
DESCRIPTION:Predmeti: \nLetniki: \nIzvajalci: Uroš Kuzman\nProstori: 2.04
LOCATION:2.04
ORGANIZER:Uroš Kuzman
X-WR-TIMEZONE:Europe/Ljubljana
END:VEVENT
END:VCALENDAR
