BEGIN:VCALENDAR
VERSION:2.0
PRODID:-//AFLabs urnik izvoz - fmf//aflabs.si//SI
DTSTAMP:20260424T142106Z
NAME:UL FMF urnik
REFRESH-INTERVAL:PT1H
SOURCE:https://urnik.fmf.uni-lj.si/teacher/562?day=2022-02-07&export=1
URL:https://urnik.fmf.uni-lj.si/teacher/562?day=2022-02-07&export=1
X-PUBLISHED-TTL:PT1H
X-WR-CALNAME:UL FMF urnik
X-WR-TIMEZONE:Europe/Ljubljana
BEGIN:VTIMEZONE
TZID:Europe/Ljubljana
BEGIN:DAYLIGHT
DTSTART:20260329T020000
RDATE:20260329T020000
RDATE:20270328T020000
TZNAME:CEST
TZOFFSETFROM:+0100
TZOFFSETTO:+0200
END:DAYLIGHT
BEGIN:STANDARD
DTSTART:20261025T030000
RDATE:20261025T030000
RDATE:20271031T030000
TZNAME:CET
TZOFFSETFROM:+0200
TZOFFSETTO:+0100
END:STANDARD
END:VTIMEZONE
BEGIN:VEVENT
SUMMARY:Splošna teorija relativnosti (FIZ-M2)\, Predavanja (P)
DTSTART;TZID=Europe/Ljubljana:20220105T100000
DTEND;TZID=Europe/Ljubljana:20220105T130000
DTSTAMP:20260424T142106Z
UID:fmf-AFLABS-URNIK:premaknjeno-srecanje:104803
ATTENDEE:2. letnik (Fizika, 2. stopnja)
CATEGORIES:Entry,Standard
COLOR:darkgreen
DESCRIPTION:Predmet: Splošna teorija relativnosti (FIZ-M2)\, Predavanja (
 P)\nLetniki: 2. letnik (Fizika\, 2. stopnja)\nIzvajalci: Sašo Grozdanov\n
 Prostor: F7
LOCATION:F7
ORGANIZER:Sašo Grozdanov
RELATED-TO:fmf-AFLABS-URNIK:srecanje:6738
X-WR-TIMEZONE:Europe/Ljubljana
END:VEVENT
BEGIN:VEVENT
SUMMARY:Splošna teorija relativnosti (FIZ-M2)\, Predavanja (P)
DTSTART;TZID=Europe/Ljubljana:20220112T100000
DTEND;TZID=Europe/Ljubljana:20220112T130000
DTSTAMP:20260424T142106Z
UID:fmf-AFLABS-URNIK:premaknjeno-srecanje:104804
ATTENDEE:2. letnik (Fizika, 2. stopnja)
CATEGORIES:Entry,Standard
COLOR:darkgreen
DESCRIPTION:Predmet: Splošna teorija relativnosti (FIZ-M2)\, Predavanja (
 P)\nLetniki: 2. letnik (Fizika\, 2. stopnja)\nIzvajalci: Sašo Grozdanov\n
 Prostor: F7
LOCATION:F7
ORGANIZER:Sašo Grozdanov
RELATED-TO:fmf-AFLABS-URNIK:srecanje:6738
X-WR-TIMEZONE:Europe/Ljubljana
END:VEVENT
BEGIN:VEVENT
SUMMARY:Splošna teorija relativnosti (FIZ-M2)\, Seminar (S)
DTSTART;TZID=Europe/Ljubljana:20220105T130000
DTEND;TZID=Europe/Ljubljana:20220105T140000
DTSTAMP:20260424T142106Z
UID:fmf-AFLABS-URNIK:premaknjeno-srecanje:104834
ATTENDEE:2. letnik (Fizika, 2. stopnja)
CATEGORIES:Entry,Standard
COLOR:darkgreen
DESCRIPTION:Predmet: Splošna teorija relativnosti (FIZ-M2)\, Seminar (S)\
 nLetniki: 2. letnik (Fizika\, 2. stopnja)\nIzvajalci: Sašo Grozdanov\nPro
 stor: F7
LOCATION:F7
ORGANIZER:Sašo Grozdanov
RELATED-TO:fmf-AFLABS-URNIK:srecanje:6739
X-WR-TIMEZONE:Europe/Ljubljana
END:VEVENT
BEGIN:VEVENT
SUMMARY:Splošna teorija relativnosti (FIZ-M2)\, Seminar (S)
DTSTART;TZID=Europe/Ljubljana:20220112T130000
DTEND;TZID=Europe/Ljubljana:20220112T140000
DTSTAMP:20260424T142106Z
UID:fmf-AFLABS-URNIK:premaknjeno-srecanje:104835
ATTENDEE:2. letnik (Fizika, 2. stopnja)
CATEGORIES:Entry,Standard
COLOR:darkgreen
DESCRIPTION:Predmet: Splošna teorija relativnosti (FIZ-M2)\, Seminar (S)\
 nLetniki: 2. letnik (Fizika\, 2. stopnja)\nIzvajalci: Sašo Grozdanov\nPro
 stor: F7
LOCATION:F7
ORGANIZER:Sašo Grozdanov
RELATED-TO:fmf-AFLABS-URNIK:srecanje:6739
X-WR-TIMEZONE:Europe/Ljubljana
END:VEVENT
BEGIN:VEVENT
SUMMARY:Seminar Holography\, strings and transport ()\, Seminar (S)
DTSTART;TZID=Europe/Ljubljana:20220106T140000
DTEND;TZID=Europe/Ljubljana:20220106T160000
DTSTAMP:20260424T142106Z
UID:fmf-AFLABS-URNIK:premaknjeno-srecanje:101282
CATEGORIES:Entry,Standard
COLOR:darkgreen
DESCRIPTION:Predmet: Seminar Holography\, strings and transport ()\, Semin
 ar (S)\nLetniki: \nIzvajalci: Sašo Grozdanov\nProstor: Kuščerjev semina
 r
LOCATION:Kuščerjev seminar
ORGANIZER:Sašo Grozdanov
RELATED-TO:fmf-AFLABS-URNIK:srecanje:6806
X-WR-TIMEZONE:Europe/Ljubljana
END:VEVENT
BEGIN:VEVENT
SUMMARY:Seminar Holography\, strings and transport ()\, Seminar (S)
DTSTART;TZID=Europe/Ljubljana:20220113T140000
DTEND;TZID=Europe/Ljubljana:20220113T160000
DTSTAMP:20260424T142106Z
UID:fmf-AFLABS-URNIK:premaknjeno-srecanje:101283
CATEGORIES:Entry,Standard
COLOR:darkgreen
DESCRIPTION:Predmet: Seminar Holography\, strings and transport ()\, Semin
 ar (S)\nLetniki: \nIzvajalci: Sašo Grozdanov\nProstor: Kuščerjev semina
 r
LOCATION:Kuščerjev seminar
ORGANIZER:Sašo Grozdanov
RELATED-TO:fmf-AFLABS-URNIK:srecanje:6806
X-WR-TIMEZONE:Europe/Ljubljana
END:VEVENT
BEGIN:VEVENT
SUMMARY:Kozmologija in delci v zgodnjem vesolju (FIZ-M1\, FIZ-M2)\, Predav
 anja (P)
DTSTART;TZID=Europe/Ljubljana:20220218T100000
DTEND;TZID=Europe/Ljubljana:20220218T130000
DTSTAMP:20260424T142106Z
UID:fmf-AFLABS-URNIK:premaknjeno-srecanje:55402
ATTENDEE:1. letnik (Fizika, 2. stopnja)
ATTENDEE:2. letnik (Fizika, 2. stopnja)
CATEGORIES:Entry,Standard
COLOR:darkgreen
DESCRIPTION:Predmet: Kozmologija in delci v zgodnjem vesolju (FIZ-M1\, FIZ
 -M2)\, Predavanja (P)\nLetniki: 1. letnik (Fizika\, 2. stopnja)\, 2. letni
 k (Fizika\, 2. stopnja)\nIzvajalci: Sašo Grozdanov\, Miha Nemevšek\nPros
 tor: F3
LOCATION:F3
ORGANIZER:Sašo Grozdanov, Miha Nemevšek
RELATED-TO:fmf-AFLABS-URNIK:srecanje:7400
X-WR-TIMEZONE:Europe/Ljubljana
END:VEVENT
BEGIN:VEVENT
SUMMARY:Kozmologija in delci v zgodnjem vesolju (FIZ-M1\, FIZ-M2)\, Predav
 anja (P)
DTSTART;TZID=Europe/Ljubljana:20220225T100000
DTEND;TZID=Europe/Ljubljana:20220225T130000
DTSTAMP:20260424T142106Z
UID:fmf-AFLABS-URNIK:premaknjeno-srecanje:55403
ATTENDEE:1. letnik (Fizika, 2. stopnja)
ATTENDEE:2. letnik (Fizika, 2. stopnja)
CATEGORIES:Entry,Standard
COLOR:darkgreen
DESCRIPTION:Predmet: Kozmologija in delci v zgodnjem vesolju (FIZ-M1\, FIZ
 -M2)\, Predavanja (P)\nLetniki: 1. letnik (Fizika\, 2. stopnja)\, 2. letni
 k (Fizika\, 2. stopnja)\nIzvajalci: Sašo Grozdanov\, Miha Nemevšek\nPros
 tor: F3
LOCATION:F3
ORGANIZER:Sašo Grozdanov, Miha Nemevšek
RELATED-TO:fmf-AFLABS-URNIK:srecanje:7400
X-WR-TIMEZONE:Europe/Ljubljana
END:VEVENT
BEGIN:VEVENT
SUMMARY:Kozmologija in delci v zgodnjem vesolju (FIZ-M1\, FIZ-M2)\, Predav
 anja (P)
DTSTART;TZID=Europe/Ljubljana:20220304T100000
DTEND;TZID=Europe/Ljubljana:20220304T130000
DTSTAMP:20260424T142106Z
UID:fmf-AFLABS-URNIK:premaknjeno-srecanje:55404
ATTENDEE:1. letnik (Fizika, 2. stopnja)
ATTENDEE:2. letnik (Fizika, 2. stopnja)
CATEGORIES:Entry,Standard
COLOR:darkgreen
DESCRIPTION:Predmet: Kozmologija in delci v zgodnjem vesolju (FIZ-M1\, FIZ
 -M2)\, Predavanja (P)\nLetniki: 1. letnik (Fizika\, 2. stopnja)\, 2. letni
 k (Fizika\, 2. stopnja)\nIzvajalci: Sašo Grozdanov\, Miha Nemevšek\nPros
 tor: F3
LOCATION:F3
ORGANIZER:Sašo Grozdanov, Miha Nemevšek
RELATED-TO:fmf-AFLABS-URNIK:srecanje:7400
X-WR-TIMEZONE:Europe/Ljubljana
END:VEVENT
BEGIN:VEVENT
SUMMARY:Kozmologija in delci v zgodnjem vesolju (FIZ-M1\, FIZ-M2)\, Predav
 anja (P)
DTSTART;TZID=Europe/Ljubljana:20220311T100000
DTEND;TZID=Europe/Ljubljana:20220311T130000
DTSTAMP:20260424T142106Z
UID:fmf-AFLABS-URNIK:premaknjeno-srecanje:55405
ATTENDEE:1. letnik (Fizika, 2. stopnja)
ATTENDEE:2. letnik (Fizika, 2. stopnja)
CATEGORIES:Entry,Standard
COLOR:darkgreen
DESCRIPTION:Predmet: Kozmologija in delci v zgodnjem vesolju (FIZ-M1\, FIZ
 -M2)\, Predavanja (P)\nLetniki: 1. letnik (Fizika\, 2. stopnja)\, 2. letni
 k (Fizika\, 2. stopnja)\nIzvajalci: Sašo Grozdanov\, Miha Nemevšek\nPros
 tor: F3
LOCATION:F3
ORGANIZER:Sašo Grozdanov, Miha Nemevšek
RELATED-TO:fmf-AFLABS-URNIK:srecanje:7400
X-WR-TIMEZONE:Europe/Ljubljana
END:VEVENT
BEGIN:VEVENT
SUMMARY:Kozmologija in delci v zgodnjem vesolju (FIZ-M1\, FIZ-M2)\, Semina
 r (S)
DTSTART;TZID=Europe/Ljubljana:20220218T140000
DTEND;TZID=Europe/Ljubljana:20220218T150000
DTSTAMP:20260424T142106Z
UID:fmf-AFLABS-URNIK:premaknjeno-srecanje:55465
ATTENDEE:1. letnik (Fizika, 2. stopnja)
ATTENDEE:2. letnik (Fizika, 2. stopnja)
CATEGORIES:Entry,Standard
COLOR:darkgreen
DESCRIPTION:Predmet: Kozmologija in delci v zgodnjem vesolju (FIZ-M1\, FIZ
 -M2)\, Seminar (S)\nLetniki: 1. letnik (Fizika\, 2. stopnja)\, 2. letnik (
 Fizika\, 2. stopnja)\nIzvajalci: Sašo Grozdanov\, Miha Nemevšek\nProstor
 : F3
LOCATION:F3
ORGANIZER:Sašo Grozdanov, Miha Nemevšek
RELATED-TO:fmf-AFLABS-URNIK:srecanje:7396
X-WR-TIMEZONE:Europe/Ljubljana
END:VEVENT
BEGIN:VEVENT
SUMMARY:Kozmologija in delci v zgodnjem vesolju (FIZ-M1\, FIZ-M2)\, Semina
 r (S)
DTSTART;TZID=Europe/Ljubljana:20220225T140000
DTEND;TZID=Europe/Ljubljana:20220225T150000
DTSTAMP:20260424T142106Z
UID:fmf-AFLABS-URNIK:premaknjeno-srecanje:55466
ATTENDEE:1. letnik (Fizika, 2. stopnja)
ATTENDEE:2. letnik (Fizika, 2. stopnja)
CATEGORIES:Entry,Standard
COLOR:darkgreen
DESCRIPTION:Predmet: Kozmologija in delci v zgodnjem vesolju (FIZ-M1\, FIZ
 -M2)\, Seminar (S)\nLetniki: 1. letnik (Fizika\, 2. stopnja)\, 2. letnik (
 Fizika\, 2. stopnja)\nIzvajalci: Sašo Grozdanov\, Miha Nemevšek\nProstor
 : F3
LOCATION:F3
ORGANIZER:Sašo Grozdanov, Miha Nemevšek
RELATED-TO:fmf-AFLABS-URNIK:srecanje:7396
X-WR-TIMEZONE:Europe/Ljubljana
END:VEVENT
BEGIN:VEVENT
SUMMARY:Kozmologija in delci v zgodnjem vesolju (FIZ-M1\, FIZ-M2)\, Semina
 r (S)
DTSTART;TZID=Europe/Ljubljana:20220304T140000
DTEND;TZID=Europe/Ljubljana:20220304T150000
DTSTAMP:20260424T142106Z
UID:fmf-AFLABS-URNIK:premaknjeno-srecanje:55467
ATTENDEE:1. letnik (Fizika, 2. stopnja)
ATTENDEE:2. letnik (Fizika, 2. stopnja)
CATEGORIES:Entry,Standard
COLOR:darkgreen
DESCRIPTION:Predmet: Kozmologija in delci v zgodnjem vesolju (FIZ-M1\, FIZ
 -M2)\, Seminar (S)\nLetniki: 1. letnik (Fizika\, 2. stopnja)\, 2. letnik (
 Fizika\, 2. stopnja)\nIzvajalci: Sašo Grozdanov\, Miha Nemevšek\nProstor
 : F3
LOCATION:F3
ORGANIZER:Sašo Grozdanov, Miha Nemevšek
RELATED-TO:fmf-AFLABS-URNIK:srecanje:7396
X-WR-TIMEZONE:Europe/Ljubljana
END:VEVENT
BEGIN:VEVENT
SUMMARY:Kozmologija in delci v zgodnjem vesolju (FIZ-M1\, FIZ-M2)\, Semina
 r (S)
DTSTART;TZID=Europe/Ljubljana:20220311T140000
DTEND;TZID=Europe/Ljubljana:20220311T150000
DTSTAMP:20260424T142106Z
UID:fmf-AFLABS-URNIK:premaknjeno-srecanje:55468
ATTENDEE:1. letnik (Fizika, 2. stopnja)
ATTENDEE:2. letnik (Fizika, 2. stopnja)
CATEGORIES:Entry,Standard
COLOR:darkgreen
DESCRIPTION:Predmet: Kozmologija in delci v zgodnjem vesolju (FIZ-M1\, FIZ
 -M2)\, Seminar (S)\nLetniki: 1. letnik (Fizika\, 2. stopnja)\, 2. letnik (
 Fizika\, 2. stopnja)\nIzvajalci: Sašo Grozdanov\, Miha Nemevšek\nProstor
 : F3
LOCATION:F3
ORGANIZER:Sašo Grozdanov, Miha Nemevšek
RELATED-TO:fmf-AFLABS-URNIK:srecanje:7396
X-WR-TIMEZONE:Europe/Ljubljana
END:VEVENT
BEGIN:VEVENT
SUMMARY:Kozmologija in delci v zgodnjem vesolju (FIZ-M1\, FIZ-M2)\, Vaje (
 V)
DTSTART;TZID=Europe/Ljubljana:20220218T130000
DTEND;TZID=Europe/Ljubljana:20220218T140000
DTSTAMP:20260424T142106Z
UID:fmf-AFLABS-URNIK:premaknjeno-srecanje:55512
ATTENDEE:1. letnik (Fizika, 2. stopnja)
ATTENDEE:2. letnik (Fizika, 2. stopnja)
CATEGORIES:Entry,Standard
COLOR:darkgreen
DESCRIPTION:Predmet: Kozmologija in delci v zgodnjem vesolju (FIZ-M1\, FIZ
 -M2)\, Vaje (V)\nLetniki: 1. letnik (Fizika\, 2. stopnja)\, 2. letnik (Fiz
 ika\, 2. stopnja)\nIzvajalci: Sašo Grozdanov\, Miha Nemevšek\nProstor: F
 3
LOCATION:F3
ORGANIZER:Sašo Grozdanov, Miha Nemevšek
RELATED-TO:fmf-AFLABS-URNIK:srecanje:7397
X-WR-TIMEZONE:Europe/Ljubljana
END:VEVENT
BEGIN:VEVENT
SUMMARY:Kozmologija in delci v zgodnjem vesolju (FIZ-M1\, FIZ-M2)\, Vaje (
 V)
DTSTART;TZID=Europe/Ljubljana:20220225T130000
DTEND;TZID=Europe/Ljubljana:20220225T140000
DTSTAMP:20260424T142106Z
UID:fmf-AFLABS-URNIK:premaknjeno-srecanje:55513
ATTENDEE:1. letnik (Fizika, 2. stopnja)
ATTENDEE:2. letnik (Fizika, 2. stopnja)
CATEGORIES:Entry,Standard
COLOR:darkgreen
DESCRIPTION:Predmet: Kozmologija in delci v zgodnjem vesolju (FIZ-M1\, FIZ
 -M2)\, Vaje (V)\nLetniki: 1. letnik (Fizika\, 2. stopnja)\, 2. letnik (Fiz
 ika\, 2. stopnja)\nIzvajalci: Sašo Grozdanov\, Miha Nemevšek\nProstor: F
 3
LOCATION:F3
ORGANIZER:Sašo Grozdanov, Miha Nemevšek
RELATED-TO:fmf-AFLABS-URNIK:srecanje:7397
X-WR-TIMEZONE:Europe/Ljubljana
END:VEVENT
BEGIN:VEVENT
SUMMARY:Kozmologija in delci v zgodnjem vesolju (FIZ-M1\, FIZ-M2)\, Vaje (
 V)
DTSTART;TZID=Europe/Ljubljana:20220304T130000
DTEND;TZID=Europe/Ljubljana:20220304T140000
DTSTAMP:20260424T142106Z
UID:fmf-AFLABS-URNIK:premaknjeno-srecanje:55514
ATTENDEE:1. letnik (Fizika, 2. stopnja)
ATTENDEE:2. letnik (Fizika, 2. stopnja)
CATEGORIES:Entry,Standard
COLOR:darkgreen
DESCRIPTION:Predmet: Kozmologija in delci v zgodnjem vesolju (FIZ-M1\, FIZ
 -M2)\, Vaje (V)\nLetniki: 1. letnik (Fizika\, 2. stopnja)\, 2. letnik (Fiz
 ika\, 2. stopnja)\nIzvajalci: Sašo Grozdanov\, Miha Nemevšek\nProstor: F
 3
LOCATION:F3
ORGANIZER:Sašo Grozdanov, Miha Nemevšek
RELATED-TO:fmf-AFLABS-URNIK:srecanje:7397
X-WR-TIMEZONE:Europe/Ljubljana
END:VEVENT
BEGIN:VEVENT
SUMMARY:Kozmologija in delci v zgodnjem vesolju (FIZ-M1\, FIZ-M2)\, Vaje (
 V)
DTSTART;TZID=Europe/Ljubljana:20220311T130000
DTEND;TZID=Europe/Ljubljana:20220311T140000
DTSTAMP:20260424T142106Z
UID:fmf-AFLABS-URNIK:premaknjeno-srecanje:55515
ATTENDEE:1. letnik (Fizika, 2. stopnja)
ATTENDEE:2. letnik (Fizika, 2. stopnja)
CATEGORIES:Entry,Standard
COLOR:darkgreen
DESCRIPTION:Predmet: Kozmologija in delci v zgodnjem vesolju (FIZ-M1\, FIZ
 -M2)\, Vaje (V)\nLetniki: 1. letnik (Fizika\, 2. stopnja)\, 2. letnik (Fiz
 ika\, 2. stopnja)\nIzvajalci: Sašo Grozdanov\, Miha Nemevšek\nProstor: F
 3
LOCATION:F3
ORGANIZER:Sašo Grozdanov, Miha Nemevšek
RELATED-TO:fmf-AFLABS-URNIK:srecanje:7397
X-WR-TIMEZONE:Europe/Ljubljana
END:VEVENT
BEGIN:VEVENT
SUMMARY:Rezervacija
DTSTART;TZID=Europe/Ljubljana:20220127T080000
DTEND;TZID=Europe/Ljubljana:20220127T190000
DTSTAMP:20260424T142106Z
UID:fmf-AFLABS-URNIK:rezervacija:8380
ATTENDEE:2. letnik (Fizika, 2. stopnja)
CATEGORIES:Reservation
COLOR:royalblue
DESCRIPTION:Predmeti: Splošna teorija relativnosti (FIZ-M2)\nLetniki: 2. 
 letnik (Fizika\, 2. stopnja)\nIzvajalci: Sašo Grozdanov\nProstori: F4
LOCATION:F4
ORGANIZER:Sašo Grozdanov
X-WR-TIMEZONE:Europe/Ljubljana
END:VEVENT
END:VCALENDAR
