BEGIN:VCALENDAR
VERSION:2.0
PRODID:-//AFLabs urnik izvoz - fmf//aflabs.si//SI
DTSTAMP:20260420T042403Z
NAME:UL FMF urnik
REFRESH-INTERVAL:PT1H
SOURCE:https://urnik.fmf.uni-lj.si/teacher/562?day=2023-01-02&export=1
URL:https://urnik.fmf.uni-lj.si/teacher/562?day=2023-01-02&export=1
X-PUBLISHED-TTL:PT1H
X-WR-CALNAME:UL FMF urnik
X-WR-TIMEZONE:Europe/Ljubljana
BEGIN:VTIMEZONE
TZID:Europe/Ljubljana
BEGIN:DAYLIGHT
DTSTART:20260329T020000
RDATE:20260329T020000
RDATE:20270328T020000
TZNAME:CEST
TZOFFSETFROM:+0100
TZOFFSETTO:+0200
END:DAYLIGHT
BEGIN:STANDARD
DTSTART:20261025T030000
RDATE:20261025T030000
RDATE:20271031T030000
TZNAME:CET
TZOFFSETFROM:+0200
TZOFFSETTO:+0100
END:STANDARD
END:VTIMEZONE
BEGIN:VEVENT
SUMMARY:Moderna fizika (MAT-M\, PM-5)\, Predavanja (P)
DTSTART;TZID=Europe/Ljubljana:20221004T080000
DTEND;TZID=Europe/Ljubljana:20221004T110000
DTSTAMP:20260420T042403Z
UID:fmf-AFLABS-URNIK:premaknjeno-srecanje:73300
ATTENDEE:5. letnik (PM)
ATTENDEE:magistrski študij (M)
CATEGORIES:Entry,Standard
COLOR:darkgreen
DESCRIPTION:Predmet: Moderna fizika (MAT-M\, PM-5)\, Predavanja (P)\nLetni
 ki: magistrski študij (M)\, 5. letnik (PM)\nIzvajalci: Sašo Grozdanov\nP
 rostor: F6
LOCATION:F6
ORGANIZER:Sašo Grozdanov
RELATED-TO:fmf-AFLABS-URNIK:srecanje:7835
X-WR-TIMEZONE:Europe/Ljubljana
END:VEVENT
BEGIN:VEVENT
SUMMARY:Moderna fizika (MAT-M\, PM-5)\, Predavanja (P)
DTSTART;TZID=Europe/Ljubljana:20221011T080000
DTEND;TZID=Europe/Ljubljana:20221011T110000
DTSTAMP:20260420T042403Z
UID:fmf-AFLABS-URNIK:premaknjeno-srecanje:73301
ATTENDEE:5. letnik (PM)
ATTENDEE:magistrski študij (M)
CATEGORIES:Entry,Standard
COLOR:darkgreen
DESCRIPTION:Predmet: Moderna fizika (MAT-M\, PM-5)\, Predavanja (P)\nLetni
 ki: magistrski študij (M)\, 5. letnik (PM)\nIzvajalci: Sašo Grozdanov\nP
 rostor: F6
LOCATION:F6
ORGANIZER:Sašo Grozdanov
RELATED-TO:fmf-AFLABS-URNIK:srecanje:7835
X-WR-TIMEZONE:Europe/Ljubljana
END:VEVENT
BEGIN:VEVENT
SUMMARY:Moderna fizika (MAT-M\, PM-5)\, Predavanja (P)
DTSTART;TZID=Europe/Ljubljana:20221018T080000
DTEND;TZID=Europe/Ljubljana:20221018T110000
DTSTAMP:20260420T042403Z
UID:fmf-AFLABS-URNIK:premaknjeno-srecanje:73302
ATTENDEE:5. letnik (PM)
ATTENDEE:magistrski študij (M)
CATEGORIES:Entry,Standard
COLOR:darkgreen
DESCRIPTION:Predmet: Moderna fizika (MAT-M\, PM-5)\, Predavanja (P)\nLetni
 ki: magistrski študij (M)\, 5. letnik (PM)\nIzvajalci: Sašo Grozdanov\nP
 rostor: F6
LOCATION:F6
ORGANIZER:Sašo Grozdanov
RELATED-TO:fmf-AFLABS-URNIK:srecanje:7835
X-WR-TIMEZONE:Europe/Ljubljana
END:VEVENT
BEGIN:VEVENT
SUMMARY:Moderna fizika (MAT-M\, PM-5)\, Predavanja (P)
DTSTART;TZID=Europe/Ljubljana:20221025T080000
DTEND;TZID=Europe/Ljubljana:20221025T110000
DTSTAMP:20260420T042403Z
UID:fmf-AFLABS-URNIK:premaknjeno-srecanje:73303
ATTENDEE:5. letnik (PM)
ATTENDEE:magistrski študij (M)
CATEGORIES:Entry,Standard
COLOR:darkgreen
DESCRIPTION:Predmet: Moderna fizika (MAT-M\, PM-5)\, Predavanja (P)\nLetni
 ki: magistrski študij (M)\, 5. letnik (PM)\nIzvajalci: Sašo Grozdanov\nP
 rostor: F6
LOCATION:F6
ORGANIZER:Sašo Grozdanov
RELATED-TO:fmf-AFLABS-URNIK:srecanje:7835
X-WR-TIMEZONE:Europe/Ljubljana
END:VEVENT
BEGIN:VEVENT
SUMMARY:Moderna fizika (MAT-M\, PM-5)\, Predavanja (P)
DTSTART;TZID=Europe/Ljubljana:20221101T080000
DTEND;TZID=Europe/Ljubljana:20221101T110000
DTSTAMP:20260420T042403Z
UID:fmf-AFLABS-URNIK:premaknjeno-srecanje:73304
ATTENDEE:5. letnik (PM)
ATTENDEE:magistrski študij (M)
CATEGORIES:Entry,Standard
COLOR:darkgreen
DESCRIPTION:Predmet: Moderna fizika (MAT-M\, PM-5)\, Predavanja (P)\nLetni
 ki: magistrski študij (M)\, 5. letnik (PM)\nIzvajalci: Sašo Grozdanov\nP
 rostor: F6
LOCATION:F6
ORGANIZER:Sašo Grozdanov
RELATED-TO:fmf-AFLABS-URNIK:srecanje:7835
X-WR-TIMEZONE:Europe/Ljubljana
END:VEVENT
BEGIN:VEVENT
SUMMARY:Moderna fizika (MAT-M\, PM-5)\, Predavanja (P)
DTSTART;TZID=Europe/Ljubljana:20221108T080000
DTEND;TZID=Europe/Ljubljana:20221108T110000
DTSTAMP:20260420T042403Z
UID:fmf-AFLABS-URNIK:premaknjeno-srecanje:73305
ATTENDEE:5. letnik (PM)
ATTENDEE:magistrski študij (M)
CATEGORIES:Entry,Standard
COLOR:darkgreen
DESCRIPTION:Predmet: Moderna fizika (MAT-M\, PM-5)\, Predavanja (P)\nLetni
 ki: magistrski študij (M)\, 5. letnik (PM)\nIzvajalci: Sašo Grozdanov\nP
 rostor: F6
LOCATION:F6
ORGANIZER:Sašo Grozdanov
RELATED-TO:fmf-AFLABS-URNIK:srecanje:7835
X-WR-TIMEZONE:Europe/Ljubljana
END:VEVENT
BEGIN:VEVENT
SUMMARY:Moderna fizika (MAT-M\, PM-5)\, Predavanja (P)
DTSTART;TZID=Europe/Ljubljana:20221115T080000
DTEND;TZID=Europe/Ljubljana:20221115T110000
DTSTAMP:20260420T042403Z
UID:fmf-AFLABS-URNIK:premaknjeno-srecanje:73306
ATTENDEE:5. letnik (PM)
ATTENDEE:magistrski študij (M)
CATEGORIES:Entry,Standard
COLOR:darkgreen
DESCRIPTION:Predmet: Moderna fizika (MAT-M\, PM-5)\, Predavanja (P)\nLetni
 ki: magistrski študij (M)\, 5. letnik (PM)\nIzvajalci: Sašo Grozdanov\nP
 rostor: F6
LOCATION:F6
ORGANIZER:Sašo Grozdanov
RELATED-TO:fmf-AFLABS-URNIK:srecanje:7835
X-WR-TIMEZONE:Europe/Ljubljana
END:VEVENT
BEGIN:VEVENT
SUMMARY:Moderna fizika (MAT-M\, PM-5)\, Predavanja (P)
DTSTART;TZID=Europe/Ljubljana:20221122T080000
DTEND;TZID=Europe/Ljubljana:20221122T110000
DTSTAMP:20260420T042403Z
UID:fmf-AFLABS-URNIK:premaknjeno-srecanje:73307
ATTENDEE:5. letnik (PM)
ATTENDEE:magistrski študij (M)
CATEGORIES:Entry,Standard
COLOR:darkgreen
DESCRIPTION:Predmet: Moderna fizika (MAT-M\, PM-5)\, Predavanja (P)\nLetni
 ki: magistrski študij (M)\, 5. letnik (PM)\nIzvajalci: Sašo Grozdanov\nP
 rostor: F6
LOCATION:F6
ORGANIZER:Sašo Grozdanov
RELATED-TO:fmf-AFLABS-URNIK:srecanje:7835
X-WR-TIMEZONE:Europe/Ljubljana
END:VEVENT
BEGIN:VEVENT
SUMMARY:Moderna fizika (MAT-M\, PM-5)\, Predavanja (P)
DTSTART;TZID=Europe/Ljubljana:20221129T080000
DTEND;TZID=Europe/Ljubljana:20221129T110000
DTSTAMP:20260420T042403Z
UID:fmf-AFLABS-URNIK:premaknjeno-srecanje:73308
ATTENDEE:5. letnik (PM)
ATTENDEE:magistrski študij (M)
CATEGORIES:Entry,Standard
COLOR:darkgreen
DESCRIPTION:Predmet: Moderna fizika (MAT-M\, PM-5)\, Predavanja (P)\nLetni
 ki: magistrski študij (M)\, 5. letnik (PM)\nIzvajalci: Sašo Grozdanov\nP
 rostor: F6
LOCATION:F6
ORGANIZER:Sašo Grozdanov
RELATED-TO:fmf-AFLABS-URNIK:srecanje:7835
X-WR-TIMEZONE:Europe/Ljubljana
END:VEVENT
BEGIN:VEVENT
SUMMARY:Moderna fizika (MAT-M\, PM-5)\, Predavanja (P)
DTSTART;TZID=Europe/Ljubljana:20221206T080000
DTEND;TZID=Europe/Ljubljana:20221206T110000
DTSTAMP:20260420T042403Z
UID:fmf-AFLABS-URNIK:premaknjeno-srecanje:73309
ATTENDEE:5. letnik (PM)
ATTENDEE:magistrski študij (M)
CATEGORIES:Entry,Standard
COLOR:darkgreen
DESCRIPTION:Predmet: Moderna fizika (MAT-M\, PM-5)\, Predavanja (P)\nLetni
 ki: magistrski študij (M)\, 5. letnik (PM)\nIzvajalci: Sašo Grozdanov\nP
 rostor: F6
LOCATION:F6
ORGANIZER:Sašo Grozdanov
RELATED-TO:fmf-AFLABS-URNIK:srecanje:7835
X-WR-TIMEZONE:Europe/Ljubljana
END:VEVENT
BEGIN:VEVENT
SUMMARY:Moderna fizika (MAT-M\, PM-5)\, Predavanja (P)
DTSTART;TZID=Europe/Ljubljana:20221213T080000
DTEND;TZID=Europe/Ljubljana:20221213T110000
DTSTAMP:20260420T042403Z
UID:fmf-AFLABS-URNIK:premaknjeno-srecanje:73310
ATTENDEE:5. letnik (PM)
ATTENDEE:magistrski študij (M)
CATEGORIES:Entry,Standard
COLOR:darkgreen
DESCRIPTION:Predmet: Moderna fizika (MAT-M\, PM-5)\, Predavanja (P)\nLetni
 ki: magistrski študij (M)\, 5. letnik (PM)\nIzvajalci: Sašo Grozdanov\nP
 rostor: F6
LOCATION:F6
ORGANIZER:Sašo Grozdanov
RELATED-TO:fmf-AFLABS-URNIK:srecanje:7835
X-WR-TIMEZONE:Europe/Ljubljana
END:VEVENT
BEGIN:VEVENT
SUMMARY:Moderna fizika (MAT-M\, PM-5)\, Predavanja (P)
DTSTART;TZID=Europe/Ljubljana:20221220T080000
DTEND;TZID=Europe/Ljubljana:20221220T110000
DTSTAMP:20260420T042403Z
UID:fmf-AFLABS-URNIK:premaknjeno-srecanje:73311
ATTENDEE:5. letnik (PM)
ATTENDEE:magistrski študij (M)
CATEGORIES:Entry,Standard
COLOR:darkgreen
DESCRIPTION:Predmet: Moderna fizika (MAT-M\, PM-5)\, Predavanja (P)\nLetni
 ki: magistrski študij (M)\, 5. letnik (PM)\nIzvajalci: Sašo Grozdanov\nP
 rostor: F6
LOCATION:F6
ORGANIZER:Sašo Grozdanov
RELATED-TO:fmf-AFLABS-URNIK:srecanje:7835
X-WR-TIMEZONE:Europe/Ljubljana
END:VEVENT
BEGIN:VEVENT
SUMMARY:Moderna fizika (MAT-M\, PM-5)\, Predavanja (P)
DTSTART;TZID=Europe/Ljubljana:20221227T080000
DTEND;TZID=Europe/Ljubljana:20221227T110000
DTSTAMP:20260420T042403Z
UID:fmf-AFLABS-URNIK:premaknjeno-srecanje:73312
ATTENDEE:5. letnik (PM)
ATTENDEE:magistrski študij (M)
CATEGORIES:Entry,Standard
COLOR:darkgreen
DESCRIPTION:Predmet: Moderna fizika (MAT-M\, PM-5)\, Predavanja (P)\nLetni
 ki: magistrski študij (M)\, 5. letnik (PM)\nIzvajalci: Sašo Grozdanov\nP
 rostor: F6
LOCATION:F6
ORGANIZER:Sašo Grozdanov
RELATED-TO:fmf-AFLABS-URNIK:srecanje:7835
X-WR-TIMEZONE:Europe/Ljubljana
END:VEVENT
BEGIN:VEVENT
SUMMARY:Moderna fizika (MAT-M\, PM-5)\, Predavanja (P)
DTSTART;TZID=Europe/Ljubljana:20230103T080000
DTEND;TZID=Europe/Ljubljana:20230103T110000
DTSTAMP:20260420T042403Z
UID:fmf-AFLABS-URNIK:premaknjeno-srecanje:73313
ATTENDEE:5. letnik (PM)
ATTENDEE:magistrski študij (M)
CATEGORIES:Entry,Standard
COLOR:darkgreen
DESCRIPTION:Predmet: Moderna fizika (MAT-M\, PM-5)\, Predavanja (P)\nLetni
 ki: magistrski študij (M)\, 5. letnik (PM)\nIzvajalci: Sašo Grozdanov\nP
 rostor: F6
LOCATION:F6
ORGANIZER:Sašo Grozdanov
RELATED-TO:fmf-AFLABS-URNIK:srecanje:7835
X-WR-TIMEZONE:Europe/Ljubljana
END:VEVENT
BEGIN:VEVENT
SUMMARY:Moderna fizika (MAT-M\, PM-5)\, Predavanja (P)
DTSTART;TZID=Europe/Ljubljana:20230110T080000
DTEND;TZID=Europe/Ljubljana:20230110T110000
DTSTAMP:20260420T042403Z
UID:fmf-AFLABS-URNIK:premaknjeno-srecanje:73314
ATTENDEE:5. letnik (PM)
ATTENDEE:magistrski študij (M)
CATEGORIES:Entry,Standard
COLOR:darkgreen
DESCRIPTION:Predmet: Moderna fizika (MAT-M\, PM-5)\, Predavanja (P)\nLetni
 ki: magistrski študij (M)\, 5. letnik (PM)\nIzvajalci: Sašo Grozdanov\nP
 rostor: F6
LOCATION:F6
ORGANIZER:Sašo Grozdanov
RELATED-TO:fmf-AFLABS-URNIK:srecanje:7835
X-WR-TIMEZONE:Europe/Ljubljana
END:VEVENT
BEGIN:VEVENT
SUMMARY:Splošna teorija relativnosti (FIZ-M2)\, Predavanja (P)
DTSTART;TZID=Europe/Ljubljana:20221005T080000
DTEND;TZID=Europe/Ljubljana:20221005T110000
DTSTAMP:20260420T042403Z
UID:fmf-AFLABS-URNIK:premaknjeno-srecanje:104775
ATTENDEE:2. letnik (Fizika, 2. stopnja)
CATEGORIES:Entry,Standard
COLOR:darkgreen
DESCRIPTION:Predmet: Splošna teorija relativnosti (FIZ-M2)\, Predavanja (
 P)\nLetniki: 2. letnik (Fizika\, 2. stopnja)\nIzvajalci: Sašo Grozdanov\n
 Prostor: F4
LOCATION:F4
ORGANIZER:Sašo Grozdanov
RELATED-TO:fmf-AFLABS-URNIK:srecanje:8007
X-WR-TIMEZONE:Europe/Ljubljana
END:VEVENT
BEGIN:VEVENT
SUMMARY:Splošna teorija relativnosti (FIZ-M2)\, Predavanja (P)
DTSTART;TZID=Europe/Ljubljana:20221012T080000
DTEND;TZID=Europe/Ljubljana:20221012T110000
DTSTAMP:20260420T042403Z
UID:fmf-AFLABS-URNIK:premaknjeno-srecanje:104776
ATTENDEE:2. letnik (Fizika, 2. stopnja)
CATEGORIES:Entry,Standard
COLOR:darkgreen
DESCRIPTION:Predmet: Splošna teorija relativnosti (FIZ-M2)\, Predavanja (
 P)\nLetniki: 2. letnik (Fizika\, 2. stopnja)\nIzvajalci: Sašo Grozdanov\n
 Prostor: F4
LOCATION:F4
ORGANIZER:Sašo Grozdanov
RELATED-TO:fmf-AFLABS-URNIK:srecanje:8007
X-WR-TIMEZONE:Europe/Ljubljana
END:VEVENT
BEGIN:VEVENT
SUMMARY:Splošna teorija relativnosti (FIZ-M2)\, Predavanja (P)
DTSTART;TZID=Europe/Ljubljana:20221019T080000
DTEND;TZID=Europe/Ljubljana:20221019T110000
DTSTAMP:20260420T042403Z
UID:fmf-AFLABS-URNIK:premaknjeno-srecanje:104777
ATTENDEE:2. letnik (Fizika, 2. stopnja)
CATEGORIES:Entry,Standard
COLOR:darkgreen
DESCRIPTION:Predmet: Splošna teorija relativnosti (FIZ-M2)\, Predavanja (
 P)\nLetniki: 2. letnik (Fizika\, 2. stopnja)\nIzvajalci: Sašo Grozdanov\n
 Prostor: F4
LOCATION:F4
ORGANIZER:Sašo Grozdanov
RELATED-TO:fmf-AFLABS-URNIK:srecanje:8007
X-WR-TIMEZONE:Europe/Ljubljana
END:VEVENT
BEGIN:VEVENT
SUMMARY:Splošna teorija relativnosti (FIZ-M2)\, Predavanja (P)
DTSTART;TZID=Europe/Ljubljana:20221026T080000
DTEND;TZID=Europe/Ljubljana:20221026T110000
DTSTAMP:20260420T042403Z
UID:fmf-AFLABS-URNIK:premaknjeno-srecanje:104778
ATTENDEE:2. letnik (Fizika, 2. stopnja)
CATEGORIES:Entry,Standard
COLOR:darkgreen
DESCRIPTION:Predmet: Splošna teorija relativnosti (FIZ-M2)\, Predavanja (
 P)\nLetniki: 2. letnik (Fizika\, 2. stopnja)\nIzvajalci: Sašo Grozdanov\n
 Prostor: F4
LOCATION:F4
ORGANIZER:Sašo Grozdanov
RELATED-TO:fmf-AFLABS-URNIK:srecanje:8007
X-WR-TIMEZONE:Europe/Ljubljana
END:VEVENT
BEGIN:VEVENT
SUMMARY:Splošna teorija relativnosti (FIZ-M2)\, Predavanja (P)
DTSTART;TZID=Europe/Ljubljana:20221102T080000
DTEND;TZID=Europe/Ljubljana:20221102T110000
DTSTAMP:20260420T042403Z
UID:fmf-AFLABS-URNIK:premaknjeno-srecanje:104779
ATTENDEE:2. letnik (Fizika, 2. stopnja)
CATEGORIES:Entry,Standard
COLOR:darkgreen
DESCRIPTION:Predmet: Splošna teorija relativnosti (FIZ-M2)\, Predavanja (
 P)\nLetniki: 2. letnik (Fizika\, 2. stopnja)\nIzvajalci: Sašo Grozdanov\n
 Prostor: F4
LOCATION:F4
ORGANIZER:Sašo Grozdanov
RELATED-TO:fmf-AFLABS-URNIK:srecanje:8007
X-WR-TIMEZONE:Europe/Ljubljana
END:VEVENT
BEGIN:VEVENT
SUMMARY:Splošna teorija relativnosti (FIZ-M2)\, Predavanja (P)
DTSTART;TZID=Europe/Ljubljana:20221109T080000
DTEND;TZID=Europe/Ljubljana:20221109T110000
DTSTAMP:20260420T042403Z
UID:fmf-AFLABS-URNIK:premaknjeno-srecanje:104780
ATTENDEE:2. letnik (Fizika, 2. stopnja)
CATEGORIES:Entry,Standard
COLOR:darkgreen
DESCRIPTION:Predmet: Splošna teorija relativnosti (FIZ-M2)\, Predavanja (
 P)\nLetniki: 2. letnik (Fizika\, 2. stopnja)\nIzvajalci: Sašo Grozdanov\n
 Prostor: F4
LOCATION:F4
ORGANIZER:Sašo Grozdanov
RELATED-TO:fmf-AFLABS-URNIK:srecanje:8007
X-WR-TIMEZONE:Europe/Ljubljana
END:VEVENT
BEGIN:VEVENT
SUMMARY:Splošna teorija relativnosti (FIZ-M2)\, Predavanja (P)
DTSTART;TZID=Europe/Ljubljana:20221116T080000
DTEND;TZID=Europe/Ljubljana:20221116T110000
DTSTAMP:20260420T042403Z
UID:fmf-AFLABS-URNIK:premaknjeno-srecanje:104781
ATTENDEE:2. letnik (Fizika, 2. stopnja)
CATEGORIES:Entry,Standard
COLOR:darkgreen
DESCRIPTION:Predmet: Splošna teorija relativnosti (FIZ-M2)\, Predavanja (
 P)\nLetniki: 2. letnik (Fizika\, 2. stopnja)\nIzvajalci: Sašo Grozdanov\n
 Prostor: F4
LOCATION:F4
ORGANIZER:Sašo Grozdanov
RELATED-TO:fmf-AFLABS-URNIK:srecanje:8007
X-WR-TIMEZONE:Europe/Ljubljana
END:VEVENT
BEGIN:VEVENT
SUMMARY:Splošna teorija relativnosti (FIZ-M2)\, Predavanja (P)
DTSTART;TZID=Europe/Ljubljana:20221123T080000
DTEND;TZID=Europe/Ljubljana:20221123T110000
DTSTAMP:20260420T042403Z
UID:fmf-AFLABS-URNIK:premaknjeno-srecanje:104782
ATTENDEE:2. letnik (Fizika, 2. stopnja)
CATEGORIES:Entry,Standard
COLOR:darkgreen
DESCRIPTION:Predmet: Splošna teorija relativnosti (FIZ-M2)\, Predavanja (
 P)\nLetniki: 2. letnik (Fizika\, 2. stopnja)\nIzvajalci: Sašo Grozdanov\n
 Prostor: F4
LOCATION:F4
ORGANIZER:Sašo Grozdanov
RELATED-TO:fmf-AFLABS-URNIK:srecanje:8007
X-WR-TIMEZONE:Europe/Ljubljana
END:VEVENT
BEGIN:VEVENT
SUMMARY:Splošna teorija relativnosti (FIZ-M2)\, Predavanja (P)
DTSTART;TZID=Europe/Ljubljana:20221130T080000
DTEND;TZID=Europe/Ljubljana:20221130T110000
DTSTAMP:20260420T042403Z
UID:fmf-AFLABS-URNIK:premaknjeno-srecanje:104783
ATTENDEE:2. letnik (Fizika, 2. stopnja)
CATEGORIES:Entry,Standard
COLOR:darkgreen
DESCRIPTION:Predmet: Splošna teorija relativnosti (FIZ-M2)\, Predavanja (
 P)\nLetniki: 2. letnik (Fizika\, 2. stopnja)\nIzvajalci: Sašo Grozdanov\n
 Prostor: F4
LOCATION:F4
ORGANIZER:Sašo Grozdanov
RELATED-TO:fmf-AFLABS-URNIK:srecanje:8007
X-WR-TIMEZONE:Europe/Ljubljana
END:VEVENT
BEGIN:VEVENT
SUMMARY:Splošna teorija relativnosti (FIZ-M2)\, Predavanja (P)
DTSTART;TZID=Europe/Ljubljana:20221207T080000
DTEND;TZID=Europe/Ljubljana:20221207T110000
DTSTAMP:20260420T042403Z
UID:fmf-AFLABS-URNIK:premaknjeno-srecanje:104784
ATTENDEE:2. letnik (Fizika, 2. stopnja)
CATEGORIES:Entry,Standard
COLOR:darkgreen
DESCRIPTION:Predmet: Splošna teorija relativnosti (FIZ-M2)\, Predavanja (
 P)\nLetniki: 2. letnik (Fizika\, 2. stopnja)\nIzvajalci: Sašo Grozdanov\n
 Prostor: F4
LOCATION:F4
ORGANIZER:Sašo Grozdanov
RELATED-TO:fmf-AFLABS-URNIK:srecanje:8007
X-WR-TIMEZONE:Europe/Ljubljana
END:VEVENT
BEGIN:VEVENT
SUMMARY:Splošna teorija relativnosti (FIZ-M2)\, Predavanja (P)
DTSTART;TZID=Europe/Ljubljana:20221214T080000
DTEND;TZID=Europe/Ljubljana:20221214T110000
DTSTAMP:20260420T042403Z
UID:fmf-AFLABS-URNIK:premaknjeno-srecanje:104785
ATTENDEE:2. letnik (Fizika, 2. stopnja)
CATEGORIES:Entry,Standard
COLOR:darkgreen
DESCRIPTION:Predmet: Splošna teorija relativnosti (FIZ-M2)\, Predavanja (
 P)\nLetniki: 2. letnik (Fizika\, 2. stopnja)\nIzvajalci: Sašo Grozdanov\n
 Prostor: F4
LOCATION:F4
ORGANIZER:Sašo Grozdanov
RELATED-TO:fmf-AFLABS-URNIK:srecanje:8007
X-WR-TIMEZONE:Europe/Ljubljana
END:VEVENT
BEGIN:VEVENT
SUMMARY:Splošna teorija relativnosti (FIZ-M2)\, Predavanja (P)
DTSTART;TZID=Europe/Ljubljana:20221221T080000
DTEND;TZID=Europe/Ljubljana:20221221T110000
DTSTAMP:20260420T042403Z
UID:fmf-AFLABS-URNIK:premaknjeno-srecanje:104786
ATTENDEE:2. letnik (Fizika, 2. stopnja)
CATEGORIES:Entry,Standard
COLOR:darkgreen
DESCRIPTION:Predmet: Splošna teorija relativnosti (FIZ-M2)\, Predavanja (
 P)\nLetniki: 2. letnik (Fizika\, 2. stopnja)\nIzvajalci: Sašo Grozdanov\n
 Prostor: F4
LOCATION:F4
ORGANIZER:Sašo Grozdanov
RELATED-TO:fmf-AFLABS-URNIK:srecanje:8007
X-WR-TIMEZONE:Europe/Ljubljana
END:VEVENT
BEGIN:VEVENT
SUMMARY:Splošna teorija relativnosti (FIZ-M2)\, Predavanja (P)
DTSTART;TZID=Europe/Ljubljana:20221228T080000
DTEND;TZID=Europe/Ljubljana:20221228T110000
DTSTAMP:20260420T042403Z
UID:fmf-AFLABS-URNIK:premaknjeno-srecanje:104787
ATTENDEE:2. letnik (Fizika, 2. stopnja)
CATEGORIES:Entry,Standard
COLOR:darkgreen
DESCRIPTION:Predmet: Splošna teorija relativnosti (FIZ-M2)\, Predavanja (
 P)\nLetniki: 2. letnik (Fizika\, 2. stopnja)\nIzvajalci: Sašo Grozdanov\n
 Prostor: F4
LOCATION:F4
ORGANIZER:Sašo Grozdanov
RELATED-TO:fmf-AFLABS-URNIK:srecanje:8007
X-WR-TIMEZONE:Europe/Ljubljana
END:VEVENT
BEGIN:VEVENT
SUMMARY:Splošna teorija relativnosti (FIZ-M2)\, Predavanja (P)
DTSTART;TZID=Europe/Ljubljana:20230104T080000
DTEND;TZID=Europe/Ljubljana:20230104T110000
DTSTAMP:20260420T042403Z
UID:fmf-AFLABS-URNIK:premaknjeno-srecanje:104788
ATTENDEE:2. letnik (Fizika, 2. stopnja)
CATEGORIES:Entry,Standard
COLOR:darkgreen
DESCRIPTION:Predmet: Splošna teorija relativnosti (FIZ-M2)\, Predavanja (
 P)\nLetniki: 2. letnik (Fizika\, 2. stopnja)\nIzvajalci: Sašo Grozdanov\n
 Prostor: F4
LOCATION:F4
ORGANIZER:Sašo Grozdanov
RELATED-TO:fmf-AFLABS-URNIK:srecanje:8007
X-WR-TIMEZONE:Europe/Ljubljana
END:VEVENT
BEGIN:VEVENT
SUMMARY:Splošna teorija relativnosti (FIZ-M2)\, Predavanja (P)
DTSTART;TZID=Europe/Ljubljana:20230111T080000
DTEND;TZID=Europe/Ljubljana:20230111T110000
DTSTAMP:20260420T042403Z
UID:fmf-AFLABS-URNIK:premaknjeno-srecanje:104789
ATTENDEE:2. letnik (Fizika, 2. stopnja)
CATEGORIES:Entry,Standard
COLOR:darkgreen
DESCRIPTION:Predmet: Splošna teorija relativnosti (FIZ-M2)\, Predavanja (
 P)\nLetniki: 2. letnik (Fizika\, 2. stopnja)\nIzvajalci: Sašo Grozdanov\n
 Prostor: F4
LOCATION:F4
ORGANIZER:Sašo Grozdanov
RELATED-TO:fmf-AFLABS-URNIK:srecanje:8007
X-WR-TIMEZONE:Europe/Ljubljana
END:VEVENT
END:VCALENDAR
