BEGIN:VCALENDAR
VERSION:2.0
PRODID:-//AFLabs urnik izvoz - fmf//aflabs.si//SI
DTSTAMP:20260425T135046Z
NAME:UL FMF urnik
REFRESH-INTERVAL:PT1H
SOURCE:https://urnik.fmf.uni-lj.si/teacher/56?day=2022-04-11&export=1
URL:https://urnik.fmf.uni-lj.si/teacher/56?day=2022-04-11&export=1
X-PUBLISHED-TTL:PT1H
X-WR-CALNAME:UL FMF urnik
X-WR-TIMEZONE:Europe/Ljubljana
BEGIN:VTIMEZONE
TZID:Europe/Ljubljana
BEGIN:DAYLIGHT
DTSTART:20260329T020000
RDATE:20260329T020000
RDATE:20270328T020000
TZNAME:CEST
TZOFFSETFROM:+0100
TZOFFSETTO:+0200
END:DAYLIGHT
BEGIN:STANDARD
DTSTART:20261025T030000
RDATE:20261025T030000
RDATE:20271031T030000
TZNAME:CET
TZOFFSETFROM:+0200
TZOFFSETTO:+0100
END:STANDARD
END:VTIMEZONE
BEGIN:VEVENT
SUMMARY:Izbrana poglavja iz finančne matematike (MAT-D)\, Predavanja (P)
DTSTART;TZID=Europe/Ljubljana:20220217T100000
DTEND;TZID=Europe/Ljubljana:20220217T120000
DTSTAMP:20260425T135046Z
UID:fmf-AFLABS-URNIK:premaknjeno-srecanje:42814
ATTENDEE:doktorski študij (M)
CATEGORIES:Entry,Standard
COLOR:darkgreen
DESCRIPTION:Predmet: Izbrana poglavja iz finančne matematike (MAT-D)\, Pr
 edavanja (P)\nLetniki: doktorski študij (M)\nIzvajalci: Oliver Dragičevi
 ć\nProstor: 2.04
LOCATION:2.04
ORGANIZER:Oliver Dragičević
RELATED-TO:fmf-AFLABS-URNIK:srecanje:7005
X-WR-TIMEZONE:Europe/Ljubljana
END:VEVENT
BEGIN:VEVENT
SUMMARY:Izbrana poglavja iz finančne matematike (MAT-D)\, Predavanja (P)
DTSTART;TZID=Europe/Ljubljana:20220224T100000
DTEND;TZID=Europe/Ljubljana:20220224T120000
DTSTAMP:20260425T135046Z
UID:fmf-AFLABS-URNIK:premaknjeno-srecanje:42815
ATTENDEE:doktorski študij (M)
CATEGORIES:Entry,Standard
COLOR:darkgreen
DESCRIPTION:Predmet: Izbrana poglavja iz finančne matematike (MAT-D)\, Pr
 edavanja (P)\nLetniki: doktorski študij (M)\nIzvajalci: Oliver Dragičevi
 ć\nProstor: 2.04
LOCATION:2.04
ORGANIZER:Oliver Dragičević
RELATED-TO:fmf-AFLABS-URNIK:srecanje:7005
X-WR-TIMEZONE:Europe/Ljubljana
END:VEVENT
BEGIN:VEVENT
SUMMARY:Izbrana poglavja iz finančne matematike (MAT-D)\, Predavanja (P)
DTSTART;TZID=Europe/Ljubljana:20220303T100000
DTEND;TZID=Europe/Ljubljana:20220303T120000
DTSTAMP:20260425T135046Z
UID:fmf-AFLABS-URNIK:premaknjeno-srecanje:42816
ATTENDEE:doktorski študij (M)
CATEGORIES:Entry,Standard
COLOR:darkgreen
DESCRIPTION:Predmet: Izbrana poglavja iz finančne matematike (MAT-D)\, Pr
 edavanja (P)\nLetniki: doktorski študij (M)\nIzvajalci: Oliver Dragičevi
 ć\nProstor: 2.04
LOCATION:2.04
ORGANIZER:Oliver Dragičević
RELATED-TO:fmf-AFLABS-URNIK:srecanje:7005
X-WR-TIMEZONE:Europe/Ljubljana
END:VEVENT
BEGIN:VEVENT
SUMMARY:Izbrana poglavja iz finančne matematike (MAT-D)\, Predavanja (P)
DTSTART;TZID=Europe/Ljubljana:20220310T100000
DTEND;TZID=Europe/Ljubljana:20220310T120000
DTSTAMP:20260425T135046Z
UID:fmf-AFLABS-URNIK:premaknjeno-srecanje:42817
ATTENDEE:doktorski študij (M)
CATEGORIES:Entry,Standard
COLOR:darkgreen
DESCRIPTION:Predmet: Izbrana poglavja iz finančne matematike (MAT-D)\, Pr
 edavanja (P)\nLetniki: doktorski študij (M)\nIzvajalci: Oliver Dragičevi
 ć\nProstor: 2.04
LOCATION:2.04
ORGANIZER:Oliver Dragičević
RELATED-TO:fmf-AFLABS-URNIK:srecanje:7005
X-WR-TIMEZONE:Europe/Ljubljana
END:VEVENT
BEGIN:VEVENT
SUMMARY:Izbrana poglavja iz finančne matematike (MAT-D)\, Predavanja (P)
DTSTART;TZID=Europe/Ljubljana:20220317T100000
DTEND;TZID=Europe/Ljubljana:20220317T120000
DTSTAMP:20260425T135046Z
UID:fmf-AFLABS-URNIK:premaknjeno-srecanje:42818
ATTENDEE:doktorski študij (M)
CATEGORIES:Entry,Standard
COLOR:darkgreen
DESCRIPTION:Predmet: Izbrana poglavja iz finančne matematike (MAT-D)\, Pr
 edavanja (P)\nLetniki: doktorski študij (M)\nIzvajalci: Oliver Dragičevi
 ć\nProstor: 2.04
LOCATION:2.04
ORGANIZER:Oliver Dragičević
RELATED-TO:fmf-AFLABS-URNIK:srecanje:7005
X-WR-TIMEZONE:Europe/Ljubljana
END:VEVENT
BEGIN:VEVENT
SUMMARY:Izbrana poglavja iz finančne matematike (MAT-D)\, Predavanja (P)
DTSTART;TZID=Europe/Ljubljana:20220324T100000
DTEND;TZID=Europe/Ljubljana:20220324T120000
DTSTAMP:20260425T135046Z
UID:fmf-AFLABS-URNIK:premaknjeno-srecanje:42819
ATTENDEE:doktorski študij (M)
CATEGORIES:Entry,Standard
COLOR:darkgreen
DESCRIPTION:Predmet: Izbrana poglavja iz finančne matematike (MAT-D)\, Pr
 edavanja (P)\nLetniki: doktorski študij (M)\nIzvajalci: Oliver Dragičevi
 ć\nProstor: 2.04
LOCATION:2.04
ORGANIZER:Oliver Dragičević
RELATED-TO:fmf-AFLABS-URNIK:srecanje:7005
X-WR-TIMEZONE:Europe/Ljubljana
END:VEVENT
BEGIN:VEVENT
SUMMARY:Izbrana poglavja iz finančne matematike (MAT-D)\, Predavanja (P)
DTSTART;TZID=Europe/Ljubljana:20220331T100000
DTEND;TZID=Europe/Ljubljana:20220331T120000
DTSTAMP:20260425T135046Z
UID:fmf-AFLABS-URNIK:premaknjeno-srecanje:42820
ATTENDEE:doktorski študij (M)
CATEGORIES:Entry,Standard
COLOR:darkgreen
DESCRIPTION:Predmet: Izbrana poglavja iz finančne matematike (MAT-D)\, Pr
 edavanja (P)\nLetniki: doktorski študij (M)\nIzvajalci: Oliver Dragičevi
 ć\nProstor: 2.04
LOCATION:2.04
ORGANIZER:Oliver Dragičević
RELATED-TO:fmf-AFLABS-URNIK:srecanje:7005
X-WR-TIMEZONE:Europe/Ljubljana
END:VEVENT
BEGIN:VEVENT
SUMMARY:Izbrana poglavja iz finančne matematike (MAT-D)\, Predavanja (P)
DTSTART;TZID=Europe/Ljubljana:20220407T100000
DTEND;TZID=Europe/Ljubljana:20220407T120000
DTSTAMP:20260425T135046Z
UID:fmf-AFLABS-URNIK:premaknjeno-srecanje:42821
ATTENDEE:doktorski študij (M)
CATEGORIES:Entry,Standard
COLOR:darkgreen
DESCRIPTION:Predmet: Izbrana poglavja iz finančne matematike (MAT-D)\, Pr
 edavanja (P)\nLetniki: doktorski študij (M)\nIzvajalci: Oliver Dragičevi
 ć\nProstor: 2.04
LOCATION:2.04
ORGANIZER:Oliver Dragičević
RELATED-TO:fmf-AFLABS-URNIK:srecanje:7005
X-WR-TIMEZONE:Europe/Ljubljana
END:VEVENT
BEGIN:VEVENT
SUMMARY:Izbrana poglavja iz finančne matematike (MAT-D)\, Predavanja (P)
DTSTART;TZID=Europe/Ljubljana:20220414T100000
DTEND;TZID=Europe/Ljubljana:20220414T120000
DTSTAMP:20260425T135046Z
UID:fmf-AFLABS-URNIK:premaknjeno-srecanje:42822
ATTENDEE:doktorski študij (M)
CATEGORIES:Entry,Standard
COLOR:darkgreen
DESCRIPTION:Predmet: Izbrana poglavja iz finančne matematike (MAT-D)\, Pr
 edavanja (P)\nLetniki: doktorski študij (M)\nIzvajalci: Oliver Dragičevi
 ć\nProstor: 2.04
LOCATION:2.04
ORGANIZER:Oliver Dragičević
RELATED-TO:fmf-AFLABS-URNIK:srecanje:7005
X-WR-TIMEZONE:Europe/Ljubljana
END:VEVENT
BEGIN:VEVENT
SUMMARY:Izbrana poglavja iz finančne matematike (MAT-D)\, Predavanja (P)
DTSTART;TZID=Europe/Ljubljana:20220421T100000
DTEND;TZID=Europe/Ljubljana:20220421T120000
DTSTAMP:20260425T135046Z
UID:fmf-AFLABS-URNIK:premaknjeno-srecanje:42823
ATTENDEE:doktorski študij (M)
CATEGORIES:Entry,Standard
COLOR:darkgreen
DESCRIPTION:Predmet: Izbrana poglavja iz finančne matematike (MAT-D)\, Pr
 edavanja (P)\nLetniki: doktorski študij (M)\nIzvajalci: Oliver Dragičevi
 ć\nProstor: 2.04
LOCATION:2.04
ORGANIZER:Oliver Dragičević
RELATED-TO:fmf-AFLABS-URNIK:srecanje:7005
X-WR-TIMEZONE:Europe/Ljubljana
END:VEVENT
BEGIN:VEVENT
SUMMARY:Izbrana poglavja iz finančne matematike (MAT-D)\, Predavanja (P)
DTSTART;TZID=Europe/Ljubljana:20220428T100000
DTEND;TZID=Europe/Ljubljana:20220428T120000
DTSTAMP:20260425T135046Z
UID:fmf-AFLABS-URNIK:premaknjeno-srecanje:42824
ATTENDEE:doktorski študij (M)
CATEGORIES:Entry,Standard
COLOR:darkgreen
DESCRIPTION:Predmet: Izbrana poglavja iz finančne matematike (MAT-D)\, Pr
 edavanja (P)\nLetniki: doktorski študij (M)\nIzvajalci: Oliver Dragičevi
 ć\nProstor: 2.04
LOCATION:2.04
ORGANIZER:Oliver Dragičević
RELATED-TO:fmf-AFLABS-URNIK:srecanje:7005
X-WR-TIMEZONE:Europe/Ljubljana
END:VEVENT
BEGIN:VEVENT
SUMMARY:Izbrana poglavja iz finančne matematike (MAT-D)\, Predavanja (P)
DTSTART;TZID=Europe/Ljubljana:20220505T100000
DTEND;TZID=Europe/Ljubljana:20220505T120000
DTSTAMP:20260425T135046Z
UID:fmf-AFLABS-URNIK:premaknjeno-srecanje:42825
ATTENDEE:doktorski študij (M)
CATEGORIES:Entry,Standard
COLOR:darkgreen
DESCRIPTION:Predmet: Izbrana poglavja iz finančne matematike (MAT-D)\, Pr
 edavanja (P)\nLetniki: doktorski študij (M)\nIzvajalci: Oliver Dragičevi
 ć\nProstor: 2.04
LOCATION:2.04
ORGANIZER:Oliver Dragičević
RELATED-TO:fmf-AFLABS-URNIK:srecanje:7005
X-WR-TIMEZONE:Europe/Ljubljana
END:VEVENT
BEGIN:VEVENT
SUMMARY:Izbrana poglavja iz finančne matematike (MAT-D)\, Predavanja (P)
DTSTART;TZID=Europe/Ljubljana:20220512T100000
DTEND;TZID=Europe/Ljubljana:20220512T120000
DTSTAMP:20260425T135046Z
UID:fmf-AFLABS-URNIK:premaknjeno-srecanje:42826
ATTENDEE:doktorski študij (M)
CATEGORIES:Entry,Standard
COLOR:darkgreen
DESCRIPTION:Predmet: Izbrana poglavja iz finančne matematike (MAT-D)\, Pr
 edavanja (P)\nLetniki: doktorski študij (M)\nIzvajalci: Oliver Dragičevi
 ć\nProstor: 2.04
LOCATION:2.04
ORGANIZER:Oliver Dragičević
RELATED-TO:fmf-AFLABS-URNIK:srecanje:7005
X-WR-TIMEZONE:Europe/Ljubljana
END:VEVENT
BEGIN:VEVENT
SUMMARY:Izbrana poglavja iz finančne matematike (MAT-D)\, Predavanja (P)
DTSTART;TZID=Europe/Ljubljana:20220519T100000
DTEND;TZID=Europe/Ljubljana:20220519T120000
DTSTAMP:20260425T135046Z
UID:fmf-AFLABS-URNIK:premaknjeno-srecanje:42827
ATTENDEE:doktorski študij (M)
CATEGORIES:Entry,Standard
COLOR:darkgreen
DESCRIPTION:Predmet: Izbrana poglavja iz finančne matematike (MAT-D)\, Pr
 edavanja (P)\nLetniki: doktorski študij (M)\nIzvajalci: Oliver Dragičevi
 ć\nProstor: 2.04
LOCATION:2.04
ORGANIZER:Oliver Dragičević
RELATED-TO:fmf-AFLABS-URNIK:srecanje:7005
X-WR-TIMEZONE:Europe/Ljubljana
END:VEVENT
BEGIN:VEVENT
SUMMARY:Izbrana poglavja iz finančne matematike (MAT-D)\, Predavanja (P)
DTSTART;TZID=Europe/Ljubljana:20220526T100000
DTEND;TZID=Europe/Ljubljana:20220526T120000
DTSTAMP:20260425T135046Z
UID:fmf-AFLABS-URNIK:premaknjeno-srecanje:42828
ATTENDEE:doktorski študij (M)
CATEGORIES:Entry,Standard
COLOR:darkgreen
DESCRIPTION:Predmet: Izbrana poglavja iz finančne matematike (MAT-D)\, Pr
 edavanja (P)\nLetniki: doktorski študij (M)\nIzvajalci: Oliver Dragičevi
 ć\nProstor: 2.04
LOCATION:2.04
ORGANIZER:Oliver Dragičević
RELATED-TO:fmf-AFLABS-URNIK:srecanje:7005
X-WR-TIMEZONE:Europe/Ljubljana
END:VEVENT
BEGIN:VEVENT
SUMMARY:Rezervacija
DTSTART;TZID=Europe/Ljubljana:20220216T170000
DTEND;TZID=Europe/Ljubljana:20220216T190000
DTSTAMP:20260425T135046Z
UID:fmf-AFLABS-URNIK:rezervacija:8593
CATEGORIES:Reservation
COLOR:royalblue
DESCRIPTION:Predmeti: \nLetniki: \nIzvajalci: Oliver Dragičević\nProstor
 i: 2.05
LOCATION:2.05
ORGANIZER:Oliver Dragičević
X-WR-TIMEZONE:Europe/Ljubljana
END:VEVENT
BEGIN:VEVENT
SUMMARY:Rezervacija
DTSTART;TZID=Europe/Ljubljana:20220216T170000
DTEND;TZID=Europe/Ljubljana:20220216T190000
DTSTAMP:20260425T135046Z
UID:fmf-AFLABS-URNIK:rezervacija:8594
CATEGORIES:Reservation
COLOR:royalblue
DESCRIPTION:Predmeti: \nLetniki: \nIzvajalci: Oliver Dragičević\nProstor
 i: VFP
LOCATION:VFP
ORGANIZER:Oliver Dragičević
X-WR-TIMEZONE:Europe/Ljubljana
END:VEVENT
BEGIN:VEVENT
SUMMARY:Rezervacija
DTSTART;TZID=Europe/Ljubljana:20220218T140000
DTEND;TZID=Europe/Ljubljana:20220218T160000
DTSTAMP:20260425T135046Z
UID:fmf-AFLABS-URNIK:rezervacija:8622
CATEGORIES:Reservation
COLOR:royalblue
DESCRIPTION:Predmeti: \nLetniki: \nIzvajalci: Oliver Dragičević\nProstor
 i: 2.05
LOCATION:2.05
ORGANIZER:Oliver Dragičević
X-WR-TIMEZONE:Europe/Ljubljana
END:VEVENT
BEGIN:VEVENT
SUMMARY:Rezervacija
DTSTART;TZID=Europe/Ljubljana:20220524T100000
DTEND;TZID=Europe/Ljubljana:20220524T120000
DTSTAMP:20260425T135046Z
UID:fmf-AFLABS-URNIK:rezervacija:9060
CATEGORIES:Reservation
COLOR:royalblue
DESCRIPTION:Predmeti: \nLetniki: \nIzvajalci: Oliver Dragičević\nProstor
 i: F8
LOCATION:F8
ORGANIZER:Oliver Dragičević
X-WR-TIMEZONE:Europe/Ljubljana
END:VEVENT
END:VCALENDAR
