BEGIN:VCALENDAR
VERSION:2.0
PRODID:-//AFLabs urnik izvoz - fmf//aflabs.si//SI
DTSTAMP:20260423T144420Z
NAME:UL FMF urnik
REFRESH-INTERVAL:PT1H
SOURCE:https://urnik.fmf.uni-lj.si/teacher/580?day=2021-04-19&export=1
URL:https://urnik.fmf.uni-lj.si/teacher/580?day=2021-04-19&export=1
X-PUBLISHED-TTL:PT1H
X-WR-CALNAME:UL FMF urnik
X-WR-TIMEZONE:Europe/Ljubljana
BEGIN:VTIMEZONE
TZID:Europe/Ljubljana
BEGIN:DAYLIGHT
DTSTART:20260329T020000
RDATE:20260329T020000
RDATE:20270328T020000
TZNAME:CEST
TZOFFSETFROM:+0100
TZOFFSETTO:+0200
END:DAYLIGHT
BEGIN:STANDARD
DTSTART:20261025T030000
RDATE:20261025T030000
RDATE:20271031T030000
TZNAME:CET
TZOFFSETFROM:+0200
TZOFFSETTO:+0100
END:STANDARD
END:VTIMEZONE
BEGIN:VEVENT
SUMMARY:Rezervacija
DTSTART;TZID=Europe/Ljubljana:20210329T090000
DTEND;TZID=Europe/Ljubljana:20210329T160000
DTSTAMP:20260423T144420Z
UID:fmf-AFLABS-URNIK:rezervacija:6595
CATEGORIES:Reservation
COLOR:royalblue
DESCRIPTION:Predmeti: \nLetniki: \nIzvajalci: Sergio Cabello Justo\nProsto
 ri: 2.01
LOCATION:2.01
ORGANIZER:Sergio Cabello Justo
X-WR-TIMEZONE:Europe/Ljubljana
END:VEVENT
BEGIN:VEVENT
SUMMARY:Rezervacija
DTSTART;TZID=Europe/Ljubljana:20210514T160000
DTEND;TZID=Europe/Ljubljana:20210514T190000
DTSTAMP:20260423T144420Z
UID:fmf-AFLABS-URNIK:rezervacija:6642
ATTENDEE:magistrski študij (IŠRM)
CATEGORIES:Reservation
COLOR:royalblue
DESCRIPTION:Predmeti: Računska geometrija (IŠRM-M)\nLetniki: magistrski 
 študij (IŠRM)\nIzvajalci: Sergio Cabello Justo\nProstori: 2.05
LOCATION:2.05
ORGANIZER:Sergio Cabello Justo
X-WR-TIMEZONE:Europe/Ljubljana
END:VEVENT
END:VCALENDAR
