BEGIN:VCALENDAR
VERSION:2.0
PRODID:-//AFLabs urnik izvoz - fmf//aflabs.si//SI
DTSTAMP:20260423T042657Z
NAME:UL FMF urnik
REFRESH-INTERVAL:PT1H
SOURCE:https://urnik.fmf.uni-lj.si/teacher/580?day=2021-06-07&export=1
URL:https://urnik.fmf.uni-lj.si/teacher/580?day=2021-06-07&export=1
X-PUBLISHED-TTL:PT1H
X-WR-CALNAME:UL FMF urnik
X-WR-TIMEZONE:Europe/Ljubljana
BEGIN:VTIMEZONE
TZID:Europe/Ljubljana
BEGIN:DAYLIGHT
DTSTART:20260329T020000
RDATE:20260329T020000
RDATE:20270328T020000
TZNAME:CEST
TZOFFSETFROM:+0100
TZOFFSETTO:+0200
END:DAYLIGHT
BEGIN:STANDARD
DTSTART:20261025T030000
RDATE:20261025T030000
RDATE:20271031T030000
TZNAME:CET
TZOFFSETFROM:+0200
TZOFFSETTO:+0100
END:STANDARD
END:VTIMEZONE
BEGIN:VEVENT
SUMMARY:Rezervacija
DTSTART;TZID=Europe/Ljubljana:20210514T160000
DTEND;TZID=Europe/Ljubljana:20210514T190000
DTSTAMP:20260423T042657Z
UID:fmf-AFLABS-URNIK:rezervacija:6642
ATTENDEE:magistrski študij (IŠRM)
CATEGORIES:Reservation
COLOR:royalblue
DESCRIPTION:Predmeti: Računska geometrija (IŠRM-M)\nLetniki: magistrski 
 študij (IŠRM)\nIzvajalci: Sergio Cabello Justo\nProstori: 2.05
LOCATION:2.05
ORGANIZER:Sergio Cabello Justo
X-WR-TIMEZONE:Europe/Ljubljana
END:VEVENT
BEGIN:VEVENT
SUMMARY:Rezervacija
DTSTART;TZID=Europe/Ljubljana:20210609T120000
DTEND;TZID=Europe/Ljubljana:20210609T150000
DTSTAMP:20260423T042657Z
UID:fmf-AFLABS-URNIK:rezervacija:6799
CATEGORIES:Reservation
COLOR:royalblue
DESCRIPTION:Predmeti: \nLetniki: \nIzvajalci: Sergio Cabello Justo\nProsto
 ri: 2.02
LOCATION:2.02
ORGANIZER:Sergio Cabello Justo
X-WR-TIMEZONE:Europe/Ljubljana
END:VEVENT
BEGIN:VEVENT
SUMMARY:Rezervacija
DTSTART;TZID=Europe/Ljubljana:20210616T100000
DTEND;TZID=Europe/Ljubljana:20210616T140000
DTSTAMP:20260423T042657Z
UID:fmf-AFLABS-URNIK:rezervacija:6914
CATEGORIES:Reservation
COLOR:royalblue
DESCRIPTION:Predmeti: \nLetniki: \nIzvajalci: Sergio Cabello Justo\nProsto
 ri: VFP
LOCATION:VFP
ORGANIZER:Sergio Cabello Justo
X-WR-TIMEZONE:Europe/Ljubljana
END:VEVENT
BEGIN:VEVENT
SUMMARY:Rezervacija
DTSTART;TZID=Europe/Ljubljana:20210617T100000
DTEND;TZID=Europe/Ljubljana:20210617T130000
DTSTAMP:20260423T042657Z
UID:fmf-AFLABS-URNIK:rezervacija:6935
CATEGORIES:Reservation
COLOR:royalblue
DESCRIPTION:Predmeti: \nLetniki: \nIzvajalci: Sergio Cabello Justo\nProsto
 ri: P.02
LOCATION:P.02
ORGANIZER:Sergio Cabello Justo
X-WR-TIMEZONE:Europe/Ljubljana
END:VEVENT
BEGIN:VEVENT
SUMMARY:Rezervacija
DTSTART;TZID=Europe/Ljubljana:20210622T090000
DTEND;TZID=Europe/Ljubljana:20210622T120000
DTSTAMP:20260423T042657Z
UID:fmf-AFLABS-URNIK:rezervacija:7002
CATEGORIES:Reservation
COLOR:royalblue
DESCRIPTION:Predmeti: \nLetniki: \nIzvajalci: Sergio Cabello Justo\nProsto
 ri: P.02
LOCATION:P.02
ORGANIZER:Sergio Cabello Justo
X-WR-TIMEZONE:Europe/Ljubljana
END:VEVENT
BEGIN:VEVENT
SUMMARY:Rezervacija
DTSTART;TZID=Europe/Ljubljana:20210624T080000
DTEND;TZID=Europe/Ljubljana:20210624T120000
DTSTAMP:20260423T042657Z
UID:fmf-AFLABS-URNIK:rezervacija:7041
CATEGORIES:Reservation
COLOR:royalblue
DESCRIPTION:Predmeti: \nLetniki: \nIzvajalci: Sergio Cabello Justo\nProsto
 ri: 3.12
LOCATION:3.12
ORGANIZER:Sergio Cabello Justo
X-WR-TIMEZONE:Europe/Ljubljana
END:VEVENT
BEGIN:VEVENT
SUMMARY:Rezervacija
DTSTART;TZID=Europe/Ljubljana:20210628T090000
DTEND;TZID=Europe/Ljubljana:20210628T110000
DTSTAMP:20260423T042657Z
UID:fmf-AFLABS-URNIK:rezervacija:7069
CATEGORIES:Reservation
COLOR:royalblue
DESCRIPTION:Predmeti: \nLetniki: \nIzvajalci: Sergio Cabello Justo\nProsto
 ri: 3.12
LOCATION:3.12
ORGANIZER:Sergio Cabello Justo
X-WR-TIMEZONE:Europe/Ljubljana
END:VEVENT
BEGIN:VEVENT
SUMMARY:Rezervacija
DTSTART;TZID=Europe/Ljubljana:20210629T090000
DTEND;TZID=Europe/Ljubljana:20210629T100000
DTSTAMP:20260423T042657Z
UID:fmf-AFLABS-URNIK:rezervacija:7094
CATEGORIES:Reservation
COLOR:royalblue
DESCRIPTION:Predmeti: \nLetniki: \nIzvajalci: Sergio Cabello Justo\nProsto
 ri: 3.05
LOCATION:3.05
ORGANIZER:Sergio Cabello Justo
X-WR-TIMEZONE:Europe/Ljubljana
END:VEVENT
BEGIN:VEVENT
SUMMARY:Rezervacija
DTSTART;TZID=Europe/Ljubljana:20210630T080000
DTEND;TZID=Europe/Ljubljana:20210630T100000
DTSTAMP:20260423T042657Z
UID:fmf-AFLABS-URNIK:rezervacija:7126
CATEGORIES:Reservation
COLOR:royalblue
DESCRIPTION:Predmeti: \nLetniki: \nIzvajalci: Sergio Cabello Justo\nProsto
 ri: P.01
LOCATION:P.01
ORGANIZER:Sergio Cabello Justo
X-WR-TIMEZONE:Europe/Ljubljana
END:VEVENT
BEGIN:VEVENT
SUMMARY:Rezervacija
DTSTART;TZID=Europe/Ljubljana:20210702T080000
DTEND;TZID=Europe/Ljubljana:20210702T110000
DTSTAMP:20260423T042657Z
UID:fmf-AFLABS-URNIK:rezervacija:7193
CATEGORIES:Reservation
COLOR:royalblue
DESCRIPTION:Predmeti: \nLetniki: \nIzvajalci: Sergio Cabello Justo\nProsto
 ri: 2.03
LOCATION:2.03
ORGANIZER:Sergio Cabello Justo
X-WR-TIMEZONE:Europe/Ljubljana
END:VEVENT
BEGIN:VEVENT
SUMMARY:Rezervacija
DTSTART;TZID=Europe/Ljubljana:20210706T130000
DTEND;TZID=Europe/Ljubljana:20210706T140000
DTSTAMP:20260423T042657Z
UID:fmf-AFLABS-URNIK:rezervacija:7243
CATEGORIES:Reservation
COLOR:royalblue
DESCRIPTION:Predmeti: \nLetniki: \nIzvajalci: Sergio Cabello Justo\nProsto
 ri: 3.12
LOCATION:3.12
ORGANIZER:Sergio Cabello Justo
X-WR-TIMEZONE:Europe/Ljubljana
END:VEVENT
BEGIN:VEVENT
SUMMARY:Rezervacija
DTSTART;TZID=Europe/Ljubljana:20210707T090000
DTEND;TZID=Europe/Ljubljana:20210707T130000
DTSTAMP:20260423T042657Z
UID:fmf-AFLABS-URNIK:rezervacija:7254
CATEGORIES:Reservation
COLOR:royalblue
DESCRIPTION:Predmeti: \nLetniki: \nIzvajalci: Sergio Cabello Justo\nProsto
 ri: 3.12
LOCATION:3.12
ORGANIZER:Sergio Cabello Justo
X-WR-TIMEZONE:Europe/Ljubljana
END:VEVENT
BEGIN:VEVENT
SUMMARY:Rezervacija
DTSTART;TZID=Europe/Ljubljana:20210708T090000
DTEND;TZID=Europe/Ljubljana:20210708T110000
DTSTAMP:20260423T042657Z
UID:fmf-AFLABS-URNIK:rezervacija:7269
CATEGORIES:Reservation
COLOR:royalblue
DESCRIPTION:Predmeti: \nLetniki: \nIzvajalci: Sergio Cabello Justo\nProsto
 ri: 3.12
LOCATION:3.12
ORGANIZER:Sergio Cabello Justo
X-WR-TIMEZONE:Europe/Ljubljana
END:VEVENT
BEGIN:VEVENT
SUMMARY:Rezervacija
DTSTART;TZID=Europe/Ljubljana:20210708T140000
DTEND;TZID=Europe/Ljubljana:20210708T160000
DTSTAMP:20260423T042657Z
UID:fmf-AFLABS-URNIK:rezervacija:7277
CATEGORIES:Reservation
COLOR:royalblue
DESCRIPTION:Predmeti: \nLetniki: \nIzvajalci: Sergio Cabello Justo\nProsto
 ri: 3.12
LOCATION:3.12
ORGANIZER:Sergio Cabello Justo
X-WR-TIMEZONE:Europe/Ljubljana
END:VEVENT
BEGIN:VEVENT
SUMMARY:Rezervacija
DTSTART;TZID=Europe/Ljubljana:20210709T080000
DTEND;TZID=Europe/Ljubljana:20210709T140000
DTSTAMP:20260423T042657Z
UID:fmf-AFLABS-URNIK:rezervacija:7279
CATEGORIES:Reservation
COLOR:royalblue
DESCRIPTION:Predmeti: \nLetniki: \nIzvajalci: Sergio Cabello Justo\nProsto
 ri: 3.12
LOCATION:3.12
ORGANIZER:Sergio Cabello Justo
X-WR-TIMEZONE:Europe/Ljubljana
END:VEVENT
END:VCALENDAR
