BEGIN:VCALENDAR
VERSION:2.0
PRODID:-//AFLabs urnik izvoz - fmf//aflabs.si//SI
DTSTAMP:20260422T040956Z
NAME:UL FMF urnik
REFRESH-INTERVAL:PT1H
SOURCE:https://urnik.fmf.uni-lj.si/teacher/580?day=2022-04-04&export=1
URL:https://urnik.fmf.uni-lj.si/teacher/580?day=2022-04-04&export=1
X-PUBLISHED-TTL:PT1H
X-WR-CALNAME:UL FMF urnik
X-WR-TIMEZONE:Europe/Ljubljana
BEGIN:VTIMEZONE
TZID:Europe/Ljubljana
BEGIN:DAYLIGHT
DTSTART:20260329T020000
RDATE:20260329T020000
RDATE:20270328T020000
TZNAME:CEST
TZOFFSETFROM:+0100
TZOFFSETTO:+0200
END:DAYLIGHT
BEGIN:STANDARD
DTSTART:20261025T030000
RDATE:20261025T030000
RDATE:20271031T030000
TZNAME:CET
TZOFFSETFROM:+0200
TZOFFSETTO:+0100
END:STANDARD
END:VTIMEZONE
BEGIN:VEVENT
SUMMARY:Rezervacija
DTSTART;TZID=Europe/Ljubljana:20220218T080000
DTEND;TZID=Europe/Ljubljana:20220218T090000
DTSTAMP:20260422T040956Z
UID:fmf-AFLABS-URNIK:rezervacija:8607
CATEGORIES:Reservation
COLOR:royalblue
DESCRIPTION:Predmeti: \nLetniki: \nIzvajalci: Sergio Cabello Justo\nProsto
 ri: P.01
LOCATION:P.01
ORGANIZER:Sergio Cabello Justo
X-WR-TIMEZONE:Europe/Ljubljana
END:VEVENT
BEGIN:VEVENT
SUMMARY:Rezervacija
DTSTART;TZID=Europe/Ljubljana:20220301T140000
DTEND;TZID=Europe/Ljubljana:20220301T170000
DTSTAMP:20260422T040956Z
UID:fmf-AFLABS-URNIK:rezervacija:8651
CATEGORIES:Reservation
COLOR:royalblue
DESCRIPTION:Predmeti: \nLetniki: \nIzvajalci: Sergio Cabello Justo\nProsto
 ri: 3.06
LOCATION:3.06
ORGANIZER:Sergio Cabello Justo
X-WR-TIMEZONE:Europe/Ljubljana
END:VEVENT
BEGIN:VEVENT
SUMMARY:Rezervacija
DTSTART;TZID=Europe/Ljubljana:20220301T160000
DTEND;TZID=Europe/Ljubljana:20220301T180000
DTSTAMP:20260422T040956Z
UID:fmf-AFLABS-URNIK:rezervacija:8653
ATTENDEE:5. letnik (PM)
ATTENDEE:magistrski študij (FM)
ATTENDEE:magistrski študij (M)
CATEGORIES:Reservation
COLOR:royalblue
DESCRIPTION:Predmeti: Algebraična topologija 2 (FM-M\, MAT-M\, PM-5)\nLet
 niki: magistrski študij (FM)\, magistrski študij (M)\, 5. letnik (PM)\nI
 zvajalci: Sergio Cabello Justo\nProstori: 3.04
LOCATION:3.04
ORGANIZER:Sergio Cabello Justo
X-WR-TIMEZONE:Europe/Ljubljana
END:VEVENT
BEGIN:VEVENT
SUMMARY:Rezervacija
DTSTART;TZID=Europe/Ljubljana:20220317T100000
DTEND;TZID=Europe/Ljubljana:20220317T120000
DTSTAMP:20260422T040956Z
UID:fmf-AFLABS-URNIK:rezervacija:8728
CATEGORIES:Reservation
COLOR:royalblue
DESCRIPTION:Predmeti: \nLetniki: \nIzvajalci: Sergio Cabello Justo\nProsto
 ri: 3.07
LOCATION:3.07
ORGANIZER:Sergio Cabello Justo
X-WR-TIMEZONE:Europe/Ljubljana
END:VEVENT
END:VCALENDAR
