BEGIN:VCALENDAR
VERSION:2.0
PRODID:-//AFLabs urnik izvoz - fmf//aflabs.si//SI
DTSTAMP:20260425T135221Z
NAME:UL FMF urnik
REFRESH-INTERVAL:PT1H
SOURCE:https://urnik.fmf.uni-lj.si/teacher/589?day=2021-08-16&export=1
URL:https://urnik.fmf.uni-lj.si/teacher/589?day=2021-08-16&export=1
X-PUBLISHED-TTL:PT1H
X-WR-CALNAME:UL FMF urnik
X-WR-TIMEZONE:Europe/Ljubljana
BEGIN:VTIMEZONE
TZID:Europe/Ljubljana
BEGIN:DAYLIGHT
DTSTART:20260329T020000
RDATE:20260329T020000
RDATE:20270328T020000
TZNAME:CEST
TZOFFSETFROM:+0100
TZOFFSETTO:+0200
END:DAYLIGHT
BEGIN:STANDARD
DTSTART:20261025T030000
RDATE:20261025T030000
RDATE:20271031T030000
TZNAME:CET
TZOFFSETFROM:+0200
TZOFFSETTO:+0100
END:STANDARD
END:VTIMEZONE
BEGIN:VEVENT
SUMMARY:Rezervacija
DTSTART;TZID=Europe/Ljubljana:20210818T100000
DTEND;TZID=Europe/Ljubljana:20210818T120000
DTSTAMP:20260425T135221Z
UID:fmf-AFLABS-URNIK:rezervacija:7388
ATTENDEE:3. letnik (FM)
ATTENDEE:3. letnik (IŠRM)
ATTENDEE:3. letnik (M)
ATTENDEE:4. letnik (PM)
CATEGORIES:Reservation
COLOR:royalblue
DESCRIPTION:Predmeti: Matematično modeliranje (FM-3\, IŠRM-3\, MAT-3\, P
 M-4)\nLetniki: 3. letnik (FM)\, 3. letnik (IŠRM)\, 3. letnik (M)\, 4. let
 nik (PM)\nIzvajalci: Tadej Kanduč\nProstori: 3.11
LOCATION:3.11
ORGANIZER:Tadej Kanduč
X-WR-TIMEZONE:Europe/Ljubljana
END:VEVENT
BEGIN:VEVENT
SUMMARY:Rezervacija
DTSTART;TZID=Europe/Ljubljana:20210818T120000
DTEND;TZID=Europe/Ljubljana:20210818T140000
DTSTAMP:20260425T135221Z
UID:fmf-AFLABS-URNIK:rezervacija:7394
ATTENDEE:2. letnik (APM)
CATEGORIES:Reservation
COLOR:royalblue
DESCRIPTION:Predmeti: Numerične metode 1 (APM-2)\nLetniki: 2. letnik (APM
 )\nIzvajalci: Tadej Kanduč\nProstori: 3.06
LOCATION:3.06
ORGANIZER:Tadej Kanduč
X-WR-TIMEZONE:Europe/Ljubljana
END:VEVENT
BEGIN:VEVENT
SUMMARY:Rezervacija
DTSTART;TZID=Europe/Ljubljana:20210819T100000
DTEND;TZID=Europe/Ljubljana:20210819T120000
DTSTAMP:20260425T135221Z
UID:fmf-AFLABS-URNIK:rezervacija:7406
ATTENDEE:5. letnik (PM)
ATTENDEE:magistrski študij (FM)
ATTENDEE:magistrski študij (IŠRM)
ATTENDEE:magistrski študij (M)
CATEGORIES:Reservation
COLOR:royalblue
DESCRIPTION:Predmeti: Iterativne numerične metode v linearni algebri / Iz
 brana poglavja iz numerične matematike (FM-M\, IŠRM-M\, MAT-M\, PM-5)\nL
 etniki: magistrski študij (FM)\, magistrski študij (IŠRM)\, magistrski 
 študij (M)\, 5. letnik (PM)\nIzvajalci: Tadej Kanduč\nProstori: 3.06
LOCATION:3.06
ORGANIZER:Tadej Kanduč
X-WR-TIMEZONE:Europe/Ljubljana
END:VEVENT
BEGIN:VEVENT
SUMMARY:Rezervacija
DTSTART;TZID=Europe/Ljubljana:20210820T100000
DTEND;TZID=Europe/Ljubljana:20210820T120000
DTSTAMP:20260425T135221Z
UID:fmf-AFLABS-URNIK:rezervacija:7426
ATTENDEE:3. letnik (M)
ATTENDEE:4. letnik (PM)
CATEGORIES:Reservation
COLOR:royalblue
DESCRIPTION:Predmeti: Numerična linearna algebra (MAT-3\, PM-4)\nLetniki:
  3. letnik (M)\, 4. letnik (PM)\nIzvajalci: Tadej Kanduč\nProstori: 3.04
LOCATION:3.04
ORGANIZER:Tadej Kanduč
X-WR-TIMEZONE:Europe/Ljubljana
END:VEVENT
BEGIN:VEVENT
SUMMARY:Rezervacija
DTSTART;TZID=Europe/Ljubljana:20210826T100000
DTEND;TZID=Europe/Ljubljana:20210826T120000
DTSTAMP:20260425T135221Z
UID:fmf-AFLABS-URNIK:rezervacija:7511
ATTENDEE:2. letnik (FM)
CATEGORIES:Reservation
COLOR:royalblue
DESCRIPTION:Predmeti: Numerične metode 1 (FM-2)\nLetniki: 2. letnik (FM)\
 nIzvajalci: Tadej Kanduč\nProstori: 3.05
LOCATION:3.05
ORGANIZER:Tadej Kanduč
X-WR-TIMEZONE:Europe/Ljubljana
END:VEVENT
BEGIN:VEVENT
SUMMARY:Rezervacija
DTSTART;TZID=Europe/Ljubljana:20210831T100000
DTEND;TZID=Europe/Ljubljana:20210831T120000
DTSTAMP:20260425T135221Z
UID:fmf-AFLABS-URNIK:rezervacija:7592
ATTENDEE:3. letnik (FM)
ATTENDEE:3. letnik (IŠRM)
ATTENDEE:3. letnik (M)
ATTENDEE:4. letnik (PM)
CATEGORIES:Reservation
COLOR:royalblue
DESCRIPTION:Predmeti: Matematično modeliranje (FM-3\, IŠRM-3\, MAT-3\, P
 M-4)\nLetniki: 3. letnik (FM)\, 3. letnik (IŠRM)\, 3. letnik (M)\, 4. let
 nik (PM)\nIzvajalci: Tadej Kanduč\nProstori: 3.11
LOCATION:3.11
ORGANIZER:Tadej Kanduč
X-WR-TIMEZONE:Europe/Ljubljana
END:VEVENT
BEGIN:VEVENT
SUMMARY:Rezervacija
DTSTART;TZID=Europe/Ljubljana:20210901T100000
DTEND;TZID=Europe/Ljubljana:20210901T120000
DTSTAMP:20260425T135221Z
UID:fmf-AFLABS-URNIK:rezervacija:7610
ATTENDEE:2. letnik (FM)
ATTENDEE:3. letnik (IŠRM)
CATEGORIES:Reservation
COLOR:royalblue
DESCRIPTION:Predmeti: Numerične metode 2 (FM-2\, IŠRM-3)\nLetniki: 2. le
 tnik (FM)\, 3. letnik (IŠRM)\nIzvajalci: Tadej Kanduč\nProstori: 3.04
LOCATION:3.04
ORGANIZER:Tadej Kanduč
X-WR-TIMEZONE:Europe/Ljubljana
END:VEVENT
BEGIN:VEVENT
SUMMARY:Rezervacija
DTSTART;TZID=Europe/Ljubljana:20210903T100000
DTEND;TZID=Europe/Ljubljana:20210903T120000
DTSTAMP:20260425T135221Z
UID:fmf-AFLABS-URNIK:rezervacija:7665
ATTENDEE:3. letnik (M)
ATTENDEE:4. letnik (PM)
CATEGORIES:Reservation
COLOR:royalblue
DESCRIPTION:Predmeti: Numerična linearna algebra (MAT-3\, PM-4)\nLetniki:
  3. letnik (M)\, 4. letnik (PM)\nIzvajalci: Tadej Kanduč\nProstori: 3.05
LOCATION:3.05
ORGANIZER:Tadej Kanduč
X-WR-TIMEZONE:Europe/Ljubljana
END:VEVENT
BEGIN:VEVENT
SUMMARY:Rezervacija
DTSTART;TZID=Europe/Ljubljana:20210906T100000
DTEND;TZID=Europe/Ljubljana:20210906T120000
DTSTAMP:20260425T135221Z
UID:fmf-AFLABS-URNIK:rezervacija:7695
ATTENDEE:3. letnik (APM)
CATEGORIES:Reservation
COLOR:royalblue
DESCRIPTION:Predmeti: Matematično modeliranje (APM-3)\nLetniki: 3. letnik
  (APM)\nIzvajalci: Tadej Kanduč\nProstori: 3.11
LOCATION:3.11
ORGANIZER:Tadej Kanduč
X-WR-TIMEZONE:Europe/Ljubljana
END:VEVENT
END:VCALENDAR
