BEGIN:VCALENDAR
VERSION:2.0
PRODID:-//AFLabs urnik izvoz - fmf//aflabs.si//SI
DTSTAMP:20260425T143541Z
NAME:UL FMF urnik
REFRESH-INTERVAL:PT1H
SOURCE:https://urnik.fmf.uni-lj.si/teacher/591?day=2023-01-02&export=1
URL:https://urnik.fmf.uni-lj.si/teacher/591?day=2023-01-02&export=1
X-PUBLISHED-TTL:PT1H
X-WR-CALNAME:UL FMF urnik
X-WR-TIMEZONE:Europe/Ljubljana
BEGIN:VTIMEZONE
TZID:Europe/Ljubljana
BEGIN:DAYLIGHT
DTSTART:20260329T020000
RDATE:20260329T020000
RDATE:20270328T020000
TZNAME:CEST
TZOFFSETFROM:+0100
TZOFFSETTO:+0200
END:DAYLIGHT
BEGIN:STANDARD
DTSTART:20261025T030000
RDATE:20261025T030000
RDATE:20271031T030000
TZNAME:CET
TZOFFSETFROM:+0200
TZOFFSETTO:+0100
END:STANDARD
END:VTIMEZONE
BEGIN:VEVENT
SUMMARY:Organizacija in struktura trga (FM-3)\, Predavanja (P)
DTSTART;TZID=Europe/Ljubljana:20221004T080000
DTEND;TZID=Europe/Ljubljana:20221004T100000
DTSTAMP:20260425T143541Z
UID:fmf-AFLABS-URNIK:premaknjeno-srecanje:81119
ATTENDEE:3. letnik (FM)
CATEGORIES:Entry,Standard
COLOR:darkgreen
DESCRIPTION:Predmet: Organizacija in struktura trga (FM-3)\, Predavanja (P
 )\nLetniki: 3. letnik (FM)\nIzvajalci: Matej zzz Švigelj\nProstor: 3.04
LOCATION:3.04
ORGANIZER:Matej zzz Švigelj
RELATED-TO:fmf-AFLABS-URNIK:srecanje:7872
X-WR-TIMEZONE:Europe/Ljubljana
END:VEVENT
BEGIN:VEVENT
SUMMARY:Organizacija in struktura trga (FM-3)\, Predavanja (P)
DTSTART;TZID=Europe/Ljubljana:20221011T080000
DTEND;TZID=Europe/Ljubljana:20221011T100000
DTSTAMP:20260425T143541Z
UID:fmf-AFLABS-URNIK:premaknjeno-srecanje:81120
ATTENDEE:3. letnik (FM)
CATEGORIES:Entry,Standard
COLOR:darkgreen
DESCRIPTION:Predmet: Organizacija in struktura trga (FM-3)\, Predavanja (P
 )\nLetniki: 3. letnik (FM)\nIzvajalci: Matej zzz Švigelj\nProstor: 3.04
LOCATION:3.04
ORGANIZER:Matej zzz Švigelj
RELATED-TO:fmf-AFLABS-URNIK:srecanje:7872
X-WR-TIMEZONE:Europe/Ljubljana
END:VEVENT
BEGIN:VEVENT
SUMMARY:Organizacija in struktura trga (FM-3)\, Predavanja (P)
DTSTART;TZID=Europe/Ljubljana:20221018T080000
DTEND;TZID=Europe/Ljubljana:20221018T100000
DTSTAMP:20260425T143541Z
UID:fmf-AFLABS-URNIK:premaknjeno-srecanje:81121
ATTENDEE:3. letnik (FM)
CATEGORIES:Entry,Standard
COLOR:darkgreen
DESCRIPTION:Predmet: Organizacija in struktura trga (FM-3)\, Predavanja (P
 )\nLetniki: 3. letnik (FM)\nIzvajalci: Matej zzz Švigelj\nProstor: 3.04
LOCATION:3.04
ORGANIZER:Matej zzz Švigelj
RELATED-TO:fmf-AFLABS-URNIK:srecanje:7872
X-WR-TIMEZONE:Europe/Ljubljana
END:VEVENT
BEGIN:VEVENT
SUMMARY:Organizacija in struktura trga (FM-3)\, Predavanja (P)
DTSTART;TZID=Europe/Ljubljana:20221025T080000
DTEND;TZID=Europe/Ljubljana:20221025T100000
DTSTAMP:20260425T143541Z
UID:fmf-AFLABS-URNIK:premaknjeno-srecanje:81122
ATTENDEE:3. letnik (FM)
CATEGORIES:Entry,Standard
COLOR:darkgreen
DESCRIPTION:Predmet: Organizacija in struktura trga (FM-3)\, Predavanja (P
 )\nLetniki: 3. letnik (FM)\nIzvajalci: Matej zzz Švigelj\nProstor: 3.04
LOCATION:3.04
ORGANIZER:Matej zzz Švigelj
RELATED-TO:fmf-AFLABS-URNIK:srecanje:7872
X-WR-TIMEZONE:Europe/Ljubljana
END:VEVENT
BEGIN:VEVENT
SUMMARY:Organizacija in struktura trga (FM-3)\, Predavanja (P)
DTSTART;TZID=Europe/Ljubljana:20221101T080000
DTEND;TZID=Europe/Ljubljana:20221101T100000
DTSTAMP:20260425T143541Z
UID:fmf-AFLABS-URNIK:premaknjeno-srecanje:81123
ATTENDEE:3. letnik (FM)
CATEGORIES:Entry,Standard
COLOR:darkgreen
DESCRIPTION:Predmet: Organizacija in struktura trga (FM-3)\, Predavanja (P
 )\nLetniki: 3. letnik (FM)\nIzvajalci: Matej zzz Švigelj\nProstor: 3.04
LOCATION:3.04
ORGANIZER:Matej zzz Švigelj
RELATED-TO:fmf-AFLABS-URNIK:srecanje:7872
X-WR-TIMEZONE:Europe/Ljubljana
END:VEVENT
BEGIN:VEVENT
SUMMARY:Organizacija in struktura trga (FM-3)\, Predavanja (P)
DTSTART;TZID=Europe/Ljubljana:20221108T080000
DTEND;TZID=Europe/Ljubljana:20221108T100000
DTSTAMP:20260425T143541Z
UID:fmf-AFLABS-URNIK:premaknjeno-srecanje:81124
ATTENDEE:3. letnik (FM)
CATEGORIES:Entry,Standard
COLOR:darkgreen
DESCRIPTION:Predmet: Organizacija in struktura trga (FM-3)\, Predavanja (P
 )\nLetniki: 3. letnik (FM)\nIzvajalci: Matej zzz Švigelj\nProstor: 3.04
LOCATION:3.04
ORGANIZER:Matej zzz Švigelj
RELATED-TO:fmf-AFLABS-URNIK:srecanje:7872
X-WR-TIMEZONE:Europe/Ljubljana
END:VEVENT
BEGIN:VEVENT
SUMMARY:Organizacija in struktura trga (FM-3)\, Predavanja (P)
DTSTART;TZID=Europe/Ljubljana:20221115T080000
DTEND;TZID=Europe/Ljubljana:20221115T100000
DTSTAMP:20260425T143541Z
UID:fmf-AFLABS-URNIK:premaknjeno-srecanje:81125
ATTENDEE:3. letnik (FM)
CATEGORIES:Entry,Standard
COLOR:darkgreen
DESCRIPTION:Predmet: Organizacija in struktura trga (FM-3)\, Predavanja (P
 )\nLetniki: 3. letnik (FM)\nIzvajalci: Matej zzz Švigelj\nProstor: 3.04
LOCATION:3.04
ORGANIZER:Matej zzz Švigelj
RELATED-TO:fmf-AFLABS-URNIK:srecanje:7872
X-WR-TIMEZONE:Europe/Ljubljana
END:VEVENT
BEGIN:VEVENT
SUMMARY:Organizacija in struktura trga (FM-3)\, Predavanja (P)
DTSTART;TZID=Europe/Ljubljana:20221122T080000
DTEND;TZID=Europe/Ljubljana:20221122T100000
DTSTAMP:20260425T143541Z
UID:fmf-AFLABS-URNIK:premaknjeno-srecanje:81126
ATTENDEE:3. letnik (FM)
CATEGORIES:Entry,Standard
COLOR:darkgreen
DESCRIPTION:Predmet: Organizacija in struktura trga (FM-3)\, Predavanja (P
 )\nLetniki: 3. letnik (FM)\nIzvajalci: Matej zzz Švigelj\nProstor: 3.04
LOCATION:3.04
ORGANIZER:Matej zzz Švigelj
RELATED-TO:fmf-AFLABS-URNIK:srecanje:7872
X-WR-TIMEZONE:Europe/Ljubljana
END:VEVENT
BEGIN:VEVENT
SUMMARY:Organizacija in struktura trga (FM-3)\, Predavanja (P)
DTSTART;TZID=Europe/Ljubljana:20221129T080000
DTEND;TZID=Europe/Ljubljana:20221129T100000
DTSTAMP:20260425T143541Z
UID:fmf-AFLABS-URNIK:premaknjeno-srecanje:81127
ATTENDEE:3. letnik (FM)
CATEGORIES:Entry,Standard
COLOR:darkgreen
DESCRIPTION:Predmet: Organizacija in struktura trga (FM-3)\, Predavanja (P
 )\nLetniki: 3. letnik (FM)\nIzvajalci: Matej zzz Švigelj\nProstor: 3.04
LOCATION:3.04
ORGANIZER:Matej zzz Švigelj
RELATED-TO:fmf-AFLABS-URNIK:srecanje:7872
X-WR-TIMEZONE:Europe/Ljubljana
END:VEVENT
BEGIN:VEVENT
SUMMARY:Organizacija in struktura trga (FM-3)\, Predavanja (P)
DTSTART;TZID=Europe/Ljubljana:20221206T080000
DTEND;TZID=Europe/Ljubljana:20221206T100000
DTSTAMP:20260425T143541Z
UID:fmf-AFLABS-URNIK:premaknjeno-srecanje:81128
ATTENDEE:3. letnik (FM)
CATEGORIES:Entry,Standard
COLOR:darkgreen
DESCRIPTION:Predmet: Organizacija in struktura trga (FM-3)\, Predavanja (P
 )\nLetniki: 3. letnik (FM)\nIzvajalci: Matej zzz Švigelj\nProstor: 3.04
LOCATION:3.04
ORGANIZER:Matej zzz Švigelj
RELATED-TO:fmf-AFLABS-URNIK:srecanje:7872
X-WR-TIMEZONE:Europe/Ljubljana
END:VEVENT
BEGIN:VEVENT
SUMMARY:Organizacija in struktura trga (FM-3)\, Predavanja (P)
DTSTART;TZID=Europe/Ljubljana:20221213T080000
DTEND;TZID=Europe/Ljubljana:20221213T100000
DTSTAMP:20260425T143541Z
UID:fmf-AFLABS-URNIK:premaknjeno-srecanje:81129
ATTENDEE:3. letnik (FM)
CATEGORIES:Entry,Standard
COLOR:darkgreen
DESCRIPTION:Predmet: Organizacija in struktura trga (FM-3)\, Predavanja (P
 )\nLetniki: 3. letnik (FM)\nIzvajalci: Matej zzz Švigelj\nProstor: 3.04
LOCATION:3.04
ORGANIZER:Matej zzz Švigelj
RELATED-TO:fmf-AFLABS-URNIK:srecanje:7872
X-WR-TIMEZONE:Europe/Ljubljana
END:VEVENT
BEGIN:VEVENT
SUMMARY:Organizacija in struktura trga (FM-3)\, Predavanja (P)
DTSTART;TZID=Europe/Ljubljana:20221220T080000
DTEND;TZID=Europe/Ljubljana:20221220T100000
DTSTAMP:20260425T143541Z
UID:fmf-AFLABS-URNIK:premaknjeno-srecanje:81130
ATTENDEE:3. letnik (FM)
CATEGORIES:Entry,Standard
COLOR:darkgreen
DESCRIPTION:Predmet: Organizacija in struktura trga (FM-3)\, Predavanja (P
 )\nLetniki: 3. letnik (FM)\nIzvajalci: Matej zzz Švigelj\nProstor: 3.04
LOCATION:3.04
ORGANIZER:Matej zzz Švigelj
RELATED-TO:fmf-AFLABS-URNIK:srecanje:7872
X-WR-TIMEZONE:Europe/Ljubljana
END:VEVENT
BEGIN:VEVENT
SUMMARY:Organizacija in struktura trga (FM-3)\, Predavanja (P)
DTSTART;TZID=Europe/Ljubljana:20221227T080000
DTEND;TZID=Europe/Ljubljana:20221227T100000
DTSTAMP:20260425T143541Z
UID:fmf-AFLABS-URNIK:premaknjeno-srecanje:81131
ATTENDEE:3. letnik (FM)
CATEGORIES:Entry,Standard
COLOR:darkgreen
DESCRIPTION:Predmet: Organizacija in struktura trga (FM-3)\, Predavanja (P
 )\nLetniki: 3. letnik (FM)\nIzvajalci: Matej zzz Švigelj\nProstor: 3.04
LOCATION:3.04
ORGANIZER:Matej zzz Švigelj
RELATED-TO:fmf-AFLABS-URNIK:srecanje:7872
X-WR-TIMEZONE:Europe/Ljubljana
END:VEVENT
BEGIN:VEVENT
SUMMARY:Organizacija in struktura trga (FM-3)\, Predavanja (P)
DTSTART;TZID=Europe/Ljubljana:20230103T080000
DTEND;TZID=Europe/Ljubljana:20230103T100000
DTSTAMP:20260425T143541Z
UID:fmf-AFLABS-URNIK:premaknjeno-srecanje:81132
ATTENDEE:3. letnik (FM)
CATEGORIES:Entry,Standard
COLOR:darkgreen
DESCRIPTION:Predmet: Organizacija in struktura trga (FM-3)\, Predavanja (P
 )\nLetniki: 3. letnik (FM)\nIzvajalci: Matej zzz Švigelj\nProstor: 3.04
LOCATION:3.04
ORGANIZER:Matej zzz Švigelj
RELATED-TO:fmf-AFLABS-URNIK:srecanje:7872
X-WR-TIMEZONE:Europe/Ljubljana
END:VEVENT
BEGIN:VEVENT
SUMMARY:Organizacija in struktura trga (FM-3)\, Predavanja (P)
DTSTART;TZID=Europe/Ljubljana:20230110T080000
DTEND;TZID=Europe/Ljubljana:20230110T100000
DTSTAMP:20260425T143541Z
UID:fmf-AFLABS-URNIK:premaknjeno-srecanje:81133
ATTENDEE:3. letnik (FM)
CATEGORIES:Entry,Standard
COLOR:darkgreen
DESCRIPTION:Predmet: Organizacija in struktura trga (FM-3)\, Predavanja (P
 )\nLetniki: 3. letnik (FM)\nIzvajalci: Matej zzz Švigelj\nProstor: 3.04
LOCATION:3.04
ORGANIZER:Matej zzz Švigelj
RELATED-TO:fmf-AFLABS-URNIK:srecanje:7872
X-WR-TIMEZONE:Europe/Ljubljana
END:VEVENT
END:VCALENDAR
