BEGIN:VCALENDAR
VERSION:2.0
PRODID:-//AFLabs urnik izvoz - fmf//aflabs.si//SI
DTSTAMP:20260421T042024Z
NAME:UL FMF urnik
REFRESH-INTERVAL:PT1H
SOURCE:https://urnik.fmf.uni-lj.si/teacher/5?day=2023-04-24&export=1
URL:https://urnik.fmf.uni-lj.si/teacher/5?day=2023-04-24&export=1
X-PUBLISHED-TTL:PT1H
X-WR-CALNAME:UL FMF urnik
X-WR-TIMEZONE:Europe/Ljubljana
BEGIN:VTIMEZONE
TZID:Europe/Ljubljana
BEGIN:DAYLIGHT
DTSTART:20260329T020000
RDATE:20260329T020000
RDATE:20270328T020000
TZNAME:CEST
TZOFFSETFROM:+0100
TZOFFSETTO:+0200
END:DAYLIGHT
BEGIN:STANDARD
DTSTART:20261025T030000
RDATE:20261025T030000
RDATE:20271031T030000
TZNAME:CET
TZOFFSETFROM:+0200
TZOFFSETTO:+0100
END:STANDARD
END:VTIMEZONE
BEGIN:VEVENT
SUMMARY:Govorilna ura ()\, Predavanja (P)
DTSTART;TZID=Europe/Ljubljana:20230215T080000
DTEND;TZID=Europe/Ljubljana:20230215T100000
DTSTAMP:20260421T042024Z
UID:fmf-AFLABS-URNIK:premaknjeno-srecanje:40884
CATEGORIES:Entry,Standard
COLOR:darkgreen
DESCRIPTION:Predmet: Govorilna ura ()\, Predavanja (P)\nLetniki: \nIzvajal
 ci: Dušan Repovš\nProstor: 5.09
LOCATION:5.09
ORGANIZER:Dušan Repovš
RELATED-TO:fmf-AFLABS-URNIK:srecanje:8404
X-WR-TIMEZONE:Europe/Ljubljana
END:VEVENT
BEGIN:VEVENT
SUMMARY:Govorilna ura ()\, Predavanja (P)
DTSTART;TZID=Europe/Ljubljana:20230222T080000
DTEND;TZID=Europe/Ljubljana:20230222T100000
DTSTAMP:20260421T042024Z
UID:fmf-AFLABS-URNIK:premaknjeno-srecanje:40885
CATEGORIES:Entry,Standard
COLOR:darkgreen
DESCRIPTION:Predmet: Govorilna ura ()\, Predavanja (P)\nLetniki: \nIzvajal
 ci: Dušan Repovš\nProstor: 5.09
LOCATION:5.09
ORGANIZER:Dušan Repovš
RELATED-TO:fmf-AFLABS-URNIK:srecanje:8404
X-WR-TIMEZONE:Europe/Ljubljana
END:VEVENT
BEGIN:VEVENT
SUMMARY:Govorilna ura ()\, Predavanja (P)
DTSTART;TZID=Europe/Ljubljana:20230301T080000
DTEND;TZID=Europe/Ljubljana:20230301T100000
DTSTAMP:20260421T042024Z
UID:fmf-AFLABS-URNIK:premaknjeno-srecanje:40886
CATEGORIES:Entry,Standard
COLOR:darkgreen
DESCRIPTION:Predmet: Govorilna ura ()\, Predavanja (P)\nLetniki: \nIzvajal
 ci: Dušan Repovš\nProstor: 5.09
LOCATION:5.09
ORGANIZER:Dušan Repovš
RELATED-TO:fmf-AFLABS-URNIK:srecanje:8404
X-WR-TIMEZONE:Europe/Ljubljana
END:VEVENT
BEGIN:VEVENT
SUMMARY:Govorilna ura ()\, Predavanja (P)
DTSTART;TZID=Europe/Ljubljana:20230308T080000
DTEND;TZID=Europe/Ljubljana:20230308T100000
DTSTAMP:20260421T042024Z
UID:fmf-AFLABS-URNIK:premaknjeno-srecanje:40887
CATEGORIES:Entry,Standard
COLOR:darkgreen
DESCRIPTION:Predmet: Govorilna ura ()\, Predavanja (P)\nLetniki: \nIzvajal
 ci: Dušan Repovš\nProstor: 5.09
LOCATION:5.09
ORGANIZER:Dušan Repovš
RELATED-TO:fmf-AFLABS-URNIK:srecanje:8404
X-WR-TIMEZONE:Europe/Ljubljana
END:VEVENT
BEGIN:VEVENT
SUMMARY:Govorilna ura ()\, Predavanja (P)
DTSTART;TZID=Europe/Ljubljana:20230315T080000
DTEND;TZID=Europe/Ljubljana:20230315T100000
DTSTAMP:20260421T042024Z
UID:fmf-AFLABS-URNIK:premaknjeno-srecanje:40888
CATEGORIES:Entry,Standard
COLOR:darkgreen
DESCRIPTION:Predmet: Govorilna ura ()\, Predavanja (P)\nLetniki: \nIzvajal
 ci: Dušan Repovš\nProstor: 5.09
LOCATION:5.09
ORGANIZER:Dušan Repovš
RELATED-TO:fmf-AFLABS-URNIK:srecanje:8404
X-WR-TIMEZONE:Europe/Ljubljana
END:VEVENT
BEGIN:VEVENT
SUMMARY:Govorilna ura ()\, Predavanja (P)
DTSTART;TZID=Europe/Ljubljana:20230322T080000
DTEND;TZID=Europe/Ljubljana:20230322T100000
DTSTAMP:20260421T042024Z
UID:fmf-AFLABS-URNIK:premaknjeno-srecanje:40889
CATEGORIES:Entry,Standard
COLOR:darkgreen
DESCRIPTION:Predmet: Govorilna ura ()\, Predavanja (P)\nLetniki: \nIzvajal
 ci: Dušan Repovš\nProstor: 5.09
LOCATION:5.09
ORGANIZER:Dušan Repovš
RELATED-TO:fmf-AFLABS-URNIK:srecanje:8404
X-WR-TIMEZONE:Europe/Ljubljana
END:VEVENT
BEGIN:VEVENT
SUMMARY:Govorilna ura ()\, Predavanja (P)
DTSTART;TZID=Europe/Ljubljana:20230329T080000
DTEND;TZID=Europe/Ljubljana:20230329T100000
DTSTAMP:20260421T042024Z
UID:fmf-AFLABS-URNIK:premaknjeno-srecanje:40890
CATEGORIES:Entry,Standard
COLOR:darkgreen
DESCRIPTION:Predmet: Govorilna ura ()\, Predavanja (P)\nLetniki: \nIzvajal
 ci: Dušan Repovš\nProstor: 5.09
LOCATION:5.09
ORGANIZER:Dušan Repovš
RELATED-TO:fmf-AFLABS-URNIK:srecanje:8404
X-WR-TIMEZONE:Europe/Ljubljana
END:VEVENT
BEGIN:VEVENT
SUMMARY:Govorilna ura ()\, Predavanja (P)
DTSTART;TZID=Europe/Ljubljana:20230405T080000
DTEND;TZID=Europe/Ljubljana:20230405T100000
DTSTAMP:20260421T042024Z
UID:fmf-AFLABS-URNIK:premaknjeno-srecanje:40891
CATEGORIES:Entry,Standard
COLOR:darkgreen
DESCRIPTION:Predmet: Govorilna ura ()\, Predavanja (P)\nLetniki: \nIzvajal
 ci: Dušan Repovš\nProstor: 5.09
LOCATION:5.09
ORGANIZER:Dušan Repovš
RELATED-TO:fmf-AFLABS-URNIK:srecanje:8404
X-WR-TIMEZONE:Europe/Ljubljana
END:VEVENT
BEGIN:VEVENT
SUMMARY:Govorilna ura ()\, Predavanja (P)
DTSTART;TZID=Europe/Ljubljana:20230412T080000
DTEND;TZID=Europe/Ljubljana:20230412T100000
DTSTAMP:20260421T042024Z
UID:fmf-AFLABS-URNIK:premaknjeno-srecanje:40892
CATEGORIES:Entry,Standard
COLOR:darkgreen
DESCRIPTION:Predmet: Govorilna ura ()\, Predavanja (P)\nLetniki: \nIzvajal
 ci: Dušan Repovš\nProstor: 5.09
LOCATION:5.09
ORGANIZER:Dušan Repovš
RELATED-TO:fmf-AFLABS-URNIK:srecanje:8404
X-WR-TIMEZONE:Europe/Ljubljana
END:VEVENT
BEGIN:VEVENT
SUMMARY:Govorilna ura ()\, Predavanja (P)
DTSTART;TZID=Europe/Ljubljana:20230419T080000
DTEND;TZID=Europe/Ljubljana:20230419T100000
DTSTAMP:20260421T042024Z
UID:fmf-AFLABS-URNIK:premaknjeno-srecanje:40893
CATEGORIES:Entry,Standard
COLOR:darkgreen
DESCRIPTION:Predmet: Govorilna ura ()\, Predavanja (P)\nLetniki: \nIzvajal
 ci: Dušan Repovš\nProstor: 5.09
LOCATION:5.09
ORGANIZER:Dušan Repovš
RELATED-TO:fmf-AFLABS-URNIK:srecanje:8404
X-WR-TIMEZONE:Europe/Ljubljana
END:VEVENT
BEGIN:VEVENT
SUMMARY:Govorilna ura ()\, Predavanja (P)
DTSTART;TZID=Europe/Ljubljana:20230426T080000
DTEND;TZID=Europe/Ljubljana:20230426T100000
DTSTAMP:20260421T042024Z
UID:fmf-AFLABS-URNIK:premaknjeno-srecanje:40894
CATEGORIES:Entry,Standard
COLOR:darkgreen
DESCRIPTION:Predmet: Govorilna ura ()\, Predavanja (P)\nLetniki: \nIzvajal
 ci: Dušan Repovš\nProstor: 5.09
LOCATION:5.09
ORGANIZER:Dušan Repovš
RELATED-TO:fmf-AFLABS-URNIK:srecanje:8404
X-WR-TIMEZONE:Europe/Ljubljana
END:VEVENT
BEGIN:VEVENT
SUMMARY:Govorilna ura ()\, Predavanja (P)
DTSTART;TZID=Europe/Ljubljana:20230503T080000
DTEND;TZID=Europe/Ljubljana:20230503T100000
DTSTAMP:20260421T042024Z
UID:fmf-AFLABS-URNIK:premaknjeno-srecanje:40895
CATEGORIES:Entry,Standard
COLOR:darkgreen
DESCRIPTION:Predmet: Govorilna ura ()\, Predavanja (P)\nLetniki: \nIzvajal
 ci: Dušan Repovš\nProstor: 5.09
LOCATION:5.09
ORGANIZER:Dušan Repovš
RELATED-TO:fmf-AFLABS-URNIK:srecanje:8404
X-WR-TIMEZONE:Europe/Ljubljana
END:VEVENT
BEGIN:VEVENT
SUMMARY:Govorilna ura ()\, Predavanja (P)
DTSTART;TZID=Europe/Ljubljana:20230510T080000
DTEND;TZID=Europe/Ljubljana:20230510T100000
DTSTAMP:20260421T042024Z
UID:fmf-AFLABS-URNIK:premaknjeno-srecanje:40896
CATEGORIES:Entry,Standard
COLOR:darkgreen
DESCRIPTION:Predmet: Govorilna ura ()\, Predavanja (P)\nLetniki: \nIzvajal
 ci: Dušan Repovš\nProstor: 5.09
LOCATION:5.09
ORGANIZER:Dušan Repovš
RELATED-TO:fmf-AFLABS-URNIK:srecanje:8404
X-WR-TIMEZONE:Europe/Ljubljana
END:VEVENT
BEGIN:VEVENT
SUMMARY:Govorilna ura ()\, Predavanja (P)
DTSTART;TZID=Europe/Ljubljana:20230517T080000
DTEND;TZID=Europe/Ljubljana:20230517T100000
DTSTAMP:20260421T042024Z
UID:fmf-AFLABS-URNIK:premaknjeno-srecanje:40897
CATEGORIES:Entry,Standard
COLOR:darkgreen
DESCRIPTION:Predmet: Govorilna ura ()\, Predavanja (P)\nLetniki: \nIzvajal
 ci: Dušan Repovš\nProstor: 5.09
LOCATION:5.09
ORGANIZER:Dušan Repovš
RELATED-TO:fmf-AFLABS-URNIK:srecanje:8404
X-WR-TIMEZONE:Europe/Ljubljana
END:VEVENT
BEGIN:VEVENT
SUMMARY:Govorilna ura ()\, Predavanja (P)
DTSTART;TZID=Europe/Ljubljana:20230524T080000
DTEND;TZID=Europe/Ljubljana:20230524T100000
DTSTAMP:20260421T042024Z
UID:fmf-AFLABS-URNIK:premaknjeno-srecanje:40898
CATEGORIES:Entry,Standard
COLOR:darkgreen
DESCRIPTION:Predmet: Govorilna ura ()\, Predavanja (P)\nLetniki: \nIzvajal
 ci: Dušan Repovš\nProstor: 5.09
LOCATION:5.09
ORGANIZER:Dušan Repovš
RELATED-TO:fmf-AFLABS-URNIK:srecanje:8404
X-WR-TIMEZONE:Europe/Ljubljana
END:VEVENT
BEGIN:VEVENT
SUMMARY:Govorilna ura ()\, Predavanja (P)
DTSTART;TZID=Europe/Ljubljana:20230531T080000
DTEND;TZID=Europe/Ljubljana:20230531T100000
DTSTAMP:20260421T042024Z
UID:fmf-AFLABS-URNIK:premaknjeno-srecanje:40899
CATEGORIES:Entry,Standard
COLOR:darkgreen
DESCRIPTION:Predmet: Govorilna ura ()\, Predavanja (P)\nLetniki: \nIzvajal
 ci: Dušan Repovš\nProstor: 5.09
LOCATION:5.09
ORGANIZER:Dušan Repovš
RELATED-TO:fmf-AFLABS-URNIK:srecanje:8404
X-WR-TIMEZONE:Europe/Ljubljana
END:VEVENT
BEGIN:VEVENT
SUMMARY:Seminar za geometrijsko topologijo (MAT-D)\, Seminar (S)
DTSTART;TZID=Europe/Ljubljana:20230215T100000
DTEND;TZID=Europe/Ljubljana:20230215T120000
DTSTAMP:20260421T042024Z
UID:fmf-AFLABS-URNIK:premaknjeno-srecanje:102620
ATTENDEE:doktorski študij (M)
CATEGORIES:Entry,Standard
COLOR:darkgreen
DESCRIPTION:Predmet: Seminar za geometrijsko topologijo (MAT-D)\, Seminar 
 (S)\nLetniki: doktorski študij (M)\nIzvajalci: Dušan Repovš\nProstor: 3
 .07
LOCATION:3.07
ORGANIZER:Dušan Repovš
RELATED-TO:fmf-AFLABS-URNIK:srecanje:8722
X-WR-TIMEZONE:Europe/Ljubljana
END:VEVENT
BEGIN:VEVENT
SUMMARY:Seminar za geometrijsko topologijo (MAT-D)\, Seminar (S)
DTSTART;TZID=Europe/Ljubljana:20230222T100000
DTEND;TZID=Europe/Ljubljana:20230222T120000
DTSTAMP:20260421T042024Z
UID:fmf-AFLABS-URNIK:premaknjeno-srecanje:102621
ATTENDEE:doktorski študij (M)
CATEGORIES:Entry,Standard
COLOR:darkgreen
DESCRIPTION:Predmet: Seminar za geometrijsko topologijo (MAT-D)\, Seminar 
 (S)\nLetniki: doktorski študij (M)\nIzvajalci: Dušan Repovš\nProstor: 3
 .07
LOCATION:3.07
ORGANIZER:Dušan Repovš
RELATED-TO:fmf-AFLABS-URNIK:srecanje:8722
X-WR-TIMEZONE:Europe/Ljubljana
END:VEVENT
BEGIN:VEVENT
SUMMARY:Seminar za geometrijsko topologijo (MAT-D)\, Seminar (S)
DTSTART;TZID=Europe/Ljubljana:20230301T100000
DTEND;TZID=Europe/Ljubljana:20230301T120000
DTSTAMP:20260421T042024Z
UID:fmf-AFLABS-URNIK:premaknjeno-srecanje:102622
ATTENDEE:doktorski študij (M)
CATEGORIES:Entry,Standard
COLOR:darkgreen
DESCRIPTION:Predmet: Seminar za geometrijsko topologijo (MAT-D)\, Seminar 
 (S)\nLetniki: doktorski študij (M)\nIzvajalci: Dušan Repovš\nProstor: 3
 .07
LOCATION:3.07
ORGANIZER:Dušan Repovš
RELATED-TO:fmf-AFLABS-URNIK:srecanje:8722
X-WR-TIMEZONE:Europe/Ljubljana
END:VEVENT
BEGIN:VEVENT
SUMMARY:Seminar za geometrijsko topologijo (MAT-D)\, Seminar (S)
DTSTART;TZID=Europe/Ljubljana:20230308T100000
DTEND;TZID=Europe/Ljubljana:20230308T120000
DTSTAMP:20260421T042024Z
UID:fmf-AFLABS-URNIK:premaknjeno-srecanje:102623
ATTENDEE:doktorski študij (M)
CATEGORIES:Entry,Standard
COLOR:darkgreen
DESCRIPTION:Predmet: Seminar za geometrijsko topologijo (MAT-D)\, Seminar 
 (S)\nLetniki: doktorski študij (M)\nIzvajalci: Dušan Repovš\nProstor: 3
 .07
LOCATION:3.07
ORGANIZER:Dušan Repovš
RELATED-TO:fmf-AFLABS-URNIK:srecanje:8722
X-WR-TIMEZONE:Europe/Ljubljana
END:VEVENT
BEGIN:VEVENT
SUMMARY:Seminar za geometrijsko topologijo (MAT-D)\, Seminar (S)
DTSTART;TZID=Europe/Ljubljana:20230315T100000
DTEND;TZID=Europe/Ljubljana:20230315T120000
DTSTAMP:20260421T042024Z
UID:fmf-AFLABS-URNIK:premaknjeno-srecanje:102624
ATTENDEE:doktorski študij (M)
CATEGORIES:Entry,Standard
COLOR:darkgreen
DESCRIPTION:Predmet: Seminar za geometrijsko topologijo (MAT-D)\, Seminar 
 (S)\nLetniki: doktorski študij (M)\nIzvajalci: Dušan Repovš\nProstor: 3
 .07
LOCATION:3.07
ORGANIZER:Dušan Repovš
RELATED-TO:fmf-AFLABS-URNIK:srecanje:8722
X-WR-TIMEZONE:Europe/Ljubljana
END:VEVENT
BEGIN:VEVENT
SUMMARY:Seminar za geometrijsko topologijo (MAT-D)\, Seminar (S)
DTSTART;TZID=Europe/Ljubljana:20230322T100000
DTEND;TZID=Europe/Ljubljana:20230322T120000
DTSTAMP:20260421T042024Z
UID:fmf-AFLABS-URNIK:premaknjeno-srecanje:102625
ATTENDEE:doktorski študij (M)
CATEGORIES:Entry,Standard
COLOR:darkgreen
DESCRIPTION:Predmet: Seminar za geometrijsko topologijo (MAT-D)\, Seminar 
 (S)\nLetniki: doktorski študij (M)\nIzvajalci: Dušan Repovš\nProstor: 3
 .07
LOCATION:3.07
ORGANIZER:Dušan Repovš
RELATED-TO:fmf-AFLABS-URNIK:srecanje:8722
X-WR-TIMEZONE:Europe/Ljubljana
END:VEVENT
BEGIN:VEVENT
SUMMARY:Seminar za geometrijsko topologijo (MAT-D)\, Seminar (S)
DTSTART;TZID=Europe/Ljubljana:20230329T100000
DTEND;TZID=Europe/Ljubljana:20230329T120000
DTSTAMP:20260421T042024Z
UID:fmf-AFLABS-URNIK:premaknjeno-srecanje:102626
ATTENDEE:doktorski študij (M)
CATEGORIES:Entry,Standard
COLOR:darkgreen
DESCRIPTION:Predmet: Seminar za geometrijsko topologijo (MAT-D)\, Seminar 
 (S)\nLetniki: doktorski študij (M)\nIzvajalci: Dušan Repovš\nProstor: 3
 .07
LOCATION:3.07
ORGANIZER:Dušan Repovš
RELATED-TO:fmf-AFLABS-URNIK:srecanje:8722
X-WR-TIMEZONE:Europe/Ljubljana
END:VEVENT
BEGIN:VEVENT
SUMMARY:Seminar za geometrijsko topologijo (MAT-D)\, Seminar (S)
DTSTART;TZID=Europe/Ljubljana:20230405T100000
DTEND;TZID=Europe/Ljubljana:20230405T120000
DTSTAMP:20260421T042024Z
UID:fmf-AFLABS-URNIK:premaknjeno-srecanje:102627
ATTENDEE:doktorski študij (M)
CATEGORIES:Entry,Standard
COLOR:darkgreen
DESCRIPTION:Predmet: Seminar za geometrijsko topologijo (MAT-D)\, Seminar 
 (S)\nLetniki: doktorski študij (M)\nIzvajalci: Dušan Repovš\nProstor: 3
 .07
LOCATION:3.07
ORGANIZER:Dušan Repovš
RELATED-TO:fmf-AFLABS-URNIK:srecanje:8722
X-WR-TIMEZONE:Europe/Ljubljana
END:VEVENT
BEGIN:VEVENT
SUMMARY:Seminar za geometrijsko topologijo (MAT-D)\, Seminar (S)
DTSTART;TZID=Europe/Ljubljana:20230412T100000
DTEND;TZID=Europe/Ljubljana:20230412T120000
DTSTAMP:20260421T042024Z
UID:fmf-AFLABS-URNIK:premaknjeno-srecanje:102628
ATTENDEE:doktorski študij (M)
CATEGORIES:Entry,Standard
COLOR:darkgreen
DESCRIPTION:Predmet: Seminar za geometrijsko topologijo (MAT-D)\, Seminar 
 (S)\nLetniki: doktorski študij (M)\nIzvajalci: Dušan Repovš\nProstor: 3
 .07
LOCATION:3.07
ORGANIZER:Dušan Repovš
RELATED-TO:fmf-AFLABS-URNIK:srecanje:8722
X-WR-TIMEZONE:Europe/Ljubljana
END:VEVENT
BEGIN:VEVENT
SUMMARY:Seminar za geometrijsko topologijo (MAT-D)\, Seminar (S)
DTSTART;TZID=Europe/Ljubljana:20230419T100000
DTEND;TZID=Europe/Ljubljana:20230419T120000
DTSTAMP:20260421T042024Z
UID:fmf-AFLABS-URNIK:premaknjeno-srecanje:102629
ATTENDEE:doktorski študij (M)
CATEGORIES:Entry,Standard
COLOR:darkgreen
DESCRIPTION:Predmet: Seminar za geometrijsko topologijo (MAT-D)\, Seminar 
 (S)\nLetniki: doktorski študij (M)\nIzvajalci: Dušan Repovš\nProstor: 3
 .07
LOCATION:3.07
ORGANIZER:Dušan Repovš
RELATED-TO:fmf-AFLABS-URNIK:srecanje:8722
X-WR-TIMEZONE:Europe/Ljubljana
END:VEVENT
BEGIN:VEVENT
SUMMARY:Seminar za geometrijsko topologijo (MAT-D)\, Seminar (S)
DTSTART;TZID=Europe/Ljubljana:20230426T100000
DTEND;TZID=Europe/Ljubljana:20230426T120000
DTSTAMP:20260421T042024Z
UID:fmf-AFLABS-URNIK:premaknjeno-srecanje:102630
ATTENDEE:doktorski študij (M)
CATEGORIES:Entry,Standard
COLOR:darkgreen
DESCRIPTION:Predmet: Seminar za geometrijsko topologijo (MAT-D)\, Seminar 
 (S)\nLetniki: doktorski študij (M)\nIzvajalci: Dušan Repovš\nProstor: 3
 .07
LOCATION:3.07
ORGANIZER:Dušan Repovš
RELATED-TO:fmf-AFLABS-URNIK:srecanje:8722
X-WR-TIMEZONE:Europe/Ljubljana
END:VEVENT
BEGIN:VEVENT
SUMMARY:Seminar za geometrijsko topologijo (MAT-D)\, Seminar (S)
DTSTART;TZID=Europe/Ljubljana:20230503T100000
DTEND;TZID=Europe/Ljubljana:20230503T120000
DTSTAMP:20260421T042024Z
UID:fmf-AFLABS-URNIK:premaknjeno-srecanje:102631
ATTENDEE:doktorski študij (M)
CATEGORIES:Entry,Standard
COLOR:darkgreen
DESCRIPTION:Predmet: Seminar za geometrijsko topologijo (MAT-D)\, Seminar 
 (S)\nLetniki: doktorski študij (M)\nIzvajalci: Dušan Repovš\nProstor: 3
 .07
LOCATION:3.07
ORGANIZER:Dušan Repovš
RELATED-TO:fmf-AFLABS-URNIK:srecanje:8722
X-WR-TIMEZONE:Europe/Ljubljana
END:VEVENT
BEGIN:VEVENT
SUMMARY:Seminar za geometrijsko topologijo (MAT-D)\, Seminar (S)
DTSTART;TZID=Europe/Ljubljana:20230510T100000
DTEND;TZID=Europe/Ljubljana:20230510T120000
DTSTAMP:20260421T042024Z
UID:fmf-AFLABS-URNIK:premaknjeno-srecanje:102632
ATTENDEE:doktorski študij (M)
CATEGORIES:Entry,Standard
COLOR:darkgreen
DESCRIPTION:Predmet: Seminar za geometrijsko topologijo (MAT-D)\, Seminar 
 (S)\nLetniki: doktorski študij (M)\nIzvajalci: Dušan Repovš\nProstor: 3
 .07
LOCATION:3.07
ORGANIZER:Dušan Repovš
RELATED-TO:fmf-AFLABS-URNIK:srecanje:8722
X-WR-TIMEZONE:Europe/Ljubljana
END:VEVENT
BEGIN:VEVENT
SUMMARY:Seminar za geometrijsko topologijo (MAT-D)\, Seminar (S)
DTSTART;TZID=Europe/Ljubljana:20230517T100000
DTEND;TZID=Europe/Ljubljana:20230517T120000
DTSTAMP:20260421T042024Z
UID:fmf-AFLABS-URNIK:premaknjeno-srecanje:102633
ATTENDEE:doktorski študij (M)
CATEGORIES:Entry,Standard
COLOR:darkgreen
DESCRIPTION:Predmet: Seminar za geometrijsko topologijo (MAT-D)\, Seminar 
 (S)\nLetniki: doktorski študij (M)\nIzvajalci: Dušan Repovš\nProstor: 3
 .07
LOCATION:3.07
ORGANIZER:Dušan Repovš
RELATED-TO:fmf-AFLABS-URNIK:srecanje:8722
X-WR-TIMEZONE:Europe/Ljubljana
END:VEVENT
BEGIN:VEVENT
SUMMARY:Seminar za geometrijsko topologijo (MAT-D)\, Seminar (S)
DTSTART;TZID=Europe/Ljubljana:20230524T100000
DTEND;TZID=Europe/Ljubljana:20230524T120000
DTSTAMP:20260421T042024Z
UID:fmf-AFLABS-URNIK:premaknjeno-srecanje:102634
ATTENDEE:doktorski študij (M)
CATEGORIES:Entry,Standard
COLOR:darkgreen
DESCRIPTION:Predmet: Seminar za geometrijsko topologijo (MAT-D)\, Seminar 
 (S)\nLetniki: doktorski študij (M)\nIzvajalci: Dušan Repovš\nProstor: 3
 .07
LOCATION:3.07
ORGANIZER:Dušan Repovš
RELATED-TO:fmf-AFLABS-URNIK:srecanje:8722
X-WR-TIMEZONE:Europe/Ljubljana
END:VEVENT
BEGIN:VEVENT
SUMMARY:Seminar za geometrijsko topologijo (MAT-D)\, Seminar (S)
DTSTART;TZID=Europe/Ljubljana:20230531T100000
DTEND;TZID=Europe/Ljubljana:20230531T120000
DTSTAMP:20260421T042024Z
UID:fmf-AFLABS-URNIK:premaknjeno-srecanje:102635
ATTENDEE:doktorski študij (M)
CATEGORIES:Entry,Standard
COLOR:darkgreen
DESCRIPTION:Predmet: Seminar za geometrijsko topologijo (MAT-D)\, Seminar 
 (S)\nLetniki: doktorski študij (M)\nIzvajalci: Dušan Repovš\nProstor: 3
 .07
LOCATION:3.07
ORGANIZER:Dušan Repovš
RELATED-TO:fmf-AFLABS-URNIK:srecanje:8722
X-WR-TIMEZONE:Europe/Ljubljana
END:VEVENT
END:VCALENDAR
