BEGIN:VCALENDAR
VERSION:2.0
PRODID:-//AFLabs urnik izvoz - fmf//aflabs.si//SI
DTSTAMP:20260423T070514Z
NAME:UL FMF urnik
REFRESH-INTERVAL:PT1H
SOURCE:https://urnik.fmf.uni-lj.si/teacher/602?day=2022-01-17&export=1
URL:https://urnik.fmf.uni-lj.si/teacher/602?day=2022-01-17&export=1
X-PUBLISHED-TTL:PT1H
X-WR-CALNAME:UL FMF urnik
X-WR-TIMEZONE:Europe/Ljubljana
BEGIN:VTIMEZONE
TZID:Europe/Ljubljana
BEGIN:DAYLIGHT
DTSTART:20260329T020000
RDATE:20260329T020000
RDATE:20270328T020000
TZNAME:CEST
TZOFFSETFROM:+0100
TZOFFSETTO:+0200
END:DAYLIGHT
BEGIN:STANDARD
DTSTART:20261025T030000
RDATE:20261025T030000
RDATE:20271031T030000
TZNAME:CET
TZOFFSETFROM:+0200
TZOFFSETTO:+0100
END:STANDARD
END:VTIMEZONE
BEGIN:VEVENT
SUMMARY:Fizikalni praktikum III (FIZ-2)\, Laboratorijske vaje (L)\, [3]
DTSTART;TZID=Europe/Ljubljana:20211215T150000
DTEND;TZID=Europe/Ljubljana:20211215T180000
DTSTAMP:20260423T070514Z
UID:fmf-AFLABS-URNIK:premaknjeno-srecanje:35868
ATTENDEE:2. letnik (Fizika, 1. stopnja)
CATEGORIES:Entry,Standard
COLOR:darkgreen
DESCRIPTION:Predmet: Fizikalni praktikum III (FIZ-2)\, Laboratorijske vaje
  (L)\, [3]\nLetniki: 2. letnik (Fizika\, 1. stopnja)\nIzvajalci: Tilen Bre
 celj\nProstor: Praktikum 2
LOCATION:Praktikum 2
ORGANIZER:Tilen Brecelj
RELATED-TO:fmf-AFLABS-URNIK:srecanje:6279
X-WR-TIMEZONE:Europe/Ljubljana
END:VEVENT
BEGIN:VEVENT
SUMMARY:Fizikalni praktikum III (FIZ-2)\, Laboratorijske vaje (L)\, [3]
DTSTART;TZID=Europe/Ljubljana:20211222T150000
DTEND;TZID=Europe/Ljubljana:20211222T180000
DTSTAMP:20260423T070514Z
UID:fmf-AFLABS-URNIK:premaknjeno-srecanje:35869
ATTENDEE:2. letnik (Fizika, 1. stopnja)
CATEGORIES:Entry,Standard
COLOR:darkgreen
DESCRIPTION:Predmet: Fizikalni praktikum III (FIZ-2)\, Laboratorijske vaje
  (L)\, [3]\nLetniki: 2. letnik (Fizika\, 1. stopnja)\nIzvajalci: Tilen Bre
 celj\nProstor: Praktikum 2
LOCATION:Praktikum 2
ORGANIZER:Tilen Brecelj
RELATED-TO:fmf-AFLABS-URNIK:srecanje:6279
X-WR-TIMEZONE:Europe/Ljubljana
END:VEVENT
BEGIN:VEVENT
SUMMARY:Fizikalni praktikum III (FIZ-2)\, Laboratorijske vaje (L)\, [3]
DTSTART;TZID=Europe/Ljubljana:20211229T150000
DTEND;TZID=Europe/Ljubljana:20211229T180000
DTSTAMP:20260423T070514Z
UID:fmf-AFLABS-URNIK:premaknjeno-srecanje:35870
ATTENDEE:2. letnik (Fizika, 1. stopnja)
CATEGORIES:Entry,Standard
COLOR:darkgreen
DESCRIPTION:Predmet: Fizikalni praktikum III (FIZ-2)\, Laboratorijske vaje
  (L)\, [3]\nLetniki: 2. letnik (Fizika\, 1. stopnja)\nIzvajalci: Tilen Bre
 celj\nProstor: Praktikum 2
LOCATION:Praktikum 2
ORGANIZER:Tilen Brecelj
RELATED-TO:fmf-AFLABS-URNIK:srecanje:6279
X-WR-TIMEZONE:Europe/Ljubljana
END:VEVENT
BEGIN:VEVENT
SUMMARY:Fizikalni praktikum III (FIZ-2)\, Laboratorijske vaje (L)\, [3]
DTSTART;TZID=Europe/Ljubljana:20220105T150000
DTEND;TZID=Europe/Ljubljana:20220105T180000
DTSTAMP:20260423T070514Z
UID:fmf-AFLABS-URNIK:premaknjeno-srecanje:35871
ATTENDEE:2. letnik (Fizika, 1. stopnja)
CATEGORIES:Entry,Standard
COLOR:darkgreen
DESCRIPTION:Predmet: Fizikalni praktikum III (FIZ-2)\, Laboratorijske vaje
  (L)\, [3]\nLetniki: 2. letnik (Fizika\, 1. stopnja)\nIzvajalci: Tilen Bre
 celj\nProstor: Praktikum 2
LOCATION:Praktikum 2
ORGANIZER:Tilen Brecelj
RELATED-TO:fmf-AFLABS-URNIK:srecanje:6279
X-WR-TIMEZONE:Europe/Ljubljana
END:VEVENT
BEGIN:VEVENT
SUMMARY:Fizikalni praktikum III (FIZ-2)\, Laboratorijske vaje (L)\, [3]
DTSTART;TZID=Europe/Ljubljana:20220112T150000
DTEND;TZID=Europe/Ljubljana:20220112T180000
DTSTAMP:20260423T070514Z
UID:fmf-AFLABS-URNIK:premaknjeno-srecanje:35872
ATTENDEE:2. letnik (Fizika, 1. stopnja)
CATEGORIES:Entry,Standard
COLOR:darkgreen
DESCRIPTION:Predmet: Fizikalni praktikum III (FIZ-2)\, Laboratorijske vaje
  (L)\, [3]\nLetniki: 2. letnik (Fizika\, 1. stopnja)\nIzvajalci: Tilen Bre
 celj\nProstor: Praktikum 2
LOCATION:Praktikum 2
ORGANIZER:Tilen Brecelj
RELATED-TO:fmf-AFLABS-URNIK:srecanje:6279
X-WR-TIMEZONE:Europe/Ljubljana
END:VEVENT
BEGIN:VEVENT
SUMMARY:Fizikalni praktikum IV (FIZ-2)\, Laboratorijske vaje (L)\, [1]
DTSTART;TZID=Europe/Ljubljana:20220214T150000
DTEND;TZID=Europe/Ljubljana:20220214T180000
DTSTAMP:20260423T070514Z
UID:fmf-AFLABS-URNIK:premaknjeno-srecanje:36332
ATTENDEE:2. letnik (Fizika, 1. stopnja)
CATEGORIES:Entry,Standard
COLOR:darkgreen
DESCRIPTION:Predmet: Fizikalni praktikum IV (FIZ-2)\, Laboratorijske vaje 
 (L)\, [1]\nLetniki: 2. letnik (Fizika\, 1. stopnja)\nIzvajalci: Tilen Brec
 elj\nProstor: Praktikum 2
LOCATION:Praktikum 2
ORGANIZER:Tilen Brecelj
RELATED-TO:fmf-AFLABS-URNIK:srecanje:6964
X-WR-TIMEZONE:Europe/Ljubljana
END:VEVENT
BEGIN:VEVENT
SUMMARY:Fizikalni praktikum IV (FIZ-2)\, Laboratorijske vaje (L)\, [1]
DTSTART;TZID=Europe/Ljubljana:20220221T150000
DTEND;TZID=Europe/Ljubljana:20220221T180000
DTSTAMP:20260423T070514Z
UID:fmf-AFLABS-URNIK:premaknjeno-srecanje:36333
ATTENDEE:2. letnik (Fizika, 1. stopnja)
CATEGORIES:Entry,Standard
COLOR:darkgreen
DESCRIPTION:Predmet: Fizikalni praktikum IV (FIZ-2)\, Laboratorijske vaje 
 (L)\, [1]\nLetniki: 2. letnik (Fizika\, 1. stopnja)\nIzvajalci: Tilen Brec
 elj\nProstor: Praktikum 2
LOCATION:Praktikum 2
ORGANIZER:Tilen Brecelj
RELATED-TO:fmf-AFLABS-URNIK:srecanje:6964
X-WR-TIMEZONE:Europe/Ljubljana
END:VEVENT
BEGIN:VEVENT
SUMMARY:Rezervacija
DTSTART;TZID=Europe/Ljubljana:20211220T160000
DTEND;TZID=Europe/Ljubljana:20211220T190000
DTSTAMP:20260423T070514Z
UID:fmf-AFLABS-URNIK:rezervacija:8142
CATEGORIES:Reservation
COLOR:royalblue
DESCRIPTION:Predmeti: \nLetniki: \nIzvajalci: Tilen Brecelj\nProstori: F7
LOCATION:F7
ORGANIZER:Tilen Brecelj
X-WR-TIMEZONE:Europe/Ljubljana
END:VEVENT
BEGIN:VEVENT
SUMMARY:Rezervacija
DTSTART;TZID=Europe/Ljubljana:20220110T150000
DTEND;TZID=Europe/Ljubljana:20220110T180000
DTSTAMP:20260423T070514Z
UID:fmf-AFLABS-URNIK:rezervacija:8205
CATEGORIES:Reservation
COLOR:royalblue
DESCRIPTION:Predmeti: \nLetniki: \nIzvajalci: Tilen Brecelj\nProstori: Pra
 ktikum 104
LOCATION:Praktikum 104
ORGANIZER:Tilen Brecelj
X-WR-TIMEZONE:Europe/Ljubljana
END:VEVENT
END:VCALENDAR
