BEGIN:VCALENDAR
VERSION:2.0
PRODID:-//AFLabs urnik izvoz - fmf//aflabs.si//SI
DTSTAMP:20260425T114143Z
NAME:UL FMF urnik
REFRESH-INTERVAL:PT1H
SOURCE:https://urnik.fmf.uni-lj.si/teacher/603?day=2021-12-06&export=1
URL:https://urnik.fmf.uni-lj.si/teacher/603?day=2021-12-06&export=1
X-PUBLISHED-TTL:PT1H
X-WR-CALNAME:UL FMF urnik
X-WR-TIMEZONE:Europe/Ljubljana
BEGIN:VTIMEZONE
TZID:Europe/Ljubljana
BEGIN:DAYLIGHT
DTSTART:20260329T020000
RDATE:20260329T020000
RDATE:20270328T020000
TZNAME:CEST
TZOFFSETFROM:+0100
TZOFFSETTO:+0200
END:DAYLIGHT
BEGIN:STANDARD
DTSTART:20261025T030000
RDATE:20261025T030000
RDATE:20271031T030000
TZNAME:CET
TZOFFSETFROM:+0200
TZOFFSETTO:+0100
END:STANDARD
END:VTIMEZONE
BEGIN:VEVENT
SUMMARY:Moderna fizika I (FIZ-2)\, Vaje (V)\, [2]
DTSTART;TZID=Europe/Ljubljana:20211005T080000
DTEND;TZID=Europe/Ljubljana:20211005T100000
DTSTAMP:20260425T114143Z
UID:fmf-AFLABS-URNIK:premaknjeno-srecanje:74706
ATTENDEE:2. letnik (Fizika, 1. stopnja)
CATEGORIES:Entry,Standard
COLOR:darkgreen
DESCRIPTION:Predmet: Moderna fizika I (FIZ-2)\, Vaje (V)\, [2]\nLetniki: 2
 . letnik (Fizika\, 1. stopnja)\nIzvajalci: Matej Kanduč\nProstor: 3.06
LOCATION:3.06
ORGANIZER:Matej Kanduč
RELATED-TO:fmf-AFLABS-URNIK:srecanje:6457
X-WR-TIMEZONE:Europe/Ljubljana
END:VEVENT
BEGIN:VEVENT
SUMMARY:Moderna fizika I (FIZ-2)\, Vaje (V)\, [2]
DTSTART;TZID=Europe/Ljubljana:20211012T080000
DTEND;TZID=Europe/Ljubljana:20211012T100000
DTSTAMP:20260425T114143Z
UID:fmf-AFLABS-URNIK:premaknjeno-srecanje:74707
ATTENDEE:2. letnik (Fizika, 1. stopnja)
CATEGORIES:Entry,Standard
COLOR:darkgreen
DESCRIPTION:Predmet: Moderna fizika I (FIZ-2)\, Vaje (V)\, [2]\nLetniki: 2
 . letnik (Fizika\, 1. stopnja)\nIzvajalci: Matej Kanduč\nProstor: 3.06
LOCATION:3.06
ORGANIZER:Matej Kanduč
RELATED-TO:fmf-AFLABS-URNIK:srecanje:6457
X-WR-TIMEZONE:Europe/Ljubljana
END:VEVENT
BEGIN:VEVENT
SUMMARY:Moderna fizika I (FIZ-2)\, Vaje (V)\, [2]
DTSTART;TZID=Europe/Ljubljana:20211019T080000
DTEND;TZID=Europe/Ljubljana:20211019T100000
DTSTAMP:20260425T114143Z
UID:fmf-AFLABS-URNIK:premaknjeno-srecanje:74708
ATTENDEE:2. letnik (Fizika, 1. stopnja)
CATEGORIES:Entry,Standard
COLOR:darkgreen
DESCRIPTION:Predmet: Moderna fizika I (FIZ-2)\, Vaje (V)\, [2]\nLetniki: 2
 . letnik (Fizika\, 1. stopnja)\nIzvajalci: Matej Kanduč\nProstor: 3.06
LOCATION:3.06
ORGANIZER:Matej Kanduč
RELATED-TO:fmf-AFLABS-URNIK:srecanje:6457
X-WR-TIMEZONE:Europe/Ljubljana
END:VEVENT
BEGIN:VEVENT
SUMMARY:Moderna fizika I (FIZ-2)\, Vaje (V)\, [2]
DTSTART;TZID=Europe/Ljubljana:20211026T080000
DTEND;TZID=Europe/Ljubljana:20211026T100000
DTSTAMP:20260425T114143Z
UID:fmf-AFLABS-URNIK:premaknjeno-srecanje:74709
ATTENDEE:2. letnik (Fizika, 1. stopnja)
CATEGORIES:Entry,Standard
COLOR:darkgreen
DESCRIPTION:Predmet: Moderna fizika I (FIZ-2)\, Vaje (V)\, [2]\nLetniki: 2
 . letnik (Fizika\, 1. stopnja)\nIzvajalci: Matej Kanduč\nProstor: 3.06
LOCATION:3.06
ORGANIZER:Matej Kanduč
RELATED-TO:fmf-AFLABS-URNIK:srecanje:6457
X-WR-TIMEZONE:Europe/Ljubljana
END:VEVENT
BEGIN:VEVENT
SUMMARY:Moderna fizika I (FIZ-2)\, Vaje (V)\, [2]
DTSTART;TZID=Europe/Ljubljana:20211102T080000
DTEND;TZID=Europe/Ljubljana:20211102T100000
DTSTAMP:20260425T114143Z
UID:fmf-AFLABS-URNIK:premaknjeno-srecanje:74710
ATTENDEE:2. letnik (Fizika, 1. stopnja)
CATEGORIES:Entry,Standard
COLOR:darkgreen
DESCRIPTION:Predmet: Moderna fizika I (FIZ-2)\, Vaje (V)\, [2]\nLetniki: 2
 . letnik (Fizika\, 1. stopnja)\nIzvajalci: Matej Kanduč\nProstor: 3.06
LOCATION:3.06
ORGANIZER:Matej Kanduč
RELATED-TO:fmf-AFLABS-URNIK:srecanje:6457
X-WR-TIMEZONE:Europe/Ljubljana
END:VEVENT
BEGIN:VEVENT
SUMMARY:Moderna fizika I (FIZ-2)\, Vaje (V)\, [2]
DTSTART;TZID=Europe/Ljubljana:20211109T080000
DTEND;TZID=Europe/Ljubljana:20211109T100000
DTSTAMP:20260425T114143Z
UID:fmf-AFLABS-URNIK:premaknjeno-srecanje:74711
ATTENDEE:2. letnik (Fizika, 1. stopnja)
CATEGORIES:Entry,Standard
COLOR:darkgreen
DESCRIPTION:Predmet: Moderna fizika I (FIZ-2)\, Vaje (V)\, [2]\nLetniki: 2
 . letnik (Fizika\, 1. stopnja)\nIzvajalci: Matej Kanduč\nProstor: 3.06
LOCATION:3.06
ORGANIZER:Matej Kanduč
RELATED-TO:fmf-AFLABS-URNIK:srecanje:6457
X-WR-TIMEZONE:Europe/Ljubljana
END:VEVENT
BEGIN:VEVENT
SUMMARY:Moderna fizika I (FIZ-2)\, Vaje (V)\, [2]
DTSTART;TZID=Europe/Ljubljana:20211116T080000
DTEND;TZID=Europe/Ljubljana:20211116T100000
DTSTAMP:20260425T114143Z
UID:fmf-AFLABS-URNIK:premaknjeno-srecanje:74712
ATTENDEE:2. letnik (Fizika, 1. stopnja)
CATEGORIES:Entry,Standard
COLOR:darkgreen
DESCRIPTION:Predmet: Moderna fizika I (FIZ-2)\, Vaje (V)\, [2]\nLetniki: 2
 . letnik (Fizika\, 1. stopnja)\nIzvajalci: Matej Kanduč\nProstor: 3.06
LOCATION:3.06
ORGANIZER:Matej Kanduč
RELATED-TO:fmf-AFLABS-URNIK:srecanje:6457
X-WR-TIMEZONE:Europe/Ljubljana
END:VEVENT
BEGIN:VEVENT
SUMMARY:Moderna fizika I (FIZ-2)\, Vaje (V)\, [2]
DTSTART;TZID=Europe/Ljubljana:20211123T080000
DTEND;TZID=Europe/Ljubljana:20211123T100000
DTSTAMP:20260425T114143Z
UID:fmf-AFLABS-URNIK:premaknjeno-srecanje:74713
ATTENDEE:2. letnik (Fizika, 1. stopnja)
CATEGORIES:Entry,Standard
COLOR:darkgreen
DESCRIPTION:Predmet: Moderna fizika I (FIZ-2)\, Vaje (V)\, [2]\nLetniki: 2
 . letnik (Fizika\, 1. stopnja)\nIzvajalci: Matej Kanduč\nProstor: 3.06
LOCATION:3.06
ORGANIZER:Matej Kanduč
RELATED-TO:fmf-AFLABS-URNIK:srecanje:6457
X-WR-TIMEZONE:Europe/Ljubljana
END:VEVENT
BEGIN:VEVENT
SUMMARY:Moderna fizika I (FIZ-2)\, Vaje (V)\, [2]
DTSTART;TZID=Europe/Ljubljana:20211130T080000
DTEND;TZID=Europe/Ljubljana:20211130T100000
DTSTAMP:20260425T114143Z
UID:fmf-AFLABS-URNIK:premaknjeno-srecanje:74714
ATTENDEE:2. letnik (Fizika, 1. stopnja)
CATEGORIES:Entry,Standard
COLOR:darkgreen
DESCRIPTION:Predmet: Moderna fizika I (FIZ-2)\, Vaje (V)\, [2]\nLetniki: 2
 . letnik (Fizika\, 1. stopnja)\nIzvajalci: Matej Kanduč\nProstor: 3.06
LOCATION:3.06
ORGANIZER:Matej Kanduč
RELATED-TO:fmf-AFLABS-URNIK:srecanje:6457
X-WR-TIMEZONE:Europe/Ljubljana
END:VEVENT
BEGIN:VEVENT
SUMMARY:Moderna fizika I (FIZ-2)\, Vaje (V)\, [2]
DTSTART;TZID=Europe/Ljubljana:20211207T080000
DTEND;TZID=Europe/Ljubljana:20211207T100000
DTSTAMP:20260425T114143Z
UID:fmf-AFLABS-URNIK:premaknjeno-srecanje:74715
ATTENDEE:2. letnik (Fizika, 1. stopnja)
CATEGORIES:Entry,Standard
COLOR:darkgreen
DESCRIPTION:Predmet: Moderna fizika I (FIZ-2)\, Vaje (V)\, [2]\nLetniki: 2
 . letnik (Fizika\, 1. stopnja)\nIzvajalci: Matej Kanduč\nProstor: 3.06
LOCATION:3.06
ORGANIZER:Matej Kanduč
RELATED-TO:fmf-AFLABS-URNIK:srecanje:6457
X-WR-TIMEZONE:Europe/Ljubljana
END:VEVENT
BEGIN:VEVENT
SUMMARY:Moderna fizika I (FIZ-2)\, Vaje (V)\, [2]
DTSTART;TZID=Europe/Ljubljana:20211214T080000
DTEND;TZID=Europe/Ljubljana:20211214T100000
DTSTAMP:20260425T114143Z
UID:fmf-AFLABS-URNIK:premaknjeno-srecanje:74716
ATTENDEE:2. letnik (Fizika, 1. stopnja)
CATEGORIES:Entry,Standard
COLOR:darkgreen
DESCRIPTION:Predmet: Moderna fizika I (FIZ-2)\, Vaje (V)\, [2]\nLetniki: 2
 . letnik (Fizika\, 1. stopnja)\nIzvajalci: Matej Kanduč\nProstor: 3.06
LOCATION:3.06
ORGANIZER:Matej Kanduč
RELATED-TO:fmf-AFLABS-URNIK:srecanje:6457
X-WR-TIMEZONE:Europe/Ljubljana
END:VEVENT
BEGIN:VEVENT
SUMMARY:Moderna fizika I (FIZ-2)\, Vaje (V)\, [2]
DTSTART;TZID=Europe/Ljubljana:20211221T080000
DTEND;TZID=Europe/Ljubljana:20211221T100000
DTSTAMP:20260425T114143Z
UID:fmf-AFLABS-URNIK:premaknjeno-srecanje:74717
ATTENDEE:2. letnik (Fizika, 1. stopnja)
CATEGORIES:Entry,Standard
COLOR:darkgreen
DESCRIPTION:Predmet: Moderna fizika I (FIZ-2)\, Vaje (V)\, [2]\nLetniki: 2
 . letnik (Fizika\, 1. stopnja)\nIzvajalci: Matej Kanduč\nProstor: 3.06
LOCATION:3.06
ORGANIZER:Matej Kanduč
RELATED-TO:fmf-AFLABS-URNIK:srecanje:6457
X-WR-TIMEZONE:Europe/Ljubljana
END:VEVENT
BEGIN:VEVENT
SUMMARY:Moderna fizika I (FIZ-2)\, Vaje (V)\, [2]
DTSTART;TZID=Europe/Ljubljana:20211228T080000
DTEND;TZID=Europe/Ljubljana:20211228T100000
DTSTAMP:20260425T114143Z
UID:fmf-AFLABS-URNIK:premaknjeno-srecanje:74718
ATTENDEE:2. letnik (Fizika, 1. stopnja)
CATEGORIES:Entry,Standard
COLOR:darkgreen
DESCRIPTION:Predmet: Moderna fizika I (FIZ-2)\, Vaje (V)\, [2]\nLetniki: 2
 . letnik (Fizika\, 1. stopnja)\nIzvajalci: Matej Kanduč\nProstor: 3.06
LOCATION:3.06
ORGANIZER:Matej Kanduč
RELATED-TO:fmf-AFLABS-URNIK:srecanje:6457
X-WR-TIMEZONE:Europe/Ljubljana
END:VEVENT
BEGIN:VEVENT
SUMMARY:Moderna fizika I (FIZ-2)\, Vaje (V)\, [2]
DTSTART;TZID=Europe/Ljubljana:20220104T080000
DTEND;TZID=Europe/Ljubljana:20220104T100000
DTSTAMP:20260425T114143Z
UID:fmf-AFLABS-URNIK:premaknjeno-srecanje:74719
ATTENDEE:2. letnik (Fizika, 1. stopnja)
CATEGORIES:Entry,Standard
COLOR:darkgreen
DESCRIPTION:Predmet: Moderna fizika I (FIZ-2)\, Vaje (V)\, [2]\nLetniki: 2
 . letnik (Fizika\, 1. stopnja)\nIzvajalci: Matej Kanduč\nProstor: 3.06
LOCATION:3.06
ORGANIZER:Matej Kanduč
RELATED-TO:fmf-AFLABS-URNIK:srecanje:6457
X-WR-TIMEZONE:Europe/Ljubljana
END:VEVENT
BEGIN:VEVENT
SUMMARY:Moderna fizika I (FIZ-2)\, Vaje (V)\, [2]
DTSTART;TZID=Europe/Ljubljana:20220111T080000
DTEND;TZID=Europe/Ljubljana:20220111T100000
DTSTAMP:20260425T114143Z
UID:fmf-AFLABS-URNIK:premaknjeno-srecanje:74720
ATTENDEE:2. letnik (Fizika, 1. stopnja)
CATEGORIES:Entry,Standard
COLOR:darkgreen
DESCRIPTION:Predmet: Moderna fizika I (FIZ-2)\, Vaje (V)\, [2]\nLetniki: 2
 . letnik (Fizika\, 1. stopnja)\nIzvajalci: Matej Kanduč\nProstor: 3.06
LOCATION:3.06
ORGANIZER:Matej Kanduč
RELATED-TO:fmf-AFLABS-URNIK:srecanje:6457
X-WR-TIMEZONE:Europe/Ljubljana
END:VEVENT
BEGIN:VEVENT
SUMMARY:Fizika mehke snovi (FIZ-M2)\, Vaje (V)
DTSTART;TZID=Europe/Ljubljana:20211007T130000
DTEND;TZID=Europe/Ljubljana:20211007T140000
DTSTAMP:20260425T114143Z
UID:fmf-AFLABS-URNIK:premaknjeno-srecanje:31539
ATTENDEE:2. letnik (Fizika, 2. stopnja)
CATEGORIES:Entry,Standard
COLOR:darkgreen
DESCRIPTION:Predmet: Fizika mehke snovi (FIZ-M2)\, Vaje (V)\nLetniki: 2. l
 etnik (Fizika\, 2. stopnja)\nIzvajalci: Matej Kanduč\nProstor: F5
LOCATION:F5
ORGANIZER:Matej Kanduč
RELATED-TO:fmf-AFLABS-URNIK:srecanje:6257
X-WR-TIMEZONE:Europe/Ljubljana
END:VEVENT
BEGIN:VEVENT
SUMMARY:Fizika mehke snovi (FIZ-M2)\, Vaje (V)
DTSTART;TZID=Europe/Ljubljana:20211014T130000
DTEND;TZID=Europe/Ljubljana:20211014T140000
DTSTAMP:20260425T114143Z
UID:fmf-AFLABS-URNIK:premaknjeno-srecanje:31540
ATTENDEE:2. letnik (Fizika, 2. stopnja)
CATEGORIES:Entry,Standard
COLOR:darkgreen
DESCRIPTION:Predmet: Fizika mehke snovi (FIZ-M2)\, Vaje (V)\nLetniki: 2. l
 etnik (Fizika\, 2. stopnja)\nIzvajalci: Matej Kanduč\nProstor: F5
LOCATION:F5
ORGANIZER:Matej Kanduč
RELATED-TO:fmf-AFLABS-URNIK:srecanje:6257
X-WR-TIMEZONE:Europe/Ljubljana
END:VEVENT
BEGIN:VEVENT
SUMMARY:Fizika mehke snovi (FIZ-M2)\, Vaje (V)
DTSTART;TZID=Europe/Ljubljana:20211021T130000
DTEND;TZID=Europe/Ljubljana:20211021T140000
DTSTAMP:20260425T114143Z
UID:fmf-AFLABS-URNIK:premaknjeno-srecanje:31541
ATTENDEE:2. letnik (Fizika, 2. stopnja)
CATEGORIES:Entry,Standard
COLOR:darkgreen
DESCRIPTION:Predmet: Fizika mehke snovi (FIZ-M2)\, Vaje (V)\nLetniki: 2. l
 etnik (Fizika\, 2. stopnja)\nIzvajalci: Matej Kanduč\nProstor: F5
LOCATION:F5
ORGANIZER:Matej Kanduč
RELATED-TO:fmf-AFLABS-URNIK:srecanje:6257
X-WR-TIMEZONE:Europe/Ljubljana
END:VEVENT
BEGIN:VEVENT
SUMMARY:Fizika mehke snovi (FIZ-M2)\, Vaje (V)
DTSTART;TZID=Europe/Ljubljana:20211028T130000
DTEND;TZID=Europe/Ljubljana:20211028T140000
DTSTAMP:20260425T114143Z
UID:fmf-AFLABS-URNIK:premaknjeno-srecanje:31542
ATTENDEE:2. letnik (Fizika, 2. stopnja)
CATEGORIES:Entry,Standard
COLOR:darkgreen
DESCRIPTION:Predmet: Fizika mehke snovi (FIZ-M2)\, Vaje (V)\nLetniki: 2. l
 etnik (Fizika\, 2. stopnja)\nIzvajalci: Matej Kanduč\nProstor: F5
LOCATION:F5
ORGANIZER:Matej Kanduč
RELATED-TO:fmf-AFLABS-URNIK:srecanje:6257
X-WR-TIMEZONE:Europe/Ljubljana
END:VEVENT
BEGIN:VEVENT
SUMMARY:Fizika mehke snovi (FIZ-M2)\, Vaje (V)
DTSTART;TZID=Europe/Ljubljana:20211104T130000
DTEND;TZID=Europe/Ljubljana:20211104T140000
DTSTAMP:20260425T114143Z
UID:fmf-AFLABS-URNIK:premaknjeno-srecanje:31543
ATTENDEE:2. letnik (Fizika, 2. stopnja)
CATEGORIES:Entry,Standard
COLOR:darkgreen
DESCRIPTION:Predmet: Fizika mehke snovi (FIZ-M2)\, Vaje (V)\nLetniki: 2. l
 etnik (Fizika\, 2. stopnja)\nIzvajalci: Matej Kanduč\nProstor: F5
LOCATION:F5
ORGANIZER:Matej Kanduč
RELATED-TO:fmf-AFLABS-URNIK:srecanje:6257
X-WR-TIMEZONE:Europe/Ljubljana
END:VEVENT
BEGIN:VEVENT
SUMMARY:Fizika mehke snovi (FIZ-M2)\, Vaje (V)
DTSTART;TZID=Europe/Ljubljana:20211111T130000
DTEND;TZID=Europe/Ljubljana:20211111T140000
DTSTAMP:20260425T114143Z
UID:fmf-AFLABS-URNIK:premaknjeno-srecanje:31544
ATTENDEE:2. letnik (Fizika, 2. stopnja)
CATEGORIES:Entry,Standard
COLOR:darkgreen
DESCRIPTION:Predmet: Fizika mehke snovi (FIZ-M2)\, Vaje (V)\nLetniki: 2. l
 etnik (Fizika\, 2. stopnja)\nIzvajalci: Matej Kanduč\nProstor: F5
LOCATION:F5
ORGANIZER:Matej Kanduč
RELATED-TO:fmf-AFLABS-URNIK:srecanje:6257
X-WR-TIMEZONE:Europe/Ljubljana
END:VEVENT
BEGIN:VEVENT
SUMMARY:Fizika mehke snovi (FIZ-M2)\, Vaje (V)
DTSTART;TZID=Europe/Ljubljana:20211118T130000
DTEND;TZID=Europe/Ljubljana:20211118T140000
DTSTAMP:20260425T114143Z
UID:fmf-AFLABS-URNIK:premaknjeno-srecanje:31545
ATTENDEE:2. letnik (Fizika, 2. stopnja)
CATEGORIES:Entry,Standard
COLOR:darkgreen
DESCRIPTION:Predmet: Fizika mehke snovi (FIZ-M2)\, Vaje (V)\nLetniki: 2. l
 etnik (Fizika\, 2. stopnja)\nIzvajalci: Matej Kanduč\nProstor: F5
LOCATION:F5
ORGANIZER:Matej Kanduč
RELATED-TO:fmf-AFLABS-URNIK:srecanje:6257
X-WR-TIMEZONE:Europe/Ljubljana
END:VEVENT
BEGIN:VEVENT
SUMMARY:Fizika mehke snovi (FIZ-M2)\, Vaje (V)
DTSTART;TZID=Europe/Ljubljana:20211125T130000
DTEND;TZID=Europe/Ljubljana:20211125T140000
DTSTAMP:20260425T114143Z
UID:fmf-AFLABS-URNIK:premaknjeno-srecanje:31546
ATTENDEE:2. letnik (Fizika, 2. stopnja)
CATEGORIES:Entry,Standard
COLOR:darkgreen
DESCRIPTION:Predmet: Fizika mehke snovi (FIZ-M2)\, Vaje (V)\nLetniki: 2. l
 etnik (Fizika\, 2. stopnja)\nIzvajalci: Matej Kanduč\nProstor: F5
LOCATION:F5
ORGANIZER:Matej Kanduč
RELATED-TO:fmf-AFLABS-URNIK:srecanje:6257
X-WR-TIMEZONE:Europe/Ljubljana
END:VEVENT
BEGIN:VEVENT
SUMMARY:Fizika mehke snovi (FIZ-M2)\, Vaje (V)
DTSTART;TZID=Europe/Ljubljana:20211202T130000
DTEND;TZID=Europe/Ljubljana:20211202T140000
DTSTAMP:20260425T114143Z
UID:fmf-AFLABS-URNIK:premaknjeno-srecanje:31547
ATTENDEE:2. letnik (Fizika, 2. stopnja)
CATEGORIES:Entry,Standard
COLOR:darkgreen
DESCRIPTION:Predmet: Fizika mehke snovi (FIZ-M2)\, Vaje (V)\nLetniki: 2. l
 etnik (Fizika\, 2. stopnja)\nIzvajalci: Matej Kanduč\nProstor: F5
LOCATION:F5
ORGANIZER:Matej Kanduč
RELATED-TO:fmf-AFLABS-URNIK:srecanje:6257
X-WR-TIMEZONE:Europe/Ljubljana
END:VEVENT
BEGIN:VEVENT
SUMMARY:Fizika mehke snovi (FIZ-M2)\, Vaje (V)
DTSTART;TZID=Europe/Ljubljana:20211209T130000
DTEND;TZID=Europe/Ljubljana:20211209T140000
DTSTAMP:20260425T114143Z
UID:fmf-AFLABS-URNIK:premaknjeno-srecanje:31548
ATTENDEE:2. letnik (Fizika, 2. stopnja)
CATEGORIES:Entry,Standard
COLOR:darkgreen
DESCRIPTION:Predmet: Fizika mehke snovi (FIZ-M2)\, Vaje (V)\nLetniki: 2. l
 etnik (Fizika\, 2. stopnja)\nIzvajalci: Matej Kanduč\nProstor: F5
LOCATION:F5
ORGANIZER:Matej Kanduč
RELATED-TO:fmf-AFLABS-URNIK:srecanje:6257
X-WR-TIMEZONE:Europe/Ljubljana
END:VEVENT
BEGIN:VEVENT
SUMMARY:Fizika mehke snovi (FIZ-M2)\, Vaje (V)
DTSTART;TZID=Europe/Ljubljana:20211216T130000
DTEND;TZID=Europe/Ljubljana:20211216T140000
DTSTAMP:20260425T114143Z
UID:fmf-AFLABS-URNIK:premaknjeno-srecanje:31549
ATTENDEE:2. letnik (Fizika, 2. stopnja)
CATEGORIES:Entry,Standard
COLOR:darkgreen
DESCRIPTION:Predmet: Fizika mehke snovi (FIZ-M2)\, Vaje (V)\nLetniki: 2. l
 etnik (Fizika\, 2. stopnja)\nIzvajalci: Matej Kanduč\nProstor: F5
LOCATION:F5
ORGANIZER:Matej Kanduč
RELATED-TO:fmf-AFLABS-URNIK:srecanje:6257
X-WR-TIMEZONE:Europe/Ljubljana
END:VEVENT
BEGIN:VEVENT
SUMMARY:Fizika mehke snovi (FIZ-M2)\, Vaje (V)
DTSTART;TZID=Europe/Ljubljana:20211223T130000
DTEND;TZID=Europe/Ljubljana:20211223T140000
DTSTAMP:20260425T114143Z
UID:fmf-AFLABS-URNIK:premaknjeno-srecanje:31550
ATTENDEE:2. letnik (Fizika, 2. stopnja)
CATEGORIES:Entry,Standard
COLOR:darkgreen
DESCRIPTION:Predmet: Fizika mehke snovi (FIZ-M2)\, Vaje (V)\nLetniki: 2. l
 etnik (Fizika\, 2. stopnja)\nIzvajalci: Matej Kanduč\nProstor: F5
LOCATION:F5
ORGANIZER:Matej Kanduč
RELATED-TO:fmf-AFLABS-URNIK:srecanje:6257
X-WR-TIMEZONE:Europe/Ljubljana
END:VEVENT
BEGIN:VEVENT
SUMMARY:Fizika mehke snovi (FIZ-M2)\, Vaje (V)
DTSTART;TZID=Europe/Ljubljana:20211230T130000
DTEND;TZID=Europe/Ljubljana:20211230T140000
DTSTAMP:20260425T114143Z
UID:fmf-AFLABS-URNIK:premaknjeno-srecanje:31551
ATTENDEE:2. letnik (Fizika, 2. stopnja)
CATEGORIES:Entry,Standard
COLOR:darkgreen
DESCRIPTION:Predmet: Fizika mehke snovi (FIZ-M2)\, Vaje (V)\nLetniki: 2. l
 etnik (Fizika\, 2. stopnja)\nIzvajalci: Matej Kanduč\nProstor: F5
LOCATION:F5
ORGANIZER:Matej Kanduč
RELATED-TO:fmf-AFLABS-URNIK:srecanje:6257
X-WR-TIMEZONE:Europe/Ljubljana
END:VEVENT
BEGIN:VEVENT
SUMMARY:Fizika mehke snovi (FIZ-M2)\, Vaje (V)
DTSTART;TZID=Europe/Ljubljana:20220106T130000
DTEND;TZID=Europe/Ljubljana:20220106T140000
DTSTAMP:20260425T114143Z
UID:fmf-AFLABS-URNIK:premaknjeno-srecanje:31552
ATTENDEE:2. letnik (Fizika, 2. stopnja)
CATEGORIES:Entry,Standard
COLOR:darkgreen
DESCRIPTION:Predmet: Fizika mehke snovi (FIZ-M2)\, Vaje (V)\nLetniki: 2. l
 etnik (Fizika\, 2. stopnja)\nIzvajalci: Matej Kanduč\nProstor: F5
LOCATION:F5
ORGANIZER:Matej Kanduč
RELATED-TO:fmf-AFLABS-URNIK:srecanje:6257
X-WR-TIMEZONE:Europe/Ljubljana
END:VEVENT
BEGIN:VEVENT
SUMMARY:Fizika mehke snovi (FIZ-M2)\, Vaje (V)
DTSTART;TZID=Europe/Ljubljana:20220113T130000
DTEND;TZID=Europe/Ljubljana:20220113T140000
DTSTAMP:20260425T114143Z
UID:fmf-AFLABS-URNIK:premaknjeno-srecanje:31553
ATTENDEE:2. letnik (Fizika, 2. stopnja)
CATEGORIES:Entry,Standard
COLOR:darkgreen
DESCRIPTION:Predmet: Fizika mehke snovi (FIZ-M2)\, Vaje (V)\nLetniki: 2. l
 etnik (Fizika\, 2. stopnja)\nIzvajalci: Matej Kanduč\nProstor: F5
LOCATION:F5
ORGANIZER:Matej Kanduč
RELATED-TO:fmf-AFLABS-URNIK:srecanje:6257
X-WR-TIMEZONE:Europe/Ljubljana
END:VEVENT
END:VCALENDAR
