BEGIN:VCALENDAR
VERSION:2.0
PRODID:-//AFLabs urnik izvoz - fmf//aflabs.si//SI
DTSTAMP:20260423T034714Z
NAME:UL FMF urnik
REFRESH-INTERVAL:PT1H
SOURCE:https://urnik.fmf.uni-lj.si/teacher/604?day=2022-05-23&export=1
URL:https://urnik.fmf.uni-lj.si/teacher/604?day=2022-05-23&export=1
X-PUBLISHED-TTL:PT1H
X-WR-CALNAME:UL FMF urnik
X-WR-TIMEZONE:Europe/Ljubljana
BEGIN:VTIMEZONE
TZID:Europe/Ljubljana
BEGIN:DAYLIGHT
DTSTART:20260329T020000
RDATE:20260329T020000
RDATE:20270328T020000
TZNAME:CEST
TZOFFSETFROM:+0100
TZOFFSETTO:+0200
END:DAYLIGHT
BEGIN:STANDARD
DTSTART:20261025T030000
RDATE:20261025T030000
RDATE:20271031T030000
TZNAME:CET
TZOFFSETFROM:+0200
TZOFFSETTO:+0100
END:STANDARD
END:VTIMEZONE
BEGIN:VEVENT
SUMMARY:Biofizika membran\, celic in tkiv (FIZ-M1\, FIZ-M2)\, Vaje (V)
DTSTART;TZID=Europe/Ljubljana:20220217T110000
DTEND;TZID=Europe/Ljubljana:20220217T120000
DTSTAMP:20260423T034714Z
UID:fmf-AFLABS-URNIK:premaknjeno-srecanje:12879
ATTENDEE:1. letnik (Fizika, 2. stopnja)
ATTENDEE:2. letnik (Fizika, 2. stopnja)
CATEGORIES:Entry,Standard
COLOR:darkgreen
DESCRIPTION:Predmet: Biofizika membran\, celic in tkiv (FIZ-M1\, FIZ-M2)\,
  Vaje (V)\nLetniki: 1. letnik (Fizika\, 2. stopnja)\, 2. letnik (Fizika\, 
 2. stopnja)\nIzvajalci: Matej Krajnc\nProstor: F6
LOCATION:F6
ORGANIZER:Matej Krajnc
RELATED-TO:fmf-AFLABS-URNIK:srecanje:7394
X-WR-TIMEZONE:Europe/Ljubljana
END:VEVENT
BEGIN:VEVENT
SUMMARY:Biofizika membran\, celic in tkiv (FIZ-M1\, FIZ-M2)\, Vaje (V)
DTSTART;TZID=Europe/Ljubljana:20220224T110000
DTEND;TZID=Europe/Ljubljana:20220224T120000
DTSTAMP:20260423T034714Z
UID:fmf-AFLABS-URNIK:premaknjeno-srecanje:12880
ATTENDEE:1. letnik (Fizika, 2. stopnja)
ATTENDEE:2. letnik (Fizika, 2. stopnja)
CATEGORIES:Entry,Standard
COLOR:darkgreen
DESCRIPTION:Predmet: Biofizika membran\, celic in tkiv (FIZ-M1\, FIZ-M2)\,
  Vaje (V)\nLetniki: 1. letnik (Fizika\, 2. stopnja)\, 2. letnik (Fizika\, 
 2. stopnja)\nIzvajalci: Matej Krajnc\nProstor: F6
LOCATION:F6
ORGANIZER:Matej Krajnc
RELATED-TO:fmf-AFLABS-URNIK:srecanje:7394
X-WR-TIMEZONE:Europe/Ljubljana
END:VEVENT
BEGIN:VEVENT
SUMMARY:Biofizika membran\, celic in tkiv (FIZ-M1\, FIZ-M2)\, Vaje (V)
DTSTART;TZID=Europe/Ljubljana:20220303T110000
DTEND;TZID=Europe/Ljubljana:20220303T120000
DTSTAMP:20260423T034714Z
UID:fmf-AFLABS-URNIK:premaknjeno-srecanje:12881
ATTENDEE:1. letnik (Fizika, 2. stopnja)
ATTENDEE:2. letnik (Fizika, 2. stopnja)
CATEGORIES:Entry,Standard
COLOR:darkgreen
DESCRIPTION:Predmet: Biofizika membran\, celic in tkiv (FIZ-M1\, FIZ-M2)\,
  Vaje (V)\nLetniki: 1. letnik (Fizika\, 2. stopnja)\, 2. letnik (Fizika\, 
 2. stopnja)\nIzvajalci: Matej Krajnc\nProstor: F6
LOCATION:F6
ORGANIZER:Matej Krajnc
RELATED-TO:fmf-AFLABS-URNIK:srecanje:7394
X-WR-TIMEZONE:Europe/Ljubljana
END:VEVENT
BEGIN:VEVENT
SUMMARY:Biofizika membran\, celic in tkiv (FIZ-M1\, FIZ-M2)\, Vaje (V)
DTSTART;TZID=Europe/Ljubljana:20220310T110000
DTEND;TZID=Europe/Ljubljana:20220310T120000
DTSTAMP:20260423T034714Z
UID:fmf-AFLABS-URNIK:premaknjeno-srecanje:12882
ATTENDEE:1. letnik (Fizika, 2. stopnja)
ATTENDEE:2. letnik (Fizika, 2. stopnja)
CATEGORIES:Entry,Standard
COLOR:darkgreen
DESCRIPTION:Predmet: Biofizika membran\, celic in tkiv (FIZ-M1\, FIZ-M2)\,
  Vaje (V)\nLetniki: 1. letnik (Fizika\, 2. stopnja)\, 2. letnik (Fizika\, 
 2. stopnja)\nIzvajalci: Matej Krajnc\nProstor: F6
LOCATION:F6
ORGANIZER:Matej Krajnc
RELATED-TO:fmf-AFLABS-URNIK:srecanje:7394
X-WR-TIMEZONE:Europe/Ljubljana
END:VEVENT
BEGIN:VEVENT
SUMMARY:Biofizika membran\, celic in tkiv (FIZ-M1\, FIZ-M2)\, Vaje (V)
DTSTART;TZID=Europe/Ljubljana:20220317T110000
DTEND;TZID=Europe/Ljubljana:20220317T120000
DTSTAMP:20260423T034714Z
UID:fmf-AFLABS-URNIK:premaknjeno-srecanje:12883
ATTENDEE:1. letnik (Fizika, 2. stopnja)
ATTENDEE:2. letnik (Fizika, 2. stopnja)
CATEGORIES:Entry,Standard
COLOR:darkgreen
DESCRIPTION:Predmet: Biofizika membran\, celic in tkiv (FIZ-M1\, FIZ-M2)\,
  Vaje (V)\nLetniki: 1. letnik (Fizika\, 2. stopnja)\, 2. letnik (Fizika\, 
 2. stopnja)\nIzvajalci: Matej Krajnc\nProstor: F6
LOCATION:F6
ORGANIZER:Matej Krajnc
RELATED-TO:fmf-AFLABS-URNIK:srecanje:7394
X-WR-TIMEZONE:Europe/Ljubljana
END:VEVENT
BEGIN:VEVENT
SUMMARY:Biofizika membran\, celic in tkiv (FIZ-M1\, FIZ-M2)\, Vaje (V)
DTSTART;TZID=Europe/Ljubljana:20220324T110000
DTEND;TZID=Europe/Ljubljana:20220324T120000
DTSTAMP:20260423T034714Z
UID:fmf-AFLABS-URNIK:premaknjeno-srecanje:12884
ATTENDEE:1. letnik (Fizika, 2. stopnja)
ATTENDEE:2. letnik (Fizika, 2. stopnja)
CATEGORIES:Entry,Standard
COLOR:darkgreen
DESCRIPTION:Predmet: Biofizika membran\, celic in tkiv (FIZ-M1\, FIZ-M2)\,
  Vaje (V)\nLetniki: 1. letnik (Fizika\, 2. stopnja)\, 2. letnik (Fizika\, 
 2. stopnja)\nIzvajalci: Matej Krajnc\nProstor: F6
LOCATION:F6
ORGANIZER:Matej Krajnc
RELATED-TO:fmf-AFLABS-URNIK:srecanje:7394
X-WR-TIMEZONE:Europe/Ljubljana
END:VEVENT
BEGIN:VEVENT
SUMMARY:Biofizika membran\, celic in tkiv (FIZ-M1\, FIZ-M2)\, Vaje (V)
DTSTART;TZID=Europe/Ljubljana:20220331T110000
DTEND;TZID=Europe/Ljubljana:20220331T120000
DTSTAMP:20260423T034714Z
UID:fmf-AFLABS-URNIK:premaknjeno-srecanje:12885
ATTENDEE:1. letnik (Fizika, 2. stopnja)
ATTENDEE:2. letnik (Fizika, 2. stopnja)
CATEGORIES:Entry,Standard
COLOR:darkgreen
DESCRIPTION:Predmet: Biofizika membran\, celic in tkiv (FIZ-M1\, FIZ-M2)\,
  Vaje (V)\nLetniki: 1. letnik (Fizika\, 2. stopnja)\, 2. letnik (Fizika\, 
 2. stopnja)\nIzvajalci: Matej Krajnc\nProstor: F6
LOCATION:F6
ORGANIZER:Matej Krajnc
RELATED-TO:fmf-AFLABS-URNIK:srecanje:7394
X-WR-TIMEZONE:Europe/Ljubljana
END:VEVENT
BEGIN:VEVENT
SUMMARY:Biofizika membran\, celic in tkiv (FIZ-M1\, FIZ-M2)\, Vaje (V)
DTSTART;TZID=Europe/Ljubljana:20220407T110000
DTEND;TZID=Europe/Ljubljana:20220407T120000
DTSTAMP:20260423T034714Z
UID:fmf-AFLABS-URNIK:premaknjeno-srecanje:12886
ATTENDEE:1. letnik (Fizika, 2. stopnja)
ATTENDEE:2. letnik (Fizika, 2. stopnja)
CATEGORIES:Entry,Standard
COLOR:darkgreen
DESCRIPTION:Predmet: Biofizika membran\, celic in tkiv (FIZ-M1\, FIZ-M2)\,
  Vaje (V)\nLetniki: 1. letnik (Fizika\, 2. stopnja)\, 2. letnik (Fizika\, 
 2. stopnja)\nIzvajalci: Matej Krajnc\nProstor: F6
LOCATION:F6
ORGANIZER:Matej Krajnc
RELATED-TO:fmf-AFLABS-URNIK:srecanje:7394
X-WR-TIMEZONE:Europe/Ljubljana
END:VEVENT
BEGIN:VEVENT
SUMMARY:Biofizika membran\, celic in tkiv (FIZ-M1\, FIZ-M2)\, Vaje (V)
DTSTART;TZID=Europe/Ljubljana:20220414T110000
DTEND;TZID=Europe/Ljubljana:20220414T120000
DTSTAMP:20260423T034714Z
UID:fmf-AFLABS-URNIK:premaknjeno-srecanje:12887
ATTENDEE:1. letnik (Fizika, 2. stopnja)
ATTENDEE:2. letnik (Fizika, 2. stopnja)
CATEGORIES:Entry,Standard
COLOR:darkgreen
DESCRIPTION:Predmet: Biofizika membran\, celic in tkiv (FIZ-M1\, FIZ-M2)\,
  Vaje (V)\nLetniki: 1. letnik (Fizika\, 2. stopnja)\, 2. letnik (Fizika\, 
 2. stopnja)\nIzvajalci: Matej Krajnc\nProstor: F6
LOCATION:F6
ORGANIZER:Matej Krajnc
RELATED-TO:fmf-AFLABS-URNIK:srecanje:7394
X-WR-TIMEZONE:Europe/Ljubljana
END:VEVENT
BEGIN:VEVENT
SUMMARY:Biofizika membran\, celic in tkiv (FIZ-M1\, FIZ-M2)\, Vaje (V)
DTSTART;TZID=Europe/Ljubljana:20220421T110000
DTEND;TZID=Europe/Ljubljana:20220421T120000
DTSTAMP:20260423T034714Z
UID:fmf-AFLABS-URNIK:premaknjeno-srecanje:12888
ATTENDEE:1. letnik (Fizika, 2. stopnja)
ATTENDEE:2. letnik (Fizika, 2. stopnja)
CATEGORIES:Entry,Standard
COLOR:darkgreen
DESCRIPTION:Predmet: Biofizika membran\, celic in tkiv (FIZ-M1\, FIZ-M2)\,
  Vaje (V)\nLetniki: 1. letnik (Fizika\, 2. stopnja)\, 2. letnik (Fizika\, 
 2. stopnja)\nIzvajalci: Matej Krajnc\nProstor: F6
LOCATION:F6
ORGANIZER:Matej Krajnc
RELATED-TO:fmf-AFLABS-URNIK:srecanje:7394
X-WR-TIMEZONE:Europe/Ljubljana
END:VEVENT
BEGIN:VEVENT
SUMMARY:Biofizika membran\, celic in tkiv (FIZ-M1\, FIZ-M2)\, Vaje (V)
DTSTART;TZID=Europe/Ljubljana:20220428T110000
DTEND;TZID=Europe/Ljubljana:20220428T120000
DTSTAMP:20260423T034714Z
UID:fmf-AFLABS-URNIK:premaknjeno-srecanje:12889
ATTENDEE:1. letnik (Fizika, 2. stopnja)
ATTENDEE:2. letnik (Fizika, 2. stopnja)
CATEGORIES:Entry,Standard
COLOR:darkgreen
DESCRIPTION:Predmet: Biofizika membran\, celic in tkiv (FIZ-M1\, FIZ-M2)\,
  Vaje (V)\nLetniki: 1. letnik (Fizika\, 2. stopnja)\, 2. letnik (Fizika\, 
 2. stopnja)\nIzvajalci: Matej Krajnc\nProstor: F6
LOCATION:F6
ORGANIZER:Matej Krajnc
RELATED-TO:fmf-AFLABS-URNIK:srecanje:7394
X-WR-TIMEZONE:Europe/Ljubljana
END:VEVENT
BEGIN:VEVENT
SUMMARY:Biofizika membran\, celic in tkiv (FIZ-M1\, FIZ-M2)\, Vaje (V)
DTSTART;TZID=Europe/Ljubljana:20220505T110000
DTEND;TZID=Europe/Ljubljana:20220505T120000
DTSTAMP:20260423T034714Z
UID:fmf-AFLABS-URNIK:premaknjeno-srecanje:12890
ATTENDEE:1. letnik (Fizika, 2. stopnja)
ATTENDEE:2. letnik (Fizika, 2. stopnja)
CATEGORIES:Entry,Standard
COLOR:darkgreen
DESCRIPTION:Predmet: Biofizika membran\, celic in tkiv (FIZ-M1\, FIZ-M2)\,
  Vaje (V)\nLetniki: 1. letnik (Fizika\, 2. stopnja)\, 2. letnik (Fizika\, 
 2. stopnja)\nIzvajalci: Matej Krajnc\nProstor: F6
LOCATION:F6
ORGANIZER:Matej Krajnc
RELATED-TO:fmf-AFLABS-URNIK:srecanje:7394
X-WR-TIMEZONE:Europe/Ljubljana
END:VEVENT
BEGIN:VEVENT
SUMMARY:Biofizika membran\, celic in tkiv (FIZ-M1\, FIZ-M2)\, Vaje (V)
DTSTART;TZID=Europe/Ljubljana:20220512T110000
DTEND;TZID=Europe/Ljubljana:20220512T120000
DTSTAMP:20260423T034714Z
UID:fmf-AFLABS-URNIK:premaknjeno-srecanje:12891
ATTENDEE:1. letnik (Fizika, 2. stopnja)
ATTENDEE:2. letnik (Fizika, 2. stopnja)
CATEGORIES:Entry,Standard
COLOR:darkgreen
DESCRIPTION:Predmet: Biofizika membran\, celic in tkiv (FIZ-M1\, FIZ-M2)\,
  Vaje (V)\nLetniki: 1. letnik (Fizika\, 2. stopnja)\, 2. letnik (Fizika\, 
 2. stopnja)\nIzvajalci: Matej Krajnc\nProstor: F6
LOCATION:F6
ORGANIZER:Matej Krajnc
RELATED-TO:fmf-AFLABS-URNIK:srecanje:7394
X-WR-TIMEZONE:Europe/Ljubljana
END:VEVENT
BEGIN:VEVENT
SUMMARY:Biofizika membran\, celic in tkiv (FIZ-M1\, FIZ-M2)\, Vaje (V)
DTSTART;TZID=Europe/Ljubljana:20220519T110000
DTEND;TZID=Europe/Ljubljana:20220519T120000
DTSTAMP:20260423T034714Z
UID:fmf-AFLABS-URNIK:premaknjeno-srecanje:12892
ATTENDEE:1. letnik (Fizika, 2. stopnja)
ATTENDEE:2. letnik (Fizika, 2. stopnja)
CATEGORIES:Entry,Standard
COLOR:darkgreen
DESCRIPTION:Predmet: Biofizika membran\, celic in tkiv (FIZ-M1\, FIZ-M2)\,
  Vaje (V)\nLetniki: 1. letnik (Fizika\, 2. stopnja)\, 2. letnik (Fizika\, 
 2. stopnja)\nIzvajalci: Matej Krajnc\nProstor: F6
LOCATION:F6
ORGANIZER:Matej Krajnc
RELATED-TO:fmf-AFLABS-URNIK:srecanje:7394
X-WR-TIMEZONE:Europe/Ljubljana
END:VEVENT
BEGIN:VEVENT
SUMMARY:Biofizika membran\, celic in tkiv (FIZ-M1\, FIZ-M2)\, Vaje (V)
DTSTART;TZID=Europe/Ljubljana:20220526T110000
DTEND;TZID=Europe/Ljubljana:20220526T120000
DTSTAMP:20260423T034714Z
UID:fmf-AFLABS-URNIK:premaknjeno-srecanje:12893
ATTENDEE:1. letnik (Fizika, 2. stopnja)
ATTENDEE:2. letnik (Fizika, 2. stopnja)
CATEGORIES:Entry,Standard
COLOR:darkgreen
DESCRIPTION:Predmet: Biofizika membran\, celic in tkiv (FIZ-M1\, FIZ-M2)\,
  Vaje (V)\nLetniki: 1. letnik (Fizika\, 2. stopnja)\, 2. letnik (Fizika\, 
 2. stopnja)\nIzvajalci: Matej Krajnc\nProstor: F6
LOCATION:F6
ORGANIZER:Matej Krajnc
RELATED-TO:fmf-AFLABS-URNIK:srecanje:7394
X-WR-TIMEZONE:Europe/Ljubljana
END:VEVENT
END:VCALENDAR
