BEGIN:VCALENDAR
VERSION:2.0
PRODID:-//AFLabs urnik izvoz - fmf//aflabs.si//SI
DTSTAMP:20260421T035754Z
NAME:UL FMF urnik
REFRESH-INTERVAL:PT1H
SOURCE:https://urnik.fmf.uni-lj.si/teacher/637?day=2024-04-29&export=1
URL:https://urnik.fmf.uni-lj.si/teacher/637?day=2024-04-29&export=1
X-PUBLISHED-TTL:PT1H
X-WR-CALNAME:UL FMF urnik
X-WR-TIMEZONE:Europe/Ljubljana
BEGIN:VTIMEZONE
TZID:Europe/Ljubljana
BEGIN:DAYLIGHT
DTSTART:20260329T020000
RDATE:20260329T020000
RDATE:20270328T020000
TZNAME:CEST
TZOFFSETFROM:+0100
TZOFFSETTO:+0200
END:DAYLIGHT
BEGIN:STANDARD
DTSTART:20261025T030000
RDATE:20261025T030000
RDATE:20271031T030000
TZNAME:CET
TZOFFSETFROM:+0200
TZOFFSETTO:+0100
END:STANDARD
END:VTIMEZONE
BEGIN:VEVENT
SUMMARY:Teorija števil (FM-M\, MAT-M\, PM-5)\, Vaje (V)
DTSTART;TZID=Europe/Ljubljana:20240221T100000
DTEND;TZID=Europe/Ljubljana:20240221T120000
DTSTAMP:20260421T035754Z
UID:fmf-AFLABS-URNIK:premaknjeno-srecanje:135561
ATTENDEE:5. letnik (PM)
ATTENDEE:magistrski študij (FM)
ATTENDEE:magistrski študij (M)
CATEGORIES:Entry,Standard
COLOR:darkgreen
DESCRIPTION:Predmet: Teorija števil (FM-M\, MAT-M\, PM-5)\, Vaje (V)\nLet
 niki: magistrski študij (FM)\, magistrski študij (M)\, 5. letnik (PM)\nI
 zvajalci: Daniel Vitas\nProstor: 2.02
LOCATION:2.02
ORGANIZER:Daniel Vitas
RELATED-TO:fmf-AFLABS-URNIK:srecanje:10748
X-WR-TIMEZONE:Europe/Ljubljana
END:VEVENT
BEGIN:VEVENT
SUMMARY:Teorija števil (FM-M\, MAT-M\, PM-5)\, Vaje (V)
DTSTART;TZID=Europe/Ljubljana:20240228T100000
DTEND;TZID=Europe/Ljubljana:20240228T120000
DTSTAMP:20260421T035754Z
UID:fmf-AFLABS-URNIK:premaknjeno-srecanje:135562
ATTENDEE:5. letnik (PM)
ATTENDEE:magistrski študij (FM)
ATTENDEE:magistrski študij (M)
CATEGORIES:Entry,Standard
COLOR:darkgreen
DESCRIPTION:Predmet: Teorija števil (FM-M\, MAT-M\, PM-5)\, Vaje (V)\nLet
 niki: magistrski študij (FM)\, magistrski študij (M)\, 5. letnik (PM)\nI
 zvajalci: Daniel Vitas\nProstor: 2.02
LOCATION:2.02
ORGANIZER:Daniel Vitas
RELATED-TO:fmf-AFLABS-URNIK:srecanje:10748
X-WR-TIMEZONE:Europe/Ljubljana
END:VEVENT
BEGIN:VEVENT
SUMMARY:Teorija števil (FM-M\, MAT-M\, PM-5)\, Vaje (V)
DTSTART;TZID=Europe/Ljubljana:20240306T100000
DTEND;TZID=Europe/Ljubljana:20240306T120000
DTSTAMP:20260421T035754Z
UID:fmf-AFLABS-URNIK:premaknjeno-srecanje:135563
ATTENDEE:5. letnik (PM)
ATTENDEE:magistrski študij (FM)
ATTENDEE:magistrski študij (M)
CATEGORIES:Entry,Standard
COLOR:darkgreen
DESCRIPTION:Predmet: Teorija števil (FM-M\, MAT-M\, PM-5)\, Vaje (V)\nLet
 niki: magistrski študij (FM)\, magistrski študij (M)\, 5. letnik (PM)\nI
 zvajalci: Daniel Vitas\nProstor: 2.02
LOCATION:2.02
ORGANIZER:Daniel Vitas
RELATED-TO:fmf-AFLABS-URNIK:srecanje:10748
X-WR-TIMEZONE:Europe/Ljubljana
END:VEVENT
BEGIN:VEVENT
SUMMARY:Teorija števil (FM-M\, MAT-M\, PM-5)\, Vaje (V)
DTSTART;TZID=Europe/Ljubljana:20240313T100000
DTEND;TZID=Europe/Ljubljana:20240313T120000
DTSTAMP:20260421T035754Z
UID:fmf-AFLABS-URNIK:premaknjeno-srecanje:135564
ATTENDEE:5. letnik (PM)
ATTENDEE:magistrski študij (FM)
ATTENDEE:magistrski študij (M)
CATEGORIES:Entry,Standard
COLOR:darkgreen
DESCRIPTION:Predmet: Teorija števil (FM-M\, MAT-M\, PM-5)\, Vaje (V)\nLet
 niki: magistrski študij (FM)\, magistrski študij (M)\, 5. letnik (PM)\nI
 zvajalci: Daniel Vitas\nProstor: 2.02
LOCATION:2.02
ORGANIZER:Daniel Vitas
RELATED-TO:fmf-AFLABS-URNIK:srecanje:10748
X-WR-TIMEZONE:Europe/Ljubljana
END:VEVENT
BEGIN:VEVENT
SUMMARY:Teorija števil (FM-M\, MAT-M\, PM-5)\, Vaje (V)
DTSTART;TZID=Europe/Ljubljana:20240320T100000
DTEND;TZID=Europe/Ljubljana:20240320T120000
DTSTAMP:20260421T035754Z
UID:fmf-AFLABS-URNIK:premaknjeno-srecanje:135565
ATTENDEE:5. letnik (PM)
ATTENDEE:magistrski študij (FM)
ATTENDEE:magistrski študij (M)
CATEGORIES:Entry,Standard
COLOR:darkgreen
DESCRIPTION:Predmet: Teorija števil (FM-M\, MAT-M\, PM-5)\, Vaje (V)\nLet
 niki: magistrski študij (FM)\, magistrski študij (M)\, 5. letnik (PM)\nI
 zvajalci: Daniel Vitas\nProstor: 2.02
LOCATION:2.02
ORGANIZER:Daniel Vitas
RELATED-TO:fmf-AFLABS-URNIK:srecanje:10748
X-WR-TIMEZONE:Europe/Ljubljana
END:VEVENT
BEGIN:VEVENT
SUMMARY:Teorija števil (FM-M\, MAT-M\, PM-5)\, Vaje (V)
DTSTART;TZID=Europe/Ljubljana:20240327T100000
DTEND;TZID=Europe/Ljubljana:20240327T120000
DTSTAMP:20260421T035754Z
UID:fmf-AFLABS-URNIK:premaknjeno-srecanje:135566
ATTENDEE:5. letnik (PM)
ATTENDEE:magistrski študij (FM)
ATTENDEE:magistrski študij (M)
CATEGORIES:Entry,Standard
COLOR:darkgreen
DESCRIPTION:Predmet: Teorija števil (FM-M\, MAT-M\, PM-5)\, Vaje (V)\nLet
 niki: magistrski študij (FM)\, magistrski študij (M)\, 5. letnik (PM)\nI
 zvajalci: Daniel Vitas\nProstor: 2.02
LOCATION:2.02
ORGANIZER:Daniel Vitas
RELATED-TO:fmf-AFLABS-URNIK:srecanje:10748
X-WR-TIMEZONE:Europe/Ljubljana
END:VEVENT
BEGIN:VEVENT
SUMMARY:Teorija števil (FM-M\, MAT-M\, PM-5)\, Vaje (V)
DTSTART;TZID=Europe/Ljubljana:20240403T100000
DTEND;TZID=Europe/Ljubljana:20240403T120000
DTSTAMP:20260421T035754Z
UID:fmf-AFLABS-URNIK:premaknjeno-srecanje:135567
ATTENDEE:5. letnik (PM)
ATTENDEE:magistrski študij (FM)
ATTENDEE:magistrski študij (M)
CATEGORIES:Entry,Standard
COLOR:darkgreen
DESCRIPTION:Predmet: Teorija števil (FM-M\, MAT-M\, PM-5)\, Vaje (V)\nLet
 niki: magistrski študij (FM)\, magistrski študij (M)\, 5. letnik (PM)\nI
 zvajalci: Daniel Vitas\nProstor: 2.02
LOCATION:2.02
ORGANIZER:Daniel Vitas
RELATED-TO:fmf-AFLABS-URNIK:srecanje:10748
X-WR-TIMEZONE:Europe/Ljubljana
END:VEVENT
BEGIN:VEVENT
SUMMARY:Teorija števil (FM-M\, MAT-M\, PM-5)\, Vaje (V)
DTSTART;TZID=Europe/Ljubljana:20240410T100000
DTEND;TZID=Europe/Ljubljana:20240410T120000
DTSTAMP:20260421T035754Z
UID:fmf-AFLABS-URNIK:premaknjeno-srecanje:135568
ATTENDEE:5. letnik (PM)
ATTENDEE:magistrski študij (FM)
ATTENDEE:magistrski študij (M)
CATEGORIES:Entry,Standard
COLOR:darkgreen
DESCRIPTION:Predmet: Teorija števil (FM-M\, MAT-M\, PM-5)\, Vaje (V)\nLet
 niki: magistrski študij (FM)\, magistrski študij (M)\, 5. letnik (PM)\nI
 zvajalci: Daniel Vitas\nProstor: 2.02
LOCATION:2.02
ORGANIZER:Daniel Vitas
RELATED-TO:fmf-AFLABS-URNIK:srecanje:10748
X-WR-TIMEZONE:Europe/Ljubljana
END:VEVENT
BEGIN:VEVENT
SUMMARY:Teorija števil (FM-M\, MAT-M\, PM-5)\, Vaje (V)
DTSTART;TZID=Europe/Ljubljana:20240417T100000
DTEND;TZID=Europe/Ljubljana:20240417T120000
DTSTAMP:20260421T035754Z
UID:fmf-AFLABS-URNIK:premaknjeno-srecanje:135569
ATTENDEE:5. letnik (PM)
ATTENDEE:magistrski študij (FM)
ATTENDEE:magistrski študij (M)
CATEGORIES:Entry,Standard
COLOR:darkgreen
DESCRIPTION:Predmet: Teorija števil (FM-M\, MAT-M\, PM-5)\, Vaje (V)\nLet
 niki: magistrski študij (FM)\, magistrski študij (M)\, 5. letnik (PM)\nI
 zvajalci: Daniel Vitas\nProstor: 2.02
LOCATION:2.02
ORGANIZER:Daniel Vitas
RELATED-TO:fmf-AFLABS-URNIK:srecanje:10748
X-WR-TIMEZONE:Europe/Ljubljana
END:VEVENT
BEGIN:VEVENT
SUMMARY:Teorija števil (FM-M\, MAT-M\, PM-5)\, Vaje (V)
DTSTART;TZID=Europe/Ljubljana:20240424T100000
DTEND;TZID=Europe/Ljubljana:20240424T120000
DTSTAMP:20260421T035754Z
UID:fmf-AFLABS-URNIK:premaknjeno-srecanje:135570
ATTENDEE:5. letnik (PM)
ATTENDEE:magistrski študij (FM)
ATTENDEE:magistrski študij (M)
CATEGORIES:Entry,Standard
COLOR:darkgreen
DESCRIPTION:Predmet: Teorija števil (FM-M\, MAT-M\, PM-5)\, Vaje (V)\nLet
 niki: magistrski študij (FM)\, magistrski študij (M)\, 5. letnik (PM)\nI
 zvajalci: Daniel Vitas\nProstor: 2.02
LOCATION:2.02
ORGANIZER:Daniel Vitas
RELATED-TO:fmf-AFLABS-URNIK:srecanje:10748
X-WR-TIMEZONE:Europe/Ljubljana
END:VEVENT
BEGIN:VEVENT
SUMMARY:Teorija števil (FM-M\, MAT-M\, PM-5)\, Vaje (V)
DTSTART;TZID=Europe/Ljubljana:20240501T100000
DTEND;TZID=Europe/Ljubljana:20240501T120000
DTSTAMP:20260421T035754Z
UID:fmf-AFLABS-URNIK:premaknjeno-srecanje:135571
ATTENDEE:5. letnik (PM)
ATTENDEE:magistrski študij (FM)
ATTENDEE:magistrski študij (M)
CATEGORIES:Entry,Standard
COLOR:darkgreen
DESCRIPTION:Predmet: Teorija števil (FM-M\, MAT-M\, PM-5)\, Vaje (V)\nLet
 niki: magistrski študij (FM)\, magistrski študij (M)\, 5. letnik (PM)\nI
 zvajalci: Daniel Vitas\nProstor: 2.02
LOCATION:2.02
ORGANIZER:Daniel Vitas
RELATED-TO:fmf-AFLABS-URNIK:srecanje:10748
X-WR-TIMEZONE:Europe/Ljubljana
END:VEVENT
BEGIN:VEVENT
SUMMARY:Teorija števil (FM-M\, MAT-M\, PM-5)\, Vaje (V)
DTSTART;TZID=Europe/Ljubljana:20240508T100000
DTEND;TZID=Europe/Ljubljana:20240508T120000
DTSTAMP:20260421T035754Z
UID:fmf-AFLABS-URNIK:premaknjeno-srecanje:135572
ATTENDEE:5. letnik (PM)
ATTENDEE:magistrski študij (FM)
ATTENDEE:magistrski študij (M)
CATEGORIES:Entry,Standard
COLOR:darkgreen
DESCRIPTION:Predmet: Teorija števil (FM-M\, MAT-M\, PM-5)\, Vaje (V)\nLet
 niki: magistrski študij (FM)\, magistrski študij (M)\, 5. letnik (PM)\nI
 zvajalci: Daniel Vitas\nProstor: 2.02
LOCATION:2.02
ORGANIZER:Daniel Vitas
RELATED-TO:fmf-AFLABS-URNIK:srecanje:10748
X-WR-TIMEZONE:Europe/Ljubljana
END:VEVENT
BEGIN:VEVENT
SUMMARY:Teorija števil (FM-M\, MAT-M\, PM-5)\, Vaje (V)
DTSTART;TZID=Europe/Ljubljana:20240515T100000
DTEND;TZID=Europe/Ljubljana:20240515T120000
DTSTAMP:20260421T035754Z
UID:fmf-AFLABS-URNIK:premaknjeno-srecanje:135573
ATTENDEE:5. letnik (PM)
ATTENDEE:magistrski študij (FM)
ATTENDEE:magistrski študij (M)
CATEGORIES:Entry,Standard
COLOR:darkgreen
DESCRIPTION:Predmet: Teorija števil (FM-M\, MAT-M\, PM-5)\, Vaje (V)\nLet
 niki: magistrski študij (FM)\, magistrski študij (M)\, 5. letnik (PM)\nI
 zvajalci: Daniel Vitas\nProstor: 2.02
LOCATION:2.02
ORGANIZER:Daniel Vitas
RELATED-TO:fmf-AFLABS-URNIK:srecanje:10748
X-WR-TIMEZONE:Europe/Ljubljana
END:VEVENT
BEGIN:VEVENT
SUMMARY:Teorija števil (FM-M\, MAT-M\, PM-5)\, Vaje (V)
DTSTART;TZID=Europe/Ljubljana:20240522T100000
DTEND;TZID=Europe/Ljubljana:20240522T120000
DTSTAMP:20260421T035754Z
UID:fmf-AFLABS-URNIK:premaknjeno-srecanje:135574
ATTENDEE:5. letnik (PM)
ATTENDEE:magistrski študij (FM)
ATTENDEE:magistrski študij (M)
CATEGORIES:Entry,Standard
COLOR:darkgreen
DESCRIPTION:Predmet: Teorija števil (FM-M\, MAT-M\, PM-5)\, Vaje (V)\nLet
 niki: magistrski študij (FM)\, magistrski študij (M)\, 5. letnik (PM)\nI
 zvajalci: Daniel Vitas\nProstor: 2.02
LOCATION:2.02
ORGANIZER:Daniel Vitas
RELATED-TO:fmf-AFLABS-URNIK:srecanje:10748
X-WR-TIMEZONE:Europe/Ljubljana
END:VEVENT
BEGIN:VEVENT
SUMMARY:Teorija števil (FM-M\, MAT-M\, PM-5)\, Vaje (V)
DTSTART;TZID=Europe/Ljubljana:20240529T100000
DTEND;TZID=Europe/Ljubljana:20240529T120000
DTSTAMP:20260421T035754Z
UID:fmf-AFLABS-URNIK:premaknjeno-srecanje:135575
ATTENDEE:5. letnik (PM)
ATTENDEE:magistrski študij (FM)
ATTENDEE:magistrski študij (M)
CATEGORIES:Entry,Standard
COLOR:darkgreen
DESCRIPTION:Predmet: Teorija števil (FM-M\, MAT-M\, PM-5)\, Vaje (V)\nLet
 niki: magistrski študij (FM)\, magistrski študij (M)\, 5. letnik (PM)\nI
 zvajalci: Daniel Vitas\nProstor: 2.02
LOCATION:2.02
ORGANIZER:Daniel Vitas
RELATED-TO:fmf-AFLABS-URNIK:srecanje:10748
X-WR-TIMEZONE:Europe/Ljubljana
END:VEVENT
END:VCALENDAR
