BEGIN:VCALENDAR
VERSION:2.0
PRODID:-//AFLabs urnik izvoz - fmf//aflabs.si//SI
DTSTAMP:20260423T075448Z
NAME:UL FMF urnik
REFRESH-INTERVAL:PT1H
SOURCE:https://urnik.fmf.uni-lj.si/teacher/637?day=2024-06-24&export=1
URL:https://urnik.fmf.uni-lj.si/teacher/637?day=2024-06-24&export=1
X-PUBLISHED-TTL:PT1H
X-WR-CALNAME:UL FMF urnik
X-WR-TIMEZONE:Europe/Ljubljana
BEGIN:VTIMEZONE
TZID:Europe/Ljubljana
BEGIN:DAYLIGHT
DTSTART:20260329T020000
RDATE:20260329T020000
RDATE:20270328T020000
TZNAME:CEST
TZOFFSETFROM:+0100
TZOFFSETTO:+0200
END:DAYLIGHT
BEGIN:STANDARD
DTSTART:20261025T030000
RDATE:20261025T030000
RDATE:20271031T030000
TZNAME:CET
TZOFFSETFROM:+0200
TZOFFSETTO:+0100
END:STANDARD
END:VTIMEZONE
BEGIN:VEVENT
SUMMARY:Teorija števil (FM-M\, MAT-M\, PM-5)\, Vaje (V)
DTSTART;TZID=Europe/Ljubljana:20240522T100000
DTEND;TZID=Europe/Ljubljana:20240522T120000
DTSTAMP:20260423T075448Z
UID:fmf-AFLABS-URNIK:premaknjeno-srecanje:135574
ATTENDEE:5. letnik (PM)
ATTENDEE:magistrski študij (FM)
ATTENDEE:magistrski študij (M)
CATEGORIES:Entry,Standard
COLOR:darkgreen
DESCRIPTION:Predmet: Teorija števil (FM-M\, MAT-M\, PM-5)\, Vaje (V)\nLet
 niki: magistrski študij (FM)\, magistrski študij (M)\, 5. letnik (PM)\nI
 zvajalci: Daniel Vitas\nProstor: 2.02
LOCATION:2.02
ORGANIZER:Daniel Vitas
RELATED-TO:fmf-AFLABS-URNIK:srecanje:10748
X-WR-TIMEZONE:Europe/Ljubljana
END:VEVENT
BEGIN:VEVENT
SUMMARY:Teorija števil (FM-M\, MAT-M\, PM-5)\, Vaje (V)
DTSTART;TZID=Europe/Ljubljana:20240529T100000
DTEND;TZID=Europe/Ljubljana:20240529T120000
DTSTAMP:20260423T075448Z
UID:fmf-AFLABS-URNIK:premaknjeno-srecanje:135575
ATTENDEE:5. letnik (PM)
ATTENDEE:magistrski študij (FM)
ATTENDEE:magistrski študij (M)
CATEGORIES:Entry,Standard
COLOR:darkgreen
DESCRIPTION:Predmet: Teorija števil (FM-M\, MAT-M\, PM-5)\, Vaje (V)\nLet
 niki: magistrski študij (FM)\, magistrski študij (M)\, 5. letnik (PM)\nI
 zvajalci: Daniel Vitas\nProstor: 2.02
LOCATION:2.02
ORGANIZER:Daniel Vitas
RELATED-TO:fmf-AFLABS-URNIK:srecanje:10748
X-WR-TIMEZONE:Europe/Ljubljana
END:VEVENT
END:VCALENDAR
