BEGIN:VCALENDAR
VERSION:2.0
PRODID:-//AFLabs urnik izvoz - fmf//aflabs.si//SI
DTSTAMP:20260422T222021Z
NAME:UL FMF urnik
REFRESH-INTERVAL:PT1H
SOURCE:https://urnik.fmf.uni-lj.si/teacher/653?day=2019-12-09&export=1
URL:https://urnik.fmf.uni-lj.si/teacher/653?day=2019-12-09&export=1
X-PUBLISHED-TTL:PT1H
X-WR-CALNAME:UL FMF urnik
X-WR-TIMEZONE:Europe/Ljubljana
BEGIN:VTIMEZONE
TZID:Europe/Ljubljana
BEGIN:DAYLIGHT
DTSTART:20260329T020000
RDATE:20260329T020000
RDATE:20270328T020000
TZNAME:CEST
TZOFFSETFROM:+0100
TZOFFSETTO:+0200
END:DAYLIGHT
BEGIN:STANDARD
DTSTART:20261025T030000
RDATE:20261025T030000
RDATE:20271031T030000
TZNAME:CET
TZOFFSETFROM:+0200
TZOFFSETTO:+0100
END:STANDARD
END:VTIMEZONE
BEGIN:VEVENT
SUMMARY:Tutorstvo (matematika I) (FIZ-1)\, Vaje (V)\, [6]
DTSTART;TZID=Europe/Ljubljana:20191003T150000
DTEND;TZID=Europe/Ljubljana:20191003T170000
DTSTAMP:20260422T222021Z
UID:fmf-AFLABS-URNIK:premaknjeno-srecanje:112622
ATTENDEE:1. letnik (Fizika, 1. stopnja)
CATEGORIES:Entry,Standard
COLOR:darkgreen
DESCRIPTION:Predmet: Tutorstvo (matematika I) (FIZ-1)\, Vaje (V)\, [6]\nLe
 tniki: 1. letnik (Fizika\, 1. stopnja)\nIzvajalci: Urban Ogrinec\nProstor:
  F3
LOCATION:F3
ORGANIZER:Urban Ogrinec
RELATED-TO:fmf-AFLABS-URNIK:srecanje:3936
X-WR-TIMEZONE:Europe/Ljubljana
END:VEVENT
BEGIN:VEVENT
SUMMARY:Tutorstvo (matematika I) (FIZ-1)\, Vaje (V)\, [6]
DTSTART;TZID=Europe/Ljubljana:20191010T150000
DTEND;TZID=Europe/Ljubljana:20191010T170000
DTSTAMP:20260422T222021Z
UID:fmf-AFLABS-URNIK:premaknjeno-srecanje:112623
ATTENDEE:1. letnik (Fizika, 1. stopnja)
CATEGORIES:Entry,Standard
COLOR:darkgreen
DESCRIPTION:Predmet: Tutorstvo (matematika I) (FIZ-1)\, Vaje (V)\, [6]\nLe
 tniki: 1. letnik (Fizika\, 1. stopnja)\nIzvajalci: Urban Ogrinec\nProstor:
  F3
LOCATION:F3
ORGANIZER:Urban Ogrinec
RELATED-TO:fmf-AFLABS-URNIK:srecanje:3936
X-WR-TIMEZONE:Europe/Ljubljana
END:VEVENT
BEGIN:VEVENT
SUMMARY:Tutorstvo (matematika I) (FIZ-1)\, Vaje (V)\, [6]
DTSTART;TZID=Europe/Ljubljana:20191017T150000
DTEND;TZID=Europe/Ljubljana:20191017T170000
DTSTAMP:20260422T222021Z
UID:fmf-AFLABS-URNIK:premaknjeno-srecanje:112624
ATTENDEE:1. letnik (Fizika, 1. stopnja)
CATEGORIES:Entry,Standard
COLOR:darkgreen
DESCRIPTION:Predmet: Tutorstvo (matematika I) (FIZ-1)\, Vaje (V)\, [6]\nLe
 tniki: 1. letnik (Fizika\, 1. stopnja)\nIzvajalci: Urban Ogrinec\nProstor:
  F3
LOCATION:F3
ORGANIZER:Urban Ogrinec
RELATED-TO:fmf-AFLABS-URNIK:srecanje:3936
X-WR-TIMEZONE:Europe/Ljubljana
END:VEVENT
BEGIN:VEVENT
SUMMARY:Tutorstvo (matematika I) (FIZ-1)\, Vaje (V)\, [6]
DTSTART;TZID=Europe/Ljubljana:20191024T150000
DTEND;TZID=Europe/Ljubljana:20191024T170000
DTSTAMP:20260422T222021Z
UID:fmf-AFLABS-URNIK:premaknjeno-srecanje:112625
ATTENDEE:1. letnik (Fizika, 1. stopnja)
CATEGORIES:Entry,Standard
COLOR:darkgreen
DESCRIPTION:Predmet: Tutorstvo (matematika I) (FIZ-1)\, Vaje (V)\, [6]\nLe
 tniki: 1. letnik (Fizika\, 1. stopnja)\nIzvajalci: Urban Ogrinec\nProstor:
  F3
LOCATION:F3
ORGANIZER:Urban Ogrinec
RELATED-TO:fmf-AFLABS-URNIK:srecanje:3936
X-WR-TIMEZONE:Europe/Ljubljana
END:VEVENT
BEGIN:VEVENT
SUMMARY:Tutorstvo (matematika I) (FIZ-1)\, Vaje (V)\, [6]
DTSTART;TZID=Europe/Ljubljana:20191031T150000
DTEND;TZID=Europe/Ljubljana:20191031T170000
DTSTAMP:20260422T222021Z
UID:fmf-AFLABS-URNIK:premaknjeno-srecanje:112626
ATTENDEE:1. letnik (Fizika, 1. stopnja)
CATEGORIES:Entry,Standard
COLOR:darkgreen
DESCRIPTION:Predmet: Tutorstvo (matematika I) (FIZ-1)\, Vaje (V)\, [6]\nLe
 tniki: 1. letnik (Fizika\, 1. stopnja)\nIzvajalci: Urban Ogrinec\nProstor:
  F3
LOCATION:F3
ORGANIZER:Urban Ogrinec
RELATED-TO:fmf-AFLABS-URNIK:srecanje:3936
X-WR-TIMEZONE:Europe/Ljubljana
END:VEVENT
BEGIN:VEVENT
SUMMARY:Tutorstvo (matematika I) (FIZ-1)\, Vaje (V)\, [6]
DTSTART;TZID=Europe/Ljubljana:20191107T150000
DTEND;TZID=Europe/Ljubljana:20191107T170000
DTSTAMP:20260422T222021Z
UID:fmf-AFLABS-URNIK:premaknjeno-srecanje:112627
ATTENDEE:1. letnik (Fizika, 1. stopnja)
CATEGORIES:Entry,Standard
COLOR:darkgreen
DESCRIPTION:Predmet: Tutorstvo (matematika I) (FIZ-1)\, Vaje (V)\, [6]\nLe
 tniki: 1. letnik (Fizika\, 1. stopnja)\nIzvajalci: Urban Ogrinec\nProstor:
  F3
LOCATION:F3
ORGANIZER:Urban Ogrinec
RELATED-TO:fmf-AFLABS-URNIK:srecanje:3936
X-WR-TIMEZONE:Europe/Ljubljana
END:VEVENT
BEGIN:VEVENT
SUMMARY:Tutorstvo (matematika I) (FIZ-1)\, Vaje (V)\, [6]
DTSTART;TZID=Europe/Ljubljana:20191114T150000
DTEND;TZID=Europe/Ljubljana:20191114T170000
DTSTAMP:20260422T222021Z
UID:fmf-AFLABS-URNIK:premaknjeno-srecanje:112628
ATTENDEE:1. letnik (Fizika, 1. stopnja)
CATEGORIES:Entry,Standard
COLOR:darkgreen
DESCRIPTION:Predmet: Tutorstvo (matematika I) (FIZ-1)\, Vaje (V)\, [6]\nLe
 tniki: 1. letnik (Fizika\, 1. stopnja)\nIzvajalci: Urban Ogrinec\nProstor:
  F3
LOCATION:F3
ORGANIZER:Urban Ogrinec
RELATED-TO:fmf-AFLABS-URNIK:srecanje:3936
X-WR-TIMEZONE:Europe/Ljubljana
END:VEVENT
BEGIN:VEVENT
SUMMARY:Tutorstvo (matematika I) (FIZ-1)\, Vaje (V)\, [6]
DTSTART;TZID=Europe/Ljubljana:20191121T150000
DTEND;TZID=Europe/Ljubljana:20191121T170000
DTSTAMP:20260422T222021Z
UID:fmf-AFLABS-URNIK:premaknjeno-srecanje:112629
ATTENDEE:1. letnik (Fizika, 1. stopnja)
CATEGORIES:Entry,Standard
COLOR:darkgreen
DESCRIPTION:Predmet: Tutorstvo (matematika I) (FIZ-1)\, Vaje (V)\, [6]\nLe
 tniki: 1. letnik (Fizika\, 1. stopnja)\nIzvajalci: Urban Ogrinec\nProstor:
  F3
LOCATION:F3
ORGANIZER:Urban Ogrinec
RELATED-TO:fmf-AFLABS-URNIK:srecanje:3936
X-WR-TIMEZONE:Europe/Ljubljana
END:VEVENT
BEGIN:VEVENT
SUMMARY:Tutorstvo (matematika I) (FIZ-1)\, Vaje (V)\, [6]
DTSTART;TZID=Europe/Ljubljana:20191128T150000
DTEND;TZID=Europe/Ljubljana:20191128T170000
DTSTAMP:20260422T222021Z
UID:fmf-AFLABS-URNIK:premaknjeno-srecanje:112630
ATTENDEE:1. letnik (Fizika, 1. stopnja)
CATEGORIES:Entry,Standard
COLOR:darkgreen
DESCRIPTION:Predmet: Tutorstvo (matematika I) (FIZ-1)\, Vaje (V)\, [6]\nLe
 tniki: 1. letnik (Fizika\, 1. stopnja)\nIzvajalci: Urban Ogrinec\nProstor:
  F3
LOCATION:F3
ORGANIZER:Urban Ogrinec
RELATED-TO:fmf-AFLABS-URNIK:srecanje:3936
X-WR-TIMEZONE:Europe/Ljubljana
END:VEVENT
BEGIN:VEVENT
SUMMARY:Tutorstvo (matematika I) (FIZ-1)\, Vaje (V)\, [6]
DTSTART;TZID=Europe/Ljubljana:20191205T150000
DTEND;TZID=Europe/Ljubljana:20191205T170000
DTSTAMP:20260422T222021Z
UID:fmf-AFLABS-URNIK:premaknjeno-srecanje:112631
ATTENDEE:1. letnik (Fizika, 1. stopnja)
CATEGORIES:Entry,Standard
COLOR:darkgreen
DESCRIPTION:Predmet: Tutorstvo (matematika I) (FIZ-1)\, Vaje (V)\, [6]\nLe
 tniki: 1. letnik (Fizika\, 1. stopnja)\nIzvajalci: Urban Ogrinec\nProstor:
  F3
LOCATION:F3
ORGANIZER:Urban Ogrinec
RELATED-TO:fmf-AFLABS-URNIK:srecanje:3936
X-WR-TIMEZONE:Europe/Ljubljana
END:VEVENT
BEGIN:VEVENT
SUMMARY:Tutorstvo (matematika I) (FIZ-1)\, Vaje (V)\, [6]
DTSTART;TZID=Europe/Ljubljana:20191212T150000
DTEND;TZID=Europe/Ljubljana:20191212T170000
DTSTAMP:20260422T222021Z
UID:fmf-AFLABS-URNIK:premaknjeno-srecanje:112632
ATTENDEE:1. letnik (Fizika, 1. stopnja)
CATEGORIES:Entry,Standard
COLOR:darkgreen
DESCRIPTION:Predmet: Tutorstvo (matematika I) (FIZ-1)\, Vaje (V)\, [6]\nLe
 tniki: 1. letnik (Fizika\, 1. stopnja)\nIzvajalci: Urban Ogrinec\nProstor:
  F3
LOCATION:F3
ORGANIZER:Urban Ogrinec
RELATED-TO:fmf-AFLABS-URNIK:srecanje:3936
X-WR-TIMEZONE:Europe/Ljubljana
END:VEVENT
BEGIN:VEVENT
SUMMARY:Tutorstvo (matematika I) (FIZ-1)\, Vaje (V)\, [6]
DTSTART;TZID=Europe/Ljubljana:20191219T150000
DTEND;TZID=Europe/Ljubljana:20191219T170000
DTSTAMP:20260422T222021Z
UID:fmf-AFLABS-URNIK:premaknjeno-srecanje:112633
ATTENDEE:1. letnik (Fizika, 1. stopnja)
CATEGORIES:Entry,Standard
COLOR:darkgreen
DESCRIPTION:Predmet: Tutorstvo (matematika I) (FIZ-1)\, Vaje (V)\, [6]\nLe
 tniki: 1. letnik (Fizika\, 1. stopnja)\nIzvajalci: Urban Ogrinec\nProstor:
  F3
LOCATION:F3
ORGANIZER:Urban Ogrinec
RELATED-TO:fmf-AFLABS-URNIK:srecanje:3936
X-WR-TIMEZONE:Europe/Ljubljana
END:VEVENT
BEGIN:VEVENT
SUMMARY:Tutorstvo (matematika I) (FIZ-1)\, Vaje (V)\, [6]
DTSTART;TZID=Europe/Ljubljana:20191226T150000
DTEND;TZID=Europe/Ljubljana:20191226T170000
DTSTAMP:20260422T222021Z
UID:fmf-AFLABS-URNIK:premaknjeno-srecanje:112634
ATTENDEE:1. letnik (Fizika, 1. stopnja)
CATEGORIES:Entry,Standard
COLOR:darkgreen
DESCRIPTION:Predmet: Tutorstvo (matematika I) (FIZ-1)\, Vaje (V)\, [6]\nLe
 tniki: 1. letnik (Fizika\, 1. stopnja)\nIzvajalci: Urban Ogrinec\nProstor:
  F3
LOCATION:F3
ORGANIZER:Urban Ogrinec
RELATED-TO:fmf-AFLABS-URNIK:srecanje:3936
X-WR-TIMEZONE:Europe/Ljubljana
END:VEVENT
BEGIN:VEVENT
SUMMARY:Tutorstvo (matematika I) (FIZ-1)\, Vaje (V)\, [6]
DTSTART;TZID=Europe/Ljubljana:20200102T150000
DTEND;TZID=Europe/Ljubljana:20200102T170000
DTSTAMP:20260422T222021Z
UID:fmf-AFLABS-URNIK:premaknjeno-srecanje:112635
ATTENDEE:1. letnik (Fizika, 1. stopnja)
CATEGORIES:Entry,Standard
COLOR:darkgreen
DESCRIPTION:Predmet: Tutorstvo (matematika I) (FIZ-1)\, Vaje (V)\, [6]\nLe
 tniki: 1. letnik (Fizika\, 1. stopnja)\nIzvajalci: Urban Ogrinec\nProstor:
  F3
LOCATION:F3
ORGANIZER:Urban Ogrinec
RELATED-TO:fmf-AFLABS-URNIK:srecanje:3936
X-WR-TIMEZONE:Europe/Ljubljana
END:VEVENT
BEGIN:VEVENT
SUMMARY:Tutorstvo (matematika I) (FIZ-1)\, Vaje (V)\, [6]
DTSTART;TZID=Europe/Ljubljana:20200109T150000
DTEND;TZID=Europe/Ljubljana:20200109T170000
DTSTAMP:20260422T222021Z
UID:fmf-AFLABS-URNIK:premaknjeno-srecanje:112636
ATTENDEE:1. letnik (Fizika, 1. stopnja)
CATEGORIES:Entry,Standard
COLOR:darkgreen
DESCRIPTION:Predmet: Tutorstvo (matematika I) (FIZ-1)\, Vaje (V)\, [6]\nLe
 tniki: 1. letnik (Fizika\, 1. stopnja)\nIzvajalci: Urban Ogrinec\nProstor:
  F3
LOCATION:F3
ORGANIZER:Urban Ogrinec
RELATED-TO:fmf-AFLABS-URNIK:srecanje:3936
X-WR-TIMEZONE:Europe/Ljubljana
END:VEVENT
BEGIN:VEVENT
SUMMARY:Tutorstvo (matematika I) (FIZ-1)\, Vaje (V)\, [6]
DTSTART;TZID=Europe/Ljubljana:20200116T150000
DTEND;TZID=Europe/Ljubljana:20200116T170000
DTSTAMP:20260422T222021Z
UID:fmf-AFLABS-URNIK:premaknjeno-srecanje:112637
ATTENDEE:1. letnik (Fizika, 1. stopnja)
CATEGORIES:Entry,Standard
COLOR:darkgreen
DESCRIPTION:Predmet: Tutorstvo (matematika I) (FIZ-1)\, Vaje (V)\, [6]\nLe
 tniki: 1. letnik (Fizika\, 1. stopnja)\nIzvajalci: Urban Ogrinec\nProstor:
  F3
LOCATION:F3
ORGANIZER:Urban Ogrinec
RELATED-TO:fmf-AFLABS-URNIK:srecanje:3936
X-WR-TIMEZONE:Europe/Ljubljana
END:VEVENT
END:VCALENDAR
