BEGIN:VCALENDAR
VERSION:2.0
PRODID:-//AFLabs urnik izvoz - fmf//aflabs.si//SI
DTSTAMP:20260421T105239Z
NAME:UL FMF urnik
REFRESH-INTERVAL:PT1H
SOURCE:https://urnik.fmf.uni-lj.si/teacher/656?day=2020-02-03&export=1
URL:https://urnik.fmf.uni-lj.si/teacher/656?day=2020-02-03&export=1
X-PUBLISHED-TTL:PT1H
X-WR-CALNAME:UL FMF urnik
X-WR-TIMEZONE:Europe/Ljubljana
BEGIN:VTIMEZONE
TZID:Europe/Ljubljana
BEGIN:DAYLIGHT
DTSTART:20260329T020000
RDATE:20260329T020000
RDATE:20270328T020000
TZNAME:CEST
TZOFFSETFROM:+0100
TZOFFSETTO:+0200
END:DAYLIGHT
BEGIN:STANDARD
DTSTART:20261025T030000
RDATE:20261025T030000
RDATE:20271031T030000
TZNAME:CET
TZOFFSETFROM:+0200
TZOFFSETTO:+0100
END:STANDARD
END:VTIMEZONE
BEGIN:VEVENT
SUMMARY:Tutorstvo (klasična fizika) (FIZ-1)\, Vaje (V)\, [6]
DTSTART;TZID=Europe/Ljubljana:20200102T140000
DTEND;TZID=Europe/Ljubljana:20200102T150000
DTSTAMP:20260421T105239Z
UID:fmf-AFLABS-URNIK:premaknjeno-srecanje:111852
ATTENDEE:1. letnik (Fizika, 1. stopnja)
CATEGORIES:Entry,Standard
COLOR:darkgreen
DESCRIPTION:Predmet: Tutorstvo (klasična fizika) (FIZ-1)\, Vaje (V)\, [6]
 \nLetniki: 1. letnik (Fizika\, 1. stopnja)\nIzvajalci: Don Rolih\nProstor:
  F6
LOCATION:F6
ORGANIZER:Don Rolih
RELATED-TO:fmf-AFLABS-URNIK:srecanje:3943
X-WR-TIMEZONE:Europe/Ljubljana
END:VEVENT
BEGIN:VEVENT
SUMMARY:Tutorstvo (klasična fizika) (FIZ-1)\, Vaje (V)\, [6]
DTSTART;TZID=Europe/Ljubljana:20200109T140000
DTEND;TZID=Europe/Ljubljana:20200109T150000
DTSTAMP:20260421T105239Z
UID:fmf-AFLABS-URNIK:premaknjeno-srecanje:111853
ATTENDEE:1. letnik (Fizika, 1. stopnja)
CATEGORIES:Entry,Standard
COLOR:darkgreen
DESCRIPTION:Predmet: Tutorstvo (klasična fizika) (FIZ-1)\, Vaje (V)\, [6]
 \nLetniki: 1. letnik (Fizika\, 1. stopnja)\nIzvajalci: Don Rolih\nProstor:
  F6
LOCATION:F6
ORGANIZER:Don Rolih
RELATED-TO:fmf-AFLABS-URNIK:srecanje:3943
X-WR-TIMEZONE:Europe/Ljubljana
END:VEVENT
BEGIN:VEVENT
SUMMARY:Tutorstvo (klasična fizika) (FIZ-1)\, Vaje (V)\, [6]
DTSTART;TZID=Europe/Ljubljana:20200116T140000
DTEND;TZID=Europe/Ljubljana:20200116T150000
DTSTAMP:20260421T105239Z
UID:fmf-AFLABS-URNIK:premaknjeno-srecanje:111854
ATTENDEE:1. letnik (Fizika, 1. stopnja)
CATEGORIES:Entry,Standard
COLOR:darkgreen
DESCRIPTION:Predmet: Tutorstvo (klasična fizika) (FIZ-1)\, Vaje (V)\, [6]
 \nLetniki: 1. letnik (Fizika\, 1. stopnja)\nIzvajalci: Don Rolih\nProstor:
  F6
LOCATION:F6
ORGANIZER:Don Rolih
RELATED-TO:fmf-AFLABS-URNIK:srecanje:3943
X-WR-TIMEZONE:Europe/Ljubljana
END:VEVENT
BEGIN:VEVENT
SUMMARY:Tutorstvo (klasična fizika) (FIZ-1)\, Vaje (V)\, [5]
DTSTART;TZID=Europe/Ljubljana:20200221T110000
DTEND;TZID=Europe/Ljubljana:20200221T120000
DTSTAMP:20260421T105239Z
UID:fmf-AFLABS-URNIK:premaknjeno-srecanje:111746
ATTENDEE:1. letnik (Fizika, 1. stopnja)
CATEGORIES:Entry,Standard
COLOR:darkgreen
DESCRIPTION:Predmet: Tutorstvo (klasična fizika) (FIZ-1)\, Vaje (V)\, [5]
 \nLetniki: 1. letnik (Fizika\, 1. stopnja)\nIzvajalci: Don Rolih\nProstor:
  F5
LOCATION:F5
ORGANIZER:Don Rolih
RELATED-TO:fmf-AFLABS-URNIK:srecanje:4641
X-WR-TIMEZONE:Europe/Ljubljana
END:VEVENT
BEGIN:VEVENT
SUMMARY:Tutorstvo (klasična fizika) (FIZ-1)\, Vaje (V)\, [5]
DTSTART;TZID=Europe/Ljubljana:20200228T110000
DTEND;TZID=Europe/Ljubljana:20200228T120000
DTSTAMP:20260421T105239Z
UID:fmf-AFLABS-URNIK:premaknjeno-srecanje:111747
ATTENDEE:1. letnik (Fizika, 1. stopnja)
CATEGORIES:Entry,Standard
COLOR:darkgreen
DESCRIPTION:Predmet: Tutorstvo (klasična fizika) (FIZ-1)\, Vaje (V)\, [5]
 \nLetniki: 1. letnik (Fizika\, 1. stopnja)\nIzvajalci: Don Rolih\nProstor:
  F5
LOCATION:F5
ORGANIZER:Don Rolih
RELATED-TO:fmf-AFLABS-URNIK:srecanje:4641
X-WR-TIMEZONE:Europe/Ljubljana
END:VEVENT
BEGIN:VEVENT
SUMMARY:Tutorstvo (klasična fizika) (FIZ-1)\, Vaje (V)\, [5]
DTSTART;TZID=Europe/Ljubljana:20200306T110000
DTEND;TZID=Europe/Ljubljana:20200306T120000
DTSTAMP:20260421T105239Z
UID:fmf-AFLABS-URNIK:premaknjeno-srecanje:111748
ATTENDEE:1. letnik (Fizika, 1. stopnja)
CATEGORIES:Entry,Standard
COLOR:darkgreen
DESCRIPTION:Predmet: Tutorstvo (klasična fizika) (FIZ-1)\, Vaje (V)\, [5]
 \nLetniki: 1. letnik (Fizika\, 1. stopnja)\nIzvajalci: Don Rolih\nProstor:
  F5
LOCATION:F5
ORGANIZER:Don Rolih
RELATED-TO:fmf-AFLABS-URNIK:srecanje:4641
X-WR-TIMEZONE:Europe/Ljubljana
END:VEVENT
END:VCALENDAR
