BEGIN:VCALENDAR
VERSION:2.0
PRODID:-//AFLabs urnik izvoz - fmf//aflabs.si//SI
DTSTAMP:20260421T043422Z
NAME:UL FMF urnik
REFRESH-INTERVAL:PT1H
SOURCE:https://urnik.fmf.uni-lj.si/teacher/65?day=2022-07-18&export=1
URL:https://urnik.fmf.uni-lj.si/teacher/65?day=2022-07-18&export=1
X-PUBLISHED-TTL:PT1H
X-WR-CALNAME:UL FMF urnik
X-WR-TIMEZONE:Europe/Ljubljana
BEGIN:VTIMEZONE
TZID:Europe/Ljubljana
BEGIN:DAYLIGHT
DTSTART:20260329T020000
RDATE:20260329T020000
RDATE:20270328T020000
TZNAME:CEST
TZOFFSETFROM:+0100
TZOFFSETTO:+0200
END:DAYLIGHT
BEGIN:STANDARD
DTSTART:20261025T030000
RDATE:20261025T030000
RDATE:20271031T030000
TZNAME:CET
TZOFFSETFROM:+0200
TZOFFSETTO:+0100
END:STANDARD
END:VTIMEZONE
BEGIN:VEVENT
SUMMARY:Rezervacija
DTSTART;TZID=Europe/Ljubljana:20220621T090000
DTEND;TZID=Europe/Ljubljana:20220621T110000
DTSTAMP:20260421T043422Z
UID:fmf-AFLABS-URNIK:rezervacija:9423
ATTENDEE:3. letnik (M)
ATTENDEE:3. letnik (PM)
CATEGORIES:Reservation
COLOR:royalblue
DESCRIPTION:Predmeti: Uvod v numerične metode (MAT-3\, PM-3)\nLetniki: 3.
  letnik (M)\, 3. letnik (PM)\nIzvajalci: Jan Grošelj\nProstori: 2.01
LOCATION:2.01
ORGANIZER:Jan Grošelj
X-WR-TIMEZONE:Europe/Ljubljana
END:VEVENT
BEGIN:VEVENT
SUMMARY:Rezervacija
DTSTART;TZID=Europe/Ljubljana:20220623T080000
DTEND;TZID=Europe/Ljubljana:20220623T090000
DTSTAMP:20260421T043422Z
UID:fmf-AFLABS-URNIK:rezervacija:9470
CATEGORIES:Reservation
COLOR:royalblue
DESCRIPTION:Predmeti: \nLetniki: \nIzvajalci: Jan Grošelj\nProstori: 3.06
LOCATION:3.06
ORGANIZER:Jan Grošelj
X-WR-TIMEZONE:Europe/Ljubljana
END:VEVENT
BEGIN:VEVENT
SUMMARY:Rezervacija
DTSTART;TZID=Europe/Ljubljana:20220624T100000
DTEND;TZID=Europe/Ljubljana:20220624T120000
DTSTAMP:20260421T043422Z
UID:fmf-AFLABS-URNIK:rezervacija:9505
ATTENDEE:3. letnik (APM)
CATEGORIES:Reservation
COLOR:royalblue
DESCRIPTION:Predmeti: Numerične metode 2 (APM-3)\nLetniki: 3. letnik (APM
 )\nIzvajalci: Jan Grošelj\, Ada Šadl Praprotnik\nProstori: 3.04
LOCATION:3.04
ORGANIZER:Jan Grošelj, Ada Šadl Praprotnik
X-WR-TIMEZONE:Europe/Ljubljana
END:VEVENT
BEGIN:VEVENT
SUMMARY:Rezervacija
DTSTART;TZID=Europe/Ljubljana:20220627T090000
DTEND;TZID=Europe/Ljubljana:20220627T120000
DTSTAMP:20260421T043422Z
UID:fmf-AFLABS-URNIK:rezervacija:9517
ATTENDEE:5. letnik (PM)
ATTENDEE:magistrski študij (FM)
ATTENDEE:magistrski študij (IŠRM)
ATTENDEE:magistrski študij (M)
CATEGORIES:Reservation
COLOR:royalblue
DESCRIPTION:Predmeti: Numerično reševanje parcialnih diferencialnih ena
 čb (FM-M\, IŠRM-M\, MAT-M\, PM-5)\nLetniki: magistrski študij (FM)\, ma
 gistrski študij (IŠRM)\, magistrski študij (M)\, 5. letnik (PM)\nIzvaja
 lci: Jan Grošelj\nProstori: 2.02
LOCATION:2.02
ORGANIZER:Jan Grošelj
X-WR-TIMEZONE:Europe/Ljubljana
END:VEVENT
END:VCALENDAR
