BEGIN:VCALENDAR
VERSION:2.0
PRODID:-//AFLabs urnik izvoz - fmf//aflabs.si//SI
DTSTAMP:20260425T195121Z
NAME:UL FMF urnik
REFRESH-INTERVAL:PT1H
SOURCE:https://urnik.fmf.uni-lj.si/teacher/65?day=2024-09-09&export=1
URL:https://urnik.fmf.uni-lj.si/teacher/65?day=2024-09-09&export=1
X-PUBLISHED-TTL:PT1H
X-WR-CALNAME:UL FMF urnik
X-WR-TIMEZONE:Europe/Ljubljana
BEGIN:VTIMEZONE
TZID:Europe/Ljubljana
BEGIN:DAYLIGHT
DTSTART:20260329T020000
RDATE:20260329T020000
RDATE:20270328T020000
TZNAME:CEST
TZOFFSETFROM:+0100
TZOFFSETTO:+0200
END:DAYLIGHT
BEGIN:STANDARD
DTSTART:20261025T030000
RDATE:20261025T030000
RDATE:20271031T030000
TZNAME:CET
TZOFFSETFROM:+0200
TZOFFSETTO:+0100
END:STANDARD
END:VTIMEZONE
BEGIN:VEVENT
SUMMARY:Uvod v numerične metode (MAT-3\, PM-3)\, Vaje (V)
DTSTART;TZID=Europe/Ljubljana:20241002T150000
DTEND;TZID=Europe/Ljubljana:20241002T170000
DTSTAMP:20260425T195121Z
UID:fmf-AFLABS-URNIK:premaknjeno-srecanje:186187
ATTENDEE:3. letnik (M)
ATTENDEE:3. letnik (PM)
CATEGORIES:Entry,Standard
COLOR:darkgreen
DESCRIPTION:Predmet: Uvod v numerične metode (MAT-3\, PM-3)\, Vaje (V)\nL
 etniki: 3. letnik (M)\, 3. letnik (PM)\nIzvajalci: Jan Grošelj\nProstor: 
 3.11
LOCATION:3.11
ORGANIZER:Jan Grošelj
RELATED-TO:fmf-AFLABS-URNIK:srecanje:14132
X-WR-TIMEZONE:Europe/Ljubljana
END:VEVENT
BEGIN:VEVENT
SUMMARY:Uvod v numerične metode (MAT-3\, PM-3)\, Vaje (V)
DTSTART;TZID=Europe/Ljubljana:20241009T150000
DTEND;TZID=Europe/Ljubljana:20241009T170000
DTSTAMP:20260425T195121Z
UID:fmf-AFLABS-URNIK:premaknjeno-srecanje:186188
ATTENDEE:3. letnik (M)
ATTENDEE:3. letnik (PM)
CATEGORIES:Entry,Standard
COLOR:darkgreen
DESCRIPTION:Predmet: Uvod v numerične metode (MAT-3\, PM-3)\, Vaje (V)\nL
 etniki: 3. letnik (M)\, 3. letnik (PM)\nIzvajalci: Jan Grošelj\nProstor: 
 3.11
LOCATION:3.11
ORGANIZER:Jan Grošelj
RELATED-TO:fmf-AFLABS-URNIK:srecanje:14132
X-WR-TIMEZONE:Europe/Ljubljana
END:VEVENT
BEGIN:VEVENT
SUMMARY:Računalniško podprto (geometrijsko) oblikovanje (FM-M\, IŠRM-M\
 , MAT-M\, PM-5)\, Vaje (V)
DTSTART;TZID=Europe/Ljubljana:20241004T100000
DTEND;TZID=Europe/Ljubljana:20241004T120000
DTSTAMP:20260425T195121Z
UID:fmf-AFLABS-URNIK:premaknjeno-srecanje:196213
ATTENDEE:5. letnik (PM)
ATTENDEE:magistrski študij (FM)
ATTENDEE:magistrski študij (IŠRM)
ATTENDEE:magistrski študij (M)
CATEGORIES:Entry,Standard
COLOR:darkgreen
DESCRIPTION:Predmet: Računalniško podprto (geometrijsko) oblikovanje (FM
 -M\, IŠRM-M\, MAT-M\, PM-5)\, Vaje (V)\nLetniki: magistrski študij (FM)\
 , magistrski študij (IŠRM)\, magistrski študij (M)\, 5. letnik (PM)\nIz
 vajalci: Jan Grošelj\nProstor: 3.11
LOCATION:3.11
ORGANIZER:Jan Grošelj
RELATED-TO:fmf-AFLABS-URNIK:srecanje:14520
X-WR-TIMEZONE:Europe/Ljubljana
END:VEVENT
BEGIN:VEVENT
SUMMARY:Računalniško podprto (geometrijsko) oblikovanje (FM-M\, IŠRM-M\
 , MAT-M\, PM-5)\, Vaje (V)
DTSTART;TZID=Europe/Ljubljana:20241011T100000
DTEND;TZID=Europe/Ljubljana:20241011T120000
DTSTAMP:20260425T195121Z
UID:fmf-AFLABS-URNIK:premaknjeno-srecanje:196214
ATTENDEE:5. letnik (PM)
ATTENDEE:magistrski študij (FM)
ATTENDEE:magistrski študij (IŠRM)
ATTENDEE:magistrski študij (M)
CATEGORIES:Entry,Standard
COLOR:darkgreen
DESCRIPTION:Predmet: Računalniško podprto (geometrijsko) oblikovanje (FM
 -M\, IŠRM-M\, MAT-M\, PM-5)\, Vaje (V)\nLetniki: magistrski študij (FM)\
 , magistrski študij (IŠRM)\, magistrski študij (M)\, 5. letnik (PM)\nIz
 vajalci: Jan Grošelj\nProstor: 3.11
LOCATION:3.11
ORGANIZER:Jan Grošelj
RELATED-TO:fmf-AFLABS-URNIK:srecanje:14520
X-WR-TIMEZONE:Europe/Ljubljana
END:VEVENT
BEGIN:VEVENT
SUMMARY:Računalniško podprto (geometrijsko) oblikovanje (FM-M\, IŠRM-M\
 , MAT-M\, PM-5)\, Vaje (V)\, [2]
DTSTART;TZID=Europe/Ljubljana:20241007T120000
DTEND;TZID=Europe/Ljubljana:20241007T140000
DTSTAMP:20260425T195121Z
UID:fmf-AFLABS-URNIK:premaknjeno-srecanje:184372
ATTENDEE:5. letnik (PM)
ATTENDEE:magistrski študij (FM)
ATTENDEE:magistrski študij (IŠRM)
ATTENDEE:magistrski študij (M)
CATEGORIES:Entry,Standard
COLOR:darkgreen
DESCRIPTION:Predmet: Računalniško podprto (geometrijsko) oblikovanje (FM
 -M\, IŠRM-M\, MAT-M\, PM-5)\, Vaje (V)\, [2]\nLetniki: magistrski študij
  (FM)\, magistrski študij (IŠRM)\, magistrski študij (M)\, 5. letnik (P
 M)\nIzvajalci: Jan Grošelj\nProstor: 3.11
LOCATION:3.11
ORGANIZER:Jan Grošelj
RELATED-TO:fmf-AFLABS-URNIK:srecanje:14011
X-WR-TIMEZONE:Europe/Ljubljana
END:VEVENT
BEGIN:VEVENT
SUMMARY:Računalniško podprto (geometrijsko) oblikovanje (FM-M\, IŠRM-M\
 , MAT-M\, PM-5)\, Vaje (V)\, [2]
DTSTART;TZID=Europe/Ljubljana:20241014T120000
DTEND;TZID=Europe/Ljubljana:20241014T140000
DTSTAMP:20260425T195121Z
UID:fmf-AFLABS-URNIK:premaknjeno-srecanje:184373
ATTENDEE:5. letnik (PM)
ATTENDEE:magistrski študij (FM)
ATTENDEE:magistrski študij (IŠRM)
ATTENDEE:magistrski študij (M)
CATEGORIES:Entry,Standard
COLOR:darkgreen
DESCRIPTION:Predmet: Računalniško podprto (geometrijsko) oblikovanje (FM
 -M\, IŠRM-M\, MAT-M\, PM-5)\, Vaje (V)\, [2]\nLetniki: magistrski študij
  (FM)\, magistrski študij (IŠRM)\, magistrski študij (M)\, 5. letnik (P
 M)\nIzvajalci: Jan Grošelj\nProstor: 3.11
LOCATION:3.11
ORGANIZER:Jan Grošelj
RELATED-TO:fmf-AFLABS-URNIK:srecanje:14011
X-WR-TIMEZONE:Europe/Ljubljana
END:VEVENT
BEGIN:VEVENT
SUMMARY:Uvod v numerične metode (MAT-3\, PM-3)\, Vaje (V)
DTSTART;TZID=Europe/Ljubljana:20241007T100000
DTEND;TZID=Europe/Ljubljana:20241007T120000
DTSTAMP:20260425T195121Z
UID:fmf-AFLABS-URNIK:premaknjeno-srecanje:186172
ATTENDEE:3. letnik (M)
ATTENDEE:3. letnik (PM)
CATEGORIES:Entry,Standard
COLOR:darkgreen
DESCRIPTION:Predmet: Uvod v numerične metode (MAT-3\, PM-3)\, Vaje (V)\nL
 etniki: 3. letnik (M)\, 3. letnik (PM)\nIzvajalci: Jan Grošelj\nProstor: 
 3.04
LOCATION:3.04
ORGANIZER:Jan Grošelj
RELATED-TO:fmf-AFLABS-URNIK:srecanje:14131
X-WR-TIMEZONE:Europe/Ljubljana
END:VEVENT
BEGIN:VEVENT
SUMMARY:Uvod v numerične metode (MAT-3\, PM-3)\, Vaje (V)
DTSTART;TZID=Europe/Ljubljana:20241014T100000
DTEND;TZID=Europe/Ljubljana:20241014T120000
DTSTAMP:20260425T195121Z
UID:fmf-AFLABS-URNIK:premaknjeno-srecanje:186173
ATTENDEE:3. letnik (M)
ATTENDEE:3. letnik (PM)
CATEGORIES:Entry,Standard
COLOR:darkgreen
DESCRIPTION:Predmet: Uvod v numerične metode (MAT-3\, PM-3)\, Vaje (V)\nL
 etniki: 3. letnik (M)\, 3. letnik (PM)\nIzvajalci: Jan Grošelj\nProstor: 
 3.04
LOCATION:3.04
ORGANIZER:Jan Grošelj
RELATED-TO:fmf-AFLABS-URNIK:srecanje:14131
X-WR-TIMEZONE:Europe/Ljubljana
END:VEVENT
BEGIN:VEVENT
SUMMARY:Programska oprema pri pouku (PM-2\, PM-3)\, Predavanja (P)
DTSTART;TZID=Europe/Ljubljana:20241011T080000
DTEND;TZID=Europe/Ljubljana:20241011T100000
DTSTAMP:20260425T195121Z
UID:fmf-AFLABS-URNIK:premaknjeno-srecanje:188187
ATTENDEE:2. letnik (PM)
ATTENDEE:3. letnik (PM)
CATEGORIES:Entry,Standard
COLOR:darkgreen
DESCRIPTION:Predmet: Programska oprema pri pouku (PM-2\, PM-3)\, Predavanj
 a (P)\nLetniki: 2. letnik (PM)\, 3. letnik (PM)\nIzvajalci: Jan Grošelj\n
 Prostor: 3.11
LOCATION:3.11
ORGANIZER:Jan Grošelj
RELATED-TO:fmf-AFLABS-URNIK:srecanje:14438
X-WR-TIMEZONE:Europe/Ljubljana
END:VEVENT
BEGIN:VEVENT
SUMMARY:Rezervacija
DTSTART;TZID=Europe/Ljubljana:20240827T090000
DTEND;TZID=Europe/Ljubljana:20240827T120000
DTSTAMP:20260425T195121Z
UID:fmf-AFLABS-URNIK:rezervacija:14103
ATTENDEE:3. letnik (M)
ATTENDEE:3. letnik (PM)
CATEGORIES:Reservation
COLOR:royalblue
DESCRIPTION:Predmeti: Uvod v numerične metode (MAT-3\, PM-3)\nLetniki: 3.
  letnik (M)\, 3. letnik (PM)\nIzvajalci: Jan Grošelj\nProstori: 2.05
LOCATION:2.05
ORGANIZER:Jan Grošelj
X-WR-TIMEZONE:Europe/Ljubljana
END:VEVENT
BEGIN:VEVENT
SUMMARY:Rezervacija
DTSTART;TZID=Europe/Ljubljana:20240829T090000
DTEND;TZID=Europe/Ljubljana:20240829T120000
DTSTAMP:20260425T195121Z
UID:fmf-AFLABS-URNIK:rezervacija:14111
ATTENDEE:5. letnik (PM)
ATTENDEE:magistrski študij (FM)
ATTENDEE:magistrski študij (IŠRM)
ATTENDEE:magistrski študij (M)
CATEGORIES:Reservation
COLOR:royalblue
DESCRIPTION:Predmeti: Izbrana poglavja iz numerične matematike  / Numeri
 čna aproksimacija in interpolacija (FM-M\, IŠRM-M\, MAT-M\, PM-5)\nLetni
 ki: magistrski študij (FM)\, magistrski študij (IŠRM)\, magistrski štu
 dij (M)\, 5. letnik (PM)\nIzvajalci: Jan Grošelj\nProstori: 2.01
LOCATION:2.01
ORGANIZER:Jan Grošelj
X-WR-TIMEZONE:Europe/Ljubljana
END:VEVENT
BEGIN:VEVENT
SUMMARY:Srečanje z gostujočimi raziskovalci
DTSTART;TZID=Europe/Ljubljana:20240923T080000
DTEND;TZID=Europe/Ljubljana:20240923T180000
DTSTAMP:20260425T195121Z
UID:fmf-AFLABS-URNIK:rezervacija:18211
CATEGORIES:Reservation
COLOR:royalblue
DESCRIPTION:Predmeti: \nLetniki: \nIzvajalci: Jan Grošelj\nProstori: 3.06
LOCATION:3.06
ORGANIZER:Jan Grošelj
X-WR-TIMEZONE:Europe/Ljubljana
END:VEVENT
BEGIN:VEVENT
SUMMARY:Srečanje z gostujočimi raziskovalci
DTSTART;TZID=Europe/Ljubljana:20240924T080000
DTEND;TZID=Europe/Ljubljana:20240924T180000
DTSTAMP:20260425T195121Z
UID:fmf-AFLABS-URNIK:rezervacija:18212
CATEGORIES:Reservation
COLOR:royalblue
DESCRIPTION:Predmeti: \nLetniki: \nIzvajalci: Jan Grošelj\nProstori: 3.06
LOCATION:3.06
ORGANIZER:Jan Grošelj
X-WR-TIMEZONE:Europe/Ljubljana
END:VEVENT
BEGIN:VEVENT
SUMMARY:Srečanje z gostujočimi raziskovalci
DTSTART;TZID=Europe/Ljubljana:20240925T080000
DTEND;TZID=Europe/Ljubljana:20240925T180000
DTSTAMP:20260425T195121Z
UID:fmf-AFLABS-URNIK:rezervacija:18216
CATEGORIES:Reservation
COLOR:royalblue
DESCRIPTION:Predmeti: \nLetniki: \nIzvajalci: Jan Grošelj\nProstori: 3.06
LOCATION:3.06
ORGANIZER:Jan Grošelj
X-WR-TIMEZONE:Europe/Ljubljana
END:VEVENT
BEGIN:VEVENT
SUMMARY:Srečanje z gostujočimi raziskovalci
DTSTART;TZID=Europe/Ljubljana:20240924T090000
DTEND;TZID=Europe/Ljubljana:20240924T170000
DTSTAMP:20260425T195121Z
UID:fmf-AFLABS-URNIK:rezervacija:18404
CATEGORIES:Reservation
COLOR:royalblue
DESCRIPTION:Predmeti: \nLetniki: \nIzvajalci: Jan Grošelj\nProstori: 3.07
LOCATION:3.07
ORGANIZER:Jan Grošelj
X-WR-TIMEZONE:Europe/Ljubljana
END:VEVENT
END:VCALENDAR
