BEGIN:VCALENDAR
VERSION:2.0
PRODID:-//AFLabs urnik izvoz - fmf//aflabs.si//SI
DTSTAMP:20260420T134209Z
NAME:UL FMF urnik
REFRESH-INTERVAL:PT1H
SOURCE:https://urnik.fmf.uni-lj.si/teacher/665?day=2023-04-24&export=1
URL:https://urnik.fmf.uni-lj.si/teacher/665?day=2023-04-24&export=1
X-PUBLISHED-TTL:PT1H
X-WR-CALNAME:UL FMF urnik
X-WR-TIMEZONE:Europe/Ljubljana
BEGIN:VTIMEZONE
TZID:Europe/Ljubljana
BEGIN:DAYLIGHT
DTSTART:20260329T020000
RDATE:20260329T020000
RDATE:20270328T020000
TZNAME:CEST
TZOFFSETFROM:+0100
TZOFFSETTO:+0200
END:DAYLIGHT
BEGIN:STANDARD
DTSTART:20261025T030000
RDATE:20261025T030000
RDATE:20271031T030000
TZNAME:CET
TZOFFSETFROM:+0200
TZOFFSETTO:+0100
END:STANDARD
END:VTIMEZONE
BEGIN:VEVENT
SUMMARY:Klasična fizika (FIZ-1)\, Vaje (V)\, [2]
DTSTART;TZID=Europe/Ljubljana:20230216T080000
DTEND;TZID=Europe/Ljubljana:20230216T100000
DTSTAMP:20260420T134209Z
UID:fmf-AFLABS-URNIK:premaknjeno-srecanje:51035
ATTENDEE:1. letnik (Fizika, 1. stopnja)
CATEGORIES:Entry,Standard
COLOR:darkgreen
DESCRIPTION:Predmet: Klasična fizika (FIZ-1)\, Vaje (V)\, [2]\nLetniki: 1
 . letnik (Fizika\, 1. stopnja)\nIzvajalci: Enej Ilievski\nProstor: F1
LOCATION:F1
ORGANIZER:Enej Ilievski
RELATED-TO:fmf-AFLABS-URNIK:srecanje:8456
X-WR-TIMEZONE:Europe/Ljubljana
END:VEVENT
BEGIN:VEVENT
SUMMARY:Klasična fizika (FIZ-1)\, Vaje (V)\, [2]
DTSTART;TZID=Europe/Ljubljana:20230223T080000
DTEND;TZID=Europe/Ljubljana:20230223T100000
DTSTAMP:20260420T134209Z
UID:fmf-AFLABS-URNIK:premaknjeno-srecanje:51036
ATTENDEE:1. letnik (Fizika, 1. stopnja)
CATEGORIES:Entry,Standard
COLOR:darkgreen
DESCRIPTION:Predmet: Klasična fizika (FIZ-1)\, Vaje (V)\, [2]\nLetniki: 1
 . letnik (Fizika\, 1. stopnja)\nIzvajalci: Enej Ilievski\nProstor: F1
LOCATION:F1
ORGANIZER:Enej Ilievski
RELATED-TO:fmf-AFLABS-URNIK:srecanje:8456
X-WR-TIMEZONE:Europe/Ljubljana
END:VEVENT
BEGIN:VEVENT
SUMMARY:Klasična fizika (FIZ-1)\, Vaje (V)\, [2]
DTSTART;TZID=Europe/Ljubljana:20230302T080000
DTEND;TZID=Europe/Ljubljana:20230302T100000
DTSTAMP:20260420T134209Z
UID:fmf-AFLABS-URNIK:premaknjeno-srecanje:51037
ATTENDEE:1. letnik (Fizika, 1. stopnja)
CATEGORIES:Entry,Standard
COLOR:darkgreen
DESCRIPTION:Predmet: Klasična fizika (FIZ-1)\, Vaje (V)\, [2]\nLetniki: 1
 . letnik (Fizika\, 1. stopnja)\nIzvajalci: Enej Ilievski\nProstor: F1
LOCATION:F1
ORGANIZER:Enej Ilievski
RELATED-TO:fmf-AFLABS-URNIK:srecanje:8456
X-WR-TIMEZONE:Europe/Ljubljana
END:VEVENT
BEGIN:VEVENT
SUMMARY:Klasična fizika (FIZ-1)\, Vaje (V)\, [2]
DTSTART;TZID=Europe/Ljubljana:20230309T080000
DTEND;TZID=Europe/Ljubljana:20230309T100000
DTSTAMP:20260420T134209Z
UID:fmf-AFLABS-URNIK:premaknjeno-srecanje:51038
ATTENDEE:1. letnik (Fizika, 1. stopnja)
CATEGORIES:Entry,Standard
COLOR:darkgreen
DESCRIPTION:Predmet: Klasična fizika (FIZ-1)\, Vaje (V)\, [2]\nLetniki: 1
 . letnik (Fizika\, 1. stopnja)\nIzvajalci: Enej Ilievski\nProstor: F1
LOCATION:F1
ORGANIZER:Enej Ilievski
RELATED-TO:fmf-AFLABS-URNIK:srecanje:8456
X-WR-TIMEZONE:Europe/Ljubljana
END:VEVENT
BEGIN:VEVENT
SUMMARY:Klasična fizika (FIZ-1)\, Vaje (V)\, [2]
DTSTART;TZID=Europe/Ljubljana:20230316T080000
DTEND;TZID=Europe/Ljubljana:20230316T100000
DTSTAMP:20260420T134209Z
UID:fmf-AFLABS-URNIK:premaknjeno-srecanje:51039
ATTENDEE:1. letnik (Fizika, 1. stopnja)
CATEGORIES:Entry,Standard
COLOR:darkgreen
DESCRIPTION:Predmet: Klasična fizika (FIZ-1)\, Vaje (V)\, [2]\nLetniki: 1
 . letnik (Fizika\, 1. stopnja)\nIzvajalci: Enej Ilievski\nProstor: F1
LOCATION:F1
ORGANIZER:Enej Ilievski
RELATED-TO:fmf-AFLABS-URNIK:srecanje:8456
X-WR-TIMEZONE:Europe/Ljubljana
END:VEVENT
BEGIN:VEVENT
SUMMARY:Klasična fizika (FIZ-1)\, Vaje (V)\, [2]
DTSTART;TZID=Europe/Ljubljana:20230323T080000
DTEND;TZID=Europe/Ljubljana:20230323T100000
DTSTAMP:20260420T134209Z
UID:fmf-AFLABS-URNIK:premaknjeno-srecanje:51040
ATTENDEE:1. letnik (Fizika, 1. stopnja)
CATEGORIES:Entry,Standard
COLOR:darkgreen
DESCRIPTION:Predmet: Klasična fizika (FIZ-1)\, Vaje (V)\, [2]\nLetniki: 1
 . letnik (Fizika\, 1. stopnja)\nIzvajalci: Enej Ilievski\nProstor: F1
LOCATION:F1
ORGANIZER:Enej Ilievski
RELATED-TO:fmf-AFLABS-URNIK:srecanje:8456
X-WR-TIMEZONE:Europe/Ljubljana
END:VEVENT
BEGIN:VEVENT
SUMMARY:Klasična fizika (FIZ-1)\, Vaje (V)\, [2]
DTSTART;TZID=Europe/Ljubljana:20230330T080000
DTEND;TZID=Europe/Ljubljana:20230330T100000
DTSTAMP:20260420T134209Z
UID:fmf-AFLABS-URNIK:premaknjeno-srecanje:51041
ATTENDEE:1. letnik (Fizika, 1. stopnja)
CATEGORIES:Entry,Standard
COLOR:darkgreen
DESCRIPTION:Predmet: Klasična fizika (FIZ-1)\, Vaje (V)\, [2]\nLetniki: 1
 . letnik (Fizika\, 1. stopnja)\nIzvajalci: Enej Ilievski\nProstor: F1
LOCATION:F1
ORGANIZER:Enej Ilievski
RELATED-TO:fmf-AFLABS-URNIK:srecanje:8456
X-WR-TIMEZONE:Europe/Ljubljana
END:VEVENT
BEGIN:VEVENT
SUMMARY:Klasična fizika (FIZ-1)\, Vaje (V)\, [2]
DTSTART;TZID=Europe/Ljubljana:20230406T080000
DTEND;TZID=Europe/Ljubljana:20230406T100000
DTSTAMP:20260420T134209Z
UID:fmf-AFLABS-URNIK:premaknjeno-srecanje:51042
ATTENDEE:1. letnik (Fizika, 1. stopnja)
CATEGORIES:Entry,Standard
COLOR:darkgreen
DESCRIPTION:Predmet: Klasična fizika (FIZ-1)\, Vaje (V)\, [2]\nLetniki: 1
 . letnik (Fizika\, 1. stopnja)\nIzvajalci: Enej Ilievski\nProstor: F1
LOCATION:F1
ORGANIZER:Enej Ilievski
RELATED-TO:fmf-AFLABS-URNIK:srecanje:8456
X-WR-TIMEZONE:Europe/Ljubljana
END:VEVENT
BEGIN:VEVENT
SUMMARY:Klasična fizika (FIZ-1)\, Vaje (V)\, [2]
DTSTART;TZID=Europe/Ljubljana:20230413T080000
DTEND;TZID=Europe/Ljubljana:20230413T100000
DTSTAMP:20260420T134209Z
UID:fmf-AFLABS-URNIK:premaknjeno-srecanje:51043
ATTENDEE:1. letnik (Fizika, 1. stopnja)
CATEGORIES:Entry,Standard
COLOR:darkgreen
DESCRIPTION:Predmet: Klasična fizika (FIZ-1)\, Vaje (V)\, [2]\nLetniki: 1
 . letnik (Fizika\, 1. stopnja)\nIzvajalci: Enej Ilievski\nProstor: F1
LOCATION:F1
ORGANIZER:Enej Ilievski
RELATED-TO:fmf-AFLABS-URNIK:srecanje:8456
X-WR-TIMEZONE:Europe/Ljubljana
END:VEVENT
BEGIN:VEVENT
SUMMARY:Klasična fizika (FIZ-1)\, Vaje (V)\, [2]
DTSTART;TZID=Europe/Ljubljana:20230420T080000
DTEND;TZID=Europe/Ljubljana:20230420T100000
DTSTAMP:20260420T134209Z
UID:fmf-AFLABS-URNIK:premaknjeno-srecanje:51044
ATTENDEE:1. letnik (Fizika, 1. stopnja)
CATEGORIES:Entry,Standard
COLOR:darkgreen
DESCRIPTION:Predmet: Klasična fizika (FIZ-1)\, Vaje (V)\, [2]\nLetniki: 1
 . letnik (Fizika\, 1. stopnja)\nIzvajalci: Enej Ilievski\nProstor: F1
LOCATION:F1
ORGANIZER:Enej Ilievski
RELATED-TO:fmf-AFLABS-URNIK:srecanje:8456
X-WR-TIMEZONE:Europe/Ljubljana
END:VEVENT
BEGIN:VEVENT
SUMMARY:Klasična fizika (FIZ-1)\, Vaje (V)\, [2]
DTSTART;TZID=Europe/Ljubljana:20230427T080000
DTEND;TZID=Europe/Ljubljana:20230427T100000
DTSTAMP:20260420T134209Z
UID:fmf-AFLABS-URNIK:premaknjeno-srecanje:51045
ATTENDEE:1. letnik (Fizika, 1. stopnja)
CATEGORIES:Entry,Standard
COLOR:darkgreen
DESCRIPTION:Predmet: Klasična fizika (FIZ-1)\, Vaje (V)\, [2]\nLetniki: 1
 . letnik (Fizika\, 1. stopnja)\nIzvajalci: Enej Ilievski\nProstor: F1
LOCATION:F1
ORGANIZER:Enej Ilievski
RELATED-TO:fmf-AFLABS-URNIK:srecanje:8456
X-WR-TIMEZONE:Europe/Ljubljana
END:VEVENT
BEGIN:VEVENT
SUMMARY:Klasična fizika (FIZ-1)\, Vaje (V)\, [2]
DTSTART;TZID=Europe/Ljubljana:20230504T080000
DTEND;TZID=Europe/Ljubljana:20230504T100000
DTSTAMP:20260420T134209Z
UID:fmf-AFLABS-URNIK:premaknjeno-srecanje:51046
ATTENDEE:1. letnik (Fizika, 1. stopnja)
CATEGORIES:Entry,Standard
COLOR:darkgreen
DESCRIPTION:Predmet: Klasična fizika (FIZ-1)\, Vaje (V)\, [2]\nLetniki: 1
 . letnik (Fizika\, 1. stopnja)\nIzvajalci: Enej Ilievski\nProstor: F1
LOCATION:F1
ORGANIZER:Enej Ilievski
RELATED-TO:fmf-AFLABS-URNIK:srecanje:8456
X-WR-TIMEZONE:Europe/Ljubljana
END:VEVENT
BEGIN:VEVENT
SUMMARY:Klasična fizika (FIZ-1)\, Vaje (V)\, [2]
DTSTART;TZID=Europe/Ljubljana:20230511T080000
DTEND;TZID=Europe/Ljubljana:20230511T100000
DTSTAMP:20260420T134209Z
UID:fmf-AFLABS-URNIK:premaknjeno-srecanje:51047
ATTENDEE:1. letnik (Fizika, 1. stopnja)
CATEGORIES:Entry,Standard
COLOR:darkgreen
DESCRIPTION:Predmet: Klasična fizika (FIZ-1)\, Vaje (V)\, [2]\nLetniki: 1
 . letnik (Fizika\, 1. stopnja)\nIzvajalci: Enej Ilievski\nProstor: F1
LOCATION:F1
ORGANIZER:Enej Ilievski
RELATED-TO:fmf-AFLABS-URNIK:srecanje:8456
X-WR-TIMEZONE:Europe/Ljubljana
END:VEVENT
BEGIN:VEVENT
SUMMARY:Klasična fizika (FIZ-1)\, Vaje (V)\, [2]
DTSTART;TZID=Europe/Ljubljana:20230518T080000
DTEND;TZID=Europe/Ljubljana:20230518T100000
DTSTAMP:20260420T134209Z
UID:fmf-AFLABS-URNIK:premaknjeno-srecanje:51048
ATTENDEE:1. letnik (Fizika, 1. stopnja)
CATEGORIES:Entry,Standard
COLOR:darkgreen
DESCRIPTION:Predmet: Klasična fizika (FIZ-1)\, Vaje (V)\, [2]\nLetniki: 1
 . letnik (Fizika\, 1. stopnja)\nIzvajalci: Enej Ilievski\nProstor: F1
LOCATION:F1
ORGANIZER:Enej Ilievski
RELATED-TO:fmf-AFLABS-URNIK:srecanje:8456
X-WR-TIMEZONE:Europe/Ljubljana
END:VEVENT
BEGIN:VEVENT
SUMMARY:Klasična fizika (FIZ-1)\, Vaje (V)\, [2]
DTSTART;TZID=Europe/Ljubljana:20230525T080000
DTEND;TZID=Europe/Ljubljana:20230525T100000
DTSTAMP:20260420T134209Z
UID:fmf-AFLABS-URNIK:premaknjeno-srecanje:51049
ATTENDEE:1. letnik (Fizika, 1. stopnja)
CATEGORIES:Entry,Standard
COLOR:darkgreen
DESCRIPTION:Predmet: Klasična fizika (FIZ-1)\, Vaje (V)\, [2]\nLetniki: 1
 . letnik (Fizika\, 1. stopnja)\nIzvajalci: Enej Ilievski\nProstor: F1
LOCATION:F1
ORGANIZER:Enej Ilievski
RELATED-TO:fmf-AFLABS-URNIK:srecanje:8456
X-WR-TIMEZONE:Europe/Ljubljana
END:VEVENT
BEGIN:VEVENT
SUMMARY:Klasična fizika (FIZ-1)\, Vaje (V)\, [2]
DTSTART;TZID=Europe/Ljubljana:20230601T080000
DTEND;TZID=Europe/Ljubljana:20230601T100000
DTSTAMP:20260420T134209Z
UID:fmf-AFLABS-URNIK:premaknjeno-srecanje:51050
ATTENDEE:1. letnik (Fizika, 1. stopnja)
CATEGORIES:Entry,Standard
COLOR:darkgreen
DESCRIPTION:Predmet: Klasična fizika (FIZ-1)\, Vaje (V)\, [2]\nLetniki: 1
 . letnik (Fizika\, 1. stopnja)\nIzvajalci: Enej Ilievski\nProstor: F1
LOCATION:F1
ORGANIZER:Enej Ilievski
RELATED-TO:fmf-AFLABS-URNIK:srecanje:8456
X-WR-TIMEZONE:Europe/Ljubljana
END:VEVENT
BEGIN:VEVENT
SUMMARY:Klasična fizika (FIZ-1)\, Vaje (V)\, [2]
DTSTART;TZID=Europe/Ljubljana:20230217T080000
DTEND;TZID=Europe/Ljubljana:20230217T110000
DTSTAMP:20260420T134209Z
UID:fmf-AFLABS-URNIK:premaknjeno-srecanje:51143
ATTENDEE:1. letnik (Fizika, 1. stopnja)
CATEGORIES:Entry,Standard
COLOR:darkgreen
DESCRIPTION:Predmet: Klasična fizika (FIZ-1)\, Vaje (V)\, [2]\nLetniki: 1
 . letnik (Fizika\, 1. stopnja)\nIzvajalci: Enej Ilievski\nProstor: F1
LOCATION:F1
ORGANIZER:Enej Ilievski
RELATED-TO:fmf-AFLABS-URNIK:srecanje:8457
X-WR-TIMEZONE:Europe/Ljubljana
END:VEVENT
BEGIN:VEVENT
SUMMARY:Klasična fizika (FIZ-1)\, Vaje (V)\, [2]
DTSTART;TZID=Europe/Ljubljana:20230224T080000
DTEND;TZID=Europe/Ljubljana:20230224T110000
DTSTAMP:20260420T134209Z
UID:fmf-AFLABS-URNIK:premaknjeno-srecanje:51144
ATTENDEE:1. letnik (Fizika, 1. stopnja)
CATEGORIES:Entry,Standard
COLOR:darkgreen
DESCRIPTION:Predmet: Klasična fizika (FIZ-1)\, Vaje (V)\, [2]\nLetniki: 1
 . letnik (Fizika\, 1. stopnja)\nIzvajalci: Enej Ilievski\nProstor: F1
LOCATION:F1
ORGANIZER:Enej Ilievski
RELATED-TO:fmf-AFLABS-URNIK:srecanje:8457
X-WR-TIMEZONE:Europe/Ljubljana
END:VEVENT
BEGIN:VEVENT
SUMMARY:Klasična fizika (FIZ-1)\, Vaje (V)\, [2]
DTSTART;TZID=Europe/Ljubljana:20230303T080000
DTEND;TZID=Europe/Ljubljana:20230303T110000
DTSTAMP:20260420T134209Z
UID:fmf-AFLABS-URNIK:premaknjeno-srecanje:51145
ATTENDEE:1. letnik (Fizika, 1. stopnja)
CATEGORIES:Entry,Standard
COLOR:darkgreen
DESCRIPTION:Predmet: Klasična fizika (FIZ-1)\, Vaje (V)\, [2]\nLetniki: 1
 . letnik (Fizika\, 1. stopnja)\nIzvajalci: Enej Ilievski\nProstor: F1
LOCATION:F1
ORGANIZER:Enej Ilievski
RELATED-TO:fmf-AFLABS-URNIK:srecanje:8457
X-WR-TIMEZONE:Europe/Ljubljana
END:VEVENT
BEGIN:VEVENT
SUMMARY:Klasična fizika (FIZ-1)\, Vaje (V)\, [2]
DTSTART;TZID=Europe/Ljubljana:20230310T080000
DTEND;TZID=Europe/Ljubljana:20230310T110000
DTSTAMP:20260420T134209Z
UID:fmf-AFLABS-URNIK:premaknjeno-srecanje:51146
ATTENDEE:1. letnik (Fizika, 1. stopnja)
CATEGORIES:Entry,Standard
COLOR:darkgreen
DESCRIPTION:Predmet: Klasična fizika (FIZ-1)\, Vaje (V)\, [2]\nLetniki: 1
 . letnik (Fizika\, 1. stopnja)\nIzvajalci: Enej Ilievski\nProstor: F1
LOCATION:F1
ORGANIZER:Enej Ilievski
RELATED-TO:fmf-AFLABS-URNIK:srecanje:8457
X-WR-TIMEZONE:Europe/Ljubljana
END:VEVENT
BEGIN:VEVENT
SUMMARY:Klasična fizika (FIZ-1)\, Vaje (V)\, [2]
DTSTART;TZID=Europe/Ljubljana:20230317T080000
DTEND;TZID=Europe/Ljubljana:20230317T110000
DTSTAMP:20260420T134209Z
UID:fmf-AFLABS-URNIK:premaknjeno-srecanje:51147
ATTENDEE:1. letnik (Fizika, 1. stopnja)
CATEGORIES:Entry,Standard
COLOR:darkgreen
DESCRIPTION:Predmet: Klasična fizika (FIZ-1)\, Vaje (V)\, [2]\nLetniki: 1
 . letnik (Fizika\, 1. stopnja)\nIzvajalci: Enej Ilievski\nProstor: F1
LOCATION:F1
ORGANIZER:Enej Ilievski
RELATED-TO:fmf-AFLABS-URNIK:srecanje:8457
X-WR-TIMEZONE:Europe/Ljubljana
END:VEVENT
BEGIN:VEVENT
SUMMARY:Klasična fizika (FIZ-1)\, Vaje (V)\, [2]
DTSTART;TZID=Europe/Ljubljana:20230324T080000
DTEND;TZID=Europe/Ljubljana:20230324T110000
DTSTAMP:20260420T134209Z
UID:fmf-AFLABS-URNIK:premaknjeno-srecanje:51148
ATTENDEE:1. letnik (Fizika, 1. stopnja)
CATEGORIES:Entry,Standard
COLOR:darkgreen
DESCRIPTION:Predmet: Klasična fizika (FIZ-1)\, Vaje (V)\, [2]\nLetniki: 1
 . letnik (Fizika\, 1. stopnja)\nIzvajalci: Enej Ilievski\nProstor: F1
LOCATION:F1
ORGANIZER:Enej Ilievski
RELATED-TO:fmf-AFLABS-URNIK:srecanje:8457
X-WR-TIMEZONE:Europe/Ljubljana
END:VEVENT
BEGIN:VEVENT
SUMMARY:Klasična fizika (FIZ-1)\, Vaje (V)\, [2]
DTSTART;TZID=Europe/Ljubljana:20230331T080000
DTEND;TZID=Europe/Ljubljana:20230331T110000
DTSTAMP:20260420T134209Z
UID:fmf-AFLABS-URNIK:premaknjeno-srecanje:51149
ATTENDEE:1. letnik (Fizika, 1. stopnja)
CATEGORIES:Entry,Standard
COLOR:darkgreen
DESCRIPTION:Predmet: Klasična fizika (FIZ-1)\, Vaje (V)\, [2]\nLetniki: 1
 . letnik (Fizika\, 1. stopnja)\nIzvajalci: Enej Ilievski\nProstor: F1
LOCATION:F1
ORGANIZER:Enej Ilievski
RELATED-TO:fmf-AFLABS-URNIK:srecanje:8457
X-WR-TIMEZONE:Europe/Ljubljana
END:VEVENT
BEGIN:VEVENT
SUMMARY:Klasična fizika (FIZ-1)\, Vaje (V)\, [2]
DTSTART;TZID=Europe/Ljubljana:20230407T080000
DTEND;TZID=Europe/Ljubljana:20230407T110000
DTSTAMP:20260420T134209Z
UID:fmf-AFLABS-URNIK:premaknjeno-srecanje:51150
ATTENDEE:1. letnik (Fizika, 1. stopnja)
CATEGORIES:Entry,Standard
COLOR:darkgreen
DESCRIPTION:Predmet: Klasična fizika (FIZ-1)\, Vaje (V)\, [2]\nLetniki: 1
 . letnik (Fizika\, 1. stopnja)\nIzvajalci: Enej Ilievski\nProstor: F1
LOCATION:F1
ORGANIZER:Enej Ilievski
RELATED-TO:fmf-AFLABS-URNIK:srecanje:8457
X-WR-TIMEZONE:Europe/Ljubljana
END:VEVENT
BEGIN:VEVENT
SUMMARY:Klasična fizika (FIZ-1)\, Vaje (V)\, [2]
DTSTART;TZID=Europe/Ljubljana:20230414T080000
DTEND;TZID=Europe/Ljubljana:20230414T110000
DTSTAMP:20260420T134209Z
UID:fmf-AFLABS-URNIK:premaknjeno-srecanje:51151
ATTENDEE:1. letnik (Fizika, 1. stopnja)
CATEGORIES:Entry,Standard
COLOR:darkgreen
DESCRIPTION:Predmet: Klasična fizika (FIZ-1)\, Vaje (V)\, [2]\nLetniki: 1
 . letnik (Fizika\, 1. stopnja)\nIzvajalci: Enej Ilievski\nProstor: F1
LOCATION:F1
ORGANIZER:Enej Ilievski
RELATED-TO:fmf-AFLABS-URNIK:srecanje:8457
X-WR-TIMEZONE:Europe/Ljubljana
END:VEVENT
BEGIN:VEVENT
SUMMARY:Klasična fizika (FIZ-1)\, Vaje (V)\, [2]
DTSTART;TZID=Europe/Ljubljana:20230421T080000
DTEND;TZID=Europe/Ljubljana:20230421T110000
DTSTAMP:20260420T134209Z
UID:fmf-AFLABS-URNIK:premaknjeno-srecanje:51152
ATTENDEE:1. letnik (Fizika, 1. stopnja)
CATEGORIES:Entry,Standard
COLOR:darkgreen
DESCRIPTION:Predmet: Klasična fizika (FIZ-1)\, Vaje (V)\, [2]\nLetniki: 1
 . letnik (Fizika\, 1. stopnja)\nIzvajalci: Enej Ilievski\nProstor: F1
LOCATION:F1
ORGANIZER:Enej Ilievski
RELATED-TO:fmf-AFLABS-URNIK:srecanje:8457
X-WR-TIMEZONE:Europe/Ljubljana
END:VEVENT
BEGIN:VEVENT
SUMMARY:Klasična fizika (FIZ-1)\, Vaje (V)\, [2]
DTSTART;TZID=Europe/Ljubljana:20230428T080000
DTEND;TZID=Europe/Ljubljana:20230428T110000
DTSTAMP:20260420T134209Z
UID:fmf-AFLABS-URNIK:premaknjeno-srecanje:51153
ATTENDEE:1. letnik (Fizika, 1. stopnja)
CATEGORIES:Entry,Standard
COLOR:darkgreen
DESCRIPTION:Predmet: Klasična fizika (FIZ-1)\, Vaje (V)\, [2]\nLetniki: 1
 . letnik (Fizika\, 1. stopnja)\nIzvajalci: Enej Ilievski\nProstor: F1
LOCATION:F1
ORGANIZER:Enej Ilievski
RELATED-TO:fmf-AFLABS-URNIK:srecanje:8457
X-WR-TIMEZONE:Europe/Ljubljana
END:VEVENT
BEGIN:VEVENT
SUMMARY:Klasična fizika (FIZ-1)\, Vaje (V)\, [2]
DTSTART;TZID=Europe/Ljubljana:20230505T080000
DTEND;TZID=Europe/Ljubljana:20230505T110000
DTSTAMP:20260420T134209Z
UID:fmf-AFLABS-URNIK:premaknjeno-srecanje:51154
ATTENDEE:1. letnik (Fizika, 1. stopnja)
CATEGORIES:Entry,Standard
COLOR:darkgreen
DESCRIPTION:Predmet: Klasična fizika (FIZ-1)\, Vaje (V)\, [2]\nLetniki: 1
 . letnik (Fizika\, 1. stopnja)\nIzvajalci: Enej Ilievski\nProstor: F1
LOCATION:F1
ORGANIZER:Enej Ilievski
RELATED-TO:fmf-AFLABS-URNIK:srecanje:8457
X-WR-TIMEZONE:Europe/Ljubljana
END:VEVENT
BEGIN:VEVENT
SUMMARY:Klasična fizika (FIZ-1)\, Vaje (V)\, [2]
DTSTART;TZID=Europe/Ljubljana:20230512T080000
DTEND;TZID=Europe/Ljubljana:20230512T110000
DTSTAMP:20260420T134209Z
UID:fmf-AFLABS-URNIK:premaknjeno-srecanje:51155
ATTENDEE:1. letnik (Fizika, 1. stopnja)
CATEGORIES:Entry,Standard
COLOR:darkgreen
DESCRIPTION:Predmet: Klasična fizika (FIZ-1)\, Vaje (V)\, [2]\nLetniki: 1
 . letnik (Fizika\, 1. stopnja)\nIzvajalci: Enej Ilievski\nProstor: F1
LOCATION:F1
ORGANIZER:Enej Ilievski
RELATED-TO:fmf-AFLABS-URNIK:srecanje:8457
X-WR-TIMEZONE:Europe/Ljubljana
END:VEVENT
BEGIN:VEVENT
SUMMARY:Klasična fizika (FIZ-1)\, Vaje (V)\, [2]
DTSTART;TZID=Europe/Ljubljana:20230519T080000
DTEND;TZID=Europe/Ljubljana:20230519T110000
DTSTAMP:20260420T134209Z
UID:fmf-AFLABS-URNIK:premaknjeno-srecanje:51156
ATTENDEE:1. letnik (Fizika, 1. stopnja)
CATEGORIES:Entry,Standard
COLOR:darkgreen
DESCRIPTION:Predmet: Klasična fizika (FIZ-1)\, Vaje (V)\, [2]\nLetniki: 1
 . letnik (Fizika\, 1. stopnja)\nIzvajalci: Enej Ilievski\nProstor: F1
LOCATION:F1
ORGANIZER:Enej Ilievski
RELATED-TO:fmf-AFLABS-URNIK:srecanje:8457
X-WR-TIMEZONE:Europe/Ljubljana
END:VEVENT
BEGIN:VEVENT
SUMMARY:Klasična fizika (FIZ-1)\, Vaje (V)\, [2]
DTSTART;TZID=Europe/Ljubljana:20230526T080000
DTEND;TZID=Europe/Ljubljana:20230526T110000
DTSTAMP:20260420T134209Z
UID:fmf-AFLABS-URNIK:premaknjeno-srecanje:51157
ATTENDEE:1. letnik (Fizika, 1. stopnja)
CATEGORIES:Entry,Standard
COLOR:darkgreen
DESCRIPTION:Predmet: Klasična fizika (FIZ-1)\, Vaje (V)\, [2]\nLetniki: 1
 . letnik (Fizika\, 1. stopnja)\nIzvajalci: Enej Ilievski\nProstor: F1
LOCATION:F1
ORGANIZER:Enej Ilievski
RELATED-TO:fmf-AFLABS-URNIK:srecanje:8457
X-WR-TIMEZONE:Europe/Ljubljana
END:VEVENT
BEGIN:VEVENT
SUMMARY:Klasična fizika (FIZ-1)\, Vaje (V)\, [2]
DTSTART;TZID=Europe/Ljubljana:20230602T080000
DTEND;TZID=Europe/Ljubljana:20230602T110000
DTSTAMP:20260420T134209Z
UID:fmf-AFLABS-URNIK:premaknjeno-srecanje:51158
ATTENDEE:1. letnik (Fizika, 1. stopnja)
CATEGORIES:Entry,Standard
COLOR:darkgreen
DESCRIPTION:Predmet: Klasična fizika (FIZ-1)\, Vaje (V)\, [2]\nLetniki: 1
 . letnik (Fizika\, 1. stopnja)\nIzvajalci: Enej Ilievski\nProstor: F1
LOCATION:F1
ORGANIZER:Enej Ilievski
RELATED-TO:fmf-AFLABS-URNIK:srecanje:8457
X-WR-TIMEZONE:Europe/Ljubljana
END:VEVENT
BEGIN:VEVENT
SUMMARY:Rezervacija
DTSTART;TZID=Europe/Ljubljana:20230223T140000
DTEND;TZID=Europe/Ljubljana:20230223T160000
DTSTAMP:20260420T134209Z
UID:fmf-AFLABS-URNIK:rezervacija:11327
CATEGORIES:Reservation
COLOR:royalblue
DESCRIPTION:Predmeti: \nLetniki: \nIzvajalci: Enej Ilievski\nProstori: Ku
 ščerjev seminar
LOCATION:Kuščerjev seminar
ORGANIZER:Enej Ilievski
X-WR-TIMEZONE:Europe/Ljubljana
END:VEVENT
END:VCALENDAR
