BEGIN:VCALENDAR
VERSION:2.0
PRODID:-//AFLabs urnik izvoz - fmf//aflabs.si//SI
DTSTAMP:20260424T235130Z
NAME:UL FMF urnik
REFRESH-INTERVAL:PT1H
SOURCE:https://urnik.fmf.uni-lj.si/teacher/66?day=2020-02-03&export=1
URL:https://urnik.fmf.uni-lj.si/teacher/66?day=2020-02-03&export=1
X-PUBLISHED-TTL:PT1H
X-WR-CALNAME:UL FMF urnik
X-WR-TIMEZONE:Europe/Ljubljana
BEGIN:VTIMEZONE
TZID:Europe/Ljubljana
BEGIN:DAYLIGHT
DTSTART:20260329T020000
RDATE:20260329T020000
RDATE:20270328T020000
TZNAME:CEST
TZOFFSETFROM:+0100
TZOFFSETTO:+0200
END:DAYLIGHT
BEGIN:STANDARD
DTSTART:20261025T030000
RDATE:20261025T030000
RDATE:20271031T030000
TZNAME:CET
TZOFFSETFROM:+0200
TZOFFSETTO:+0100
END:STANDARD
END:VTIMEZONE
BEGIN:VEVENT
SUMMARY:PREDAVANJA IN SEMINAR (MB) ()\, Predavanja (P)
DTSTART;TZID=Europe/Ljubljana:20191230T080000
DTEND;TZID=Europe/Ljubljana:20191230T170000
DTSTAMP:20260424T235130Z
UID:fmf-AFLABS-URNIK:premaknjeno-srecanje:81978
CATEGORIES:Entry,Standard
COLOR:darkgreen
DESCRIPTION:Predmet: PREDAVANJA IN SEMINAR (MB) ()\, Predavanja (P)\nLetni
 ki: \nIzvajalci: Sandi Klavžar\nProstor: None
ORGANIZER:Sandi Klavžar
RELATED-TO:fmf-AFLABS-URNIK:srecanje:3624
X-WR-TIMEZONE:Europe/Ljubljana
END:VEVENT
BEGIN:VEVENT
SUMMARY:PREDAVANJA IN SEMINAR (MB) ()\, Predavanja (P)
DTSTART;TZID=Europe/Ljubljana:20200106T080000
DTEND;TZID=Europe/Ljubljana:20200106T170000
DTSTAMP:20260424T235130Z
UID:fmf-AFLABS-URNIK:premaknjeno-srecanje:81979
CATEGORIES:Entry,Standard
COLOR:darkgreen
DESCRIPTION:Predmet: PREDAVANJA IN SEMINAR (MB) ()\, Predavanja (P)\nLetni
 ki: \nIzvajalci: Sandi Klavžar\nProstor: None
ORGANIZER:Sandi Klavžar
RELATED-TO:fmf-AFLABS-URNIK:srecanje:3624
X-WR-TIMEZONE:Europe/Ljubljana
END:VEVENT
BEGIN:VEVENT
SUMMARY:PREDAVANJA IN SEMINAR (MB) ()\, Predavanja (P)
DTSTART;TZID=Europe/Ljubljana:20200113T080000
DTEND;TZID=Europe/Ljubljana:20200113T170000
DTSTAMP:20260424T235130Z
UID:fmf-AFLABS-URNIK:premaknjeno-srecanje:81980
CATEGORIES:Entry,Standard
COLOR:darkgreen
DESCRIPTION:Predmet: PREDAVANJA IN SEMINAR (MB) ()\, Predavanja (P)\nLetni
 ki: \nIzvajalci: Sandi Klavžar\nProstor: None
ORGANIZER:Sandi Klavžar
RELATED-TO:fmf-AFLABS-URNIK:srecanje:3624
X-WR-TIMEZONE:Europe/Ljubljana
END:VEVENT
BEGIN:VEVENT
SUMMARY:ZUN. OBVEZNOSTI ()\, Predavanja (P)
DTSTART;TZID=Europe/Ljubljana:20191230T090000
DTEND;TZID=Europe/Ljubljana:20191230T150000
DTSTAMP:20260424T235130Z
UID:fmf-AFLABS-URNIK:premaknjeno-srecanje:121060
CATEGORIES:Entry,Standard
COLOR:darkgreen
DESCRIPTION:Predmet: ZUN. OBVEZNOSTI ()\, Predavanja (P)\nLetniki: \nIzvaj
 alci: Sandi Klavžar\nProstor: FNM MB
LOCATION:FNM MB
ORGANIZER:Sandi Klavžar
RELATED-TO:fmf-AFLABS-URNIK:srecanje:3835
X-WR-TIMEZONE:Europe/Ljubljana
END:VEVENT
BEGIN:VEVENT
SUMMARY:ZUN. OBVEZNOSTI ()\, Predavanja (P)
DTSTART;TZID=Europe/Ljubljana:20200106T090000
DTEND;TZID=Europe/Ljubljana:20200106T150000
DTSTAMP:20260424T235130Z
UID:fmf-AFLABS-URNIK:premaknjeno-srecanje:121061
CATEGORIES:Entry,Standard
COLOR:darkgreen
DESCRIPTION:Predmet: ZUN. OBVEZNOSTI ()\, Predavanja (P)\nLetniki: \nIzvaj
 alci: Sandi Klavžar\nProstor: FNM MB
LOCATION:FNM MB
ORGANIZER:Sandi Klavžar
RELATED-TO:fmf-AFLABS-URNIK:srecanje:3835
X-WR-TIMEZONE:Europe/Ljubljana
END:VEVENT
BEGIN:VEVENT
SUMMARY:ZUN. OBVEZNOSTI ()\, Predavanja (P)
DTSTART;TZID=Europe/Ljubljana:20200113T090000
DTEND;TZID=Europe/Ljubljana:20200113T150000
DTSTAMP:20260424T235130Z
UID:fmf-AFLABS-URNIK:premaknjeno-srecanje:121062
CATEGORIES:Entry,Standard
COLOR:darkgreen
DESCRIPTION:Predmet: ZUN. OBVEZNOSTI ()\, Predavanja (P)\nLetniki: \nIzvaj
 alci: Sandi Klavžar\nProstor: FNM MB
LOCATION:FNM MB
ORGANIZER:Sandi Klavžar
RELATED-TO:fmf-AFLABS-URNIK:srecanje:3835
X-WR-TIMEZONE:Europe/Ljubljana
END:VEVENT
BEGIN:VEVENT
SUMMARY:ZUN. OBVEZNOSTI ()\, Predavanja (P)
DTSTART;TZID=Europe/Ljubljana:20191231T090000
DTEND;TZID=Europe/Ljubljana:20191231T150000
DTSTAMP:20260424T235130Z
UID:fmf-AFLABS-URNIK:premaknjeno-srecanje:121138
CATEGORIES:Entry,Standard
COLOR:darkgreen
DESCRIPTION:Predmet: ZUN. OBVEZNOSTI ()\, Predavanja (P)\nLetniki: \nIzvaj
 alci: Sandi Klavžar\nProstor: FNM MB
LOCATION:FNM MB
ORGANIZER:Sandi Klavžar
RELATED-TO:fmf-AFLABS-URNIK:srecanje:3836
X-WR-TIMEZONE:Europe/Ljubljana
END:VEVENT
BEGIN:VEVENT
SUMMARY:ZUN. OBVEZNOSTI ()\, Predavanja (P)
DTSTART;TZID=Europe/Ljubljana:20200107T090000
DTEND;TZID=Europe/Ljubljana:20200107T150000
DTSTAMP:20260424T235130Z
UID:fmf-AFLABS-URNIK:premaknjeno-srecanje:121139
CATEGORIES:Entry,Standard
COLOR:darkgreen
DESCRIPTION:Predmet: ZUN. OBVEZNOSTI ()\, Predavanja (P)\nLetniki: \nIzvaj
 alci: Sandi Klavžar\nProstor: FNM MB
LOCATION:FNM MB
ORGANIZER:Sandi Klavžar
RELATED-TO:fmf-AFLABS-URNIK:srecanje:3836
X-WR-TIMEZONE:Europe/Ljubljana
END:VEVENT
BEGIN:VEVENT
SUMMARY:ZUN. OBVEZNOSTI ()\, Predavanja (P)
DTSTART;TZID=Europe/Ljubljana:20200114T090000
DTEND;TZID=Europe/Ljubljana:20200114T150000
DTSTAMP:20260424T235130Z
UID:fmf-AFLABS-URNIK:premaknjeno-srecanje:121140
CATEGORIES:Entry,Standard
COLOR:darkgreen
DESCRIPTION:Predmet: ZUN. OBVEZNOSTI ()\, Predavanja (P)\nLetniki: \nIzvaj
 alci: Sandi Klavžar\nProstor: FNM MB
LOCATION:FNM MB
ORGANIZER:Sandi Klavžar
RELATED-TO:fmf-AFLABS-URNIK:srecanje:3836
X-WR-TIMEZONE:Europe/Ljubljana
END:VEVENT
BEGIN:VEVENT
SUMMARY:Optimizacija (APM-3)\, Predavanja (P)
DTSTART;TZID=Europe/Ljubljana:20200103T100000
DTEND;TZID=Europe/Ljubljana:20200103T130000
DTSTAMP:20260424T235130Z
UID:fmf-AFLABS-URNIK:premaknjeno-srecanje:79692
ATTENDEE:3. letnik (APM)
CATEGORIES:Entry,Standard
COLOR:darkgreen
DESCRIPTION:Predmet: Optimizacija (APM-3)\, Predavanja (P)\nLetniki: 3. le
 tnik (APM)\nIzvajalci: Sandi Klavžar\nProstor: 2.04
LOCATION:2.04
ORGANIZER:Sandi Klavžar
RELATED-TO:fmf-AFLABS-URNIK:srecanje:3615
X-WR-TIMEZONE:Europe/Ljubljana
END:VEVENT
BEGIN:VEVENT
SUMMARY:Optimizacija (APM-3)\, Predavanja (P)
DTSTART;TZID=Europe/Ljubljana:20200110T100000
DTEND;TZID=Europe/Ljubljana:20200110T130000
DTSTAMP:20260424T235130Z
UID:fmf-AFLABS-URNIK:premaknjeno-srecanje:79693
ATTENDEE:3. letnik (APM)
CATEGORIES:Entry,Standard
COLOR:darkgreen
DESCRIPTION:Predmet: Optimizacija (APM-3)\, Predavanja (P)\nLetniki: 3. le
 tnik (APM)\nIzvajalci: Sandi Klavžar\nProstor: 2.04
LOCATION:2.04
ORGANIZER:Sandi Klavžar
RELATED-TO:fmf-AFLABS-URNIK:srecanje:3615
X-WR-TIMEZONE:Europe/Ljubljana
END:VEVENT
BEGIN:VEVENT
SUMMARY:Optimizacija (APM-3)\, Predavanja (P)
DTSTART;TZID=Europe/Ljubljana:20200117T100000
DTEND;TZID=Europe/Ljubljana:20200117T130000
DTSTAMP:20260424T235130Z
UID:fmf-AFLABS-URNIK:premaknjeno-srecanje:79694
ATTENDEE:3. letnik (APM)
CATEGORIES:Entry,Standard
COLOR:darkgreen
DESCRIPTION:Predmet: Optimizacija (APM-3)\, Predavanja (P)\nLetniki: 3. le
 tnik (APM)\nIzvajalci: Sandi Klavžar\nProstor: 2.04
LOCATION:2.04
ORGANIZER:Sandi Klavžar
RELATED-TO:fmf-AFLABS-URNIK:srecanje:3615
X-WR-TIMEZONE:Europe/Ljubljana
END:VEVENT
BEGIN:VEVENT
SUMMARY:Diskretne strukture 2 (IŠRM-1)\, Predavanja (P)
DTSTART;TZID=Europe/Ljubljana:20200220T120000
DTEND;TZID=Europe/Ljubljana:20200220T150000
DTSTAMP:20260424T235130Z
UID:fmf-AFLABS-URNIK:premaknjeno-srecanje:16983
ATTENDEE:1. letnik (IŠRM)
CATEGORIES:Entry,Standard
COLOR:darkgreen
DESCRIPTION:Predmet: Diskretne strukture 2 (IŠRM-1)\, Predavanja (P)\nLet
 niki: 1. letnik (IŠRM)\nIzvajalci: Sandi Klavžar\nProstor: 2.02
LOCATION:2.02
ORGANIZER:Sandi Klavžar
RELATED-TO:fmf-AFLABS-URNIK:srecanje:4047
X-WR-TIMEZONE:Europe/Ljubljana
END:VEVENT
BEGIN:VEVENT
SUMMARY:Diskretne strukture 2 (IŠRM-1)\, Predavanja (P)
DTSTART;TZID=Europe/Ljubljana:20200227T120000
DTEND;TZID=Europe/Ljubljana:20200227T150000
DTSTAMP:20260424T235130Z
UID:fmf-AFLABS-URNIK:premaknjeno-srecanje:16984
ATTENDEE:1. letnik (IŠRM)
CATEGORIES:Entry,Standard
COLOR:darkgreen
DESCRIPTION:Predmet: Diskretne strukture 2 (IŠRM-1)\, Predavanja (P)\nLet
 niki: 1. letnik (IŠRM)\nIzvajalci: Sandi Klavžar\nProstor: 2.02
LOCATION:2.02
ORGANIZER:Sandi Klavžar
RELATED-TO:fmf-AFLABS-URNIK:srecanje:4047
X-WR-TIMEZONE:Europe/Ljubljana
END:VEVENT
BEGIN:VEVENT
SUMMARY:Diskretne strukture 2 (IŠRM-1)\, Predavanja (P)
DTSTART;TZID=Europe/Ljubljana:20200305T120000
DTEND;TZID=Europe/Ljubljana:20200305T150000
DTSTAMP:20260424T235130Z
UID:fmf-AFLABS-URNIK:premaknjeno-srecanje:16985
ATTENDEE:1. letnik (IŠRM)
CATEGORIES:Entry,Standard
COLOR:darkgreen
DESCRIPTION:Predmet: Diskretne strukture 2 (IŠRM-1)\, Predavanja (P)\nLet
 niki: 1. letnik (IŠRM)\nIzvajalci: Sandi Klavžar\nProstor: 2.02
LOCATION:2.02
ORGANIZER:Sandi Klavžar
RELATED-TO:fmf-AFLABS-URNIK:srecanje:4047
X-WR-TIMEZONE:Europe/Ljubljana
END:VEVENT
BEGIN:VEVENT
SUMMARY:Govorilna ura ()\, Predavanja (P)
DTSTART;TZID=Europe/Ljubljana:20200220T100000
DTEND;TZID=Europe/Ljubljana:20200220T110000
DTSTAMP:20260424T235130Z
UID:fmf-AFLABS-URNIK:premaknjeno-srecanje:41484
CATEGORIES:Entry,Standard
COLOR:darkgreen
DESCRIPTION:Predmet: Govorilna ura ()\, Predavanja (P)\nLetniki: \nIzvajal
 ci: Sandi Klavžar\nProstor: 4.03
LOCATION:4.03
ORGANIZER:Sandi Klavžar
RELATED-TO:fmf-AFLABS-URNIK:srecanje:4160
X-WR-TIMEZONE:Europe/Ljubljana
END:VEVENT
BEGIN:VEVENT
SUMMARY:Govorilna ura ()\, Predavanja (P)
DTSTART;TZID=Europe/Ljubljana:20200227T100000
DTEND;TZID=Europe/Ljubljana:20200227T110000
DTSTAMP:20260424T235130Z
UID:fmf-AFLABS-URNIK:premaknjeno-srecanje:41485
CATEGORIES:Entry,Standard
COLOR:darkgreen
DESCRIPTION:Predmet: Govorilna ura ()\, Predavanja (P)\nLetniki: \nIzvajal
 ci: Sandi Klavžar\nProstor: 4.03
LOCATION:4.03
ORGANIZER:Sandi Klavžar
RELATED-TO:fmf-AFLABS-URNIK:srecanje:4160
X-WR-TIMEZONE:Europe/Ljubljana
END:VEVENT
BEGIN:VEVENT
SUMMARY:Govorilna ura ()\, Predavanja (P)
DTSTART;TZID=Europe/Ljubljana:20200305T100000
DTEND;TZID=Europe/Ljubljana:20200305T110000
DTSTAMP:20260424T235130Z
UID:fmf-AFLABS-URNIK:premaknjeno-srecanje:41486
CATEGORIES:Entry,Standard
COLOR:darkgreen
DESCRIPTION:Predmet: Govorilna ura ()\, Predavanja (P)\nLetniki: \nIzvajal
 ci: Sandi Klavžar\nProstor: 4.03
LOCATION:4.03
ORGANIZER:Sandi Klavžar
RELATED-TO:fmf-AFLABS-URNIK:srecanje:4160
X-WR-TIMEZONE:Europe/Ljubljana
END:VEVENT
END:VCALENDAR
