BEGIN:VCALENDAR
VERSION:2.0
PRODID:-//AFLabs urnik izvoz - fmf//aflabs.si//SI
DTSTAMP:20260423T144331Z
NAME:UL FMF urnik
REFRESH-INTERVAL:PT1H
SOURCE:https://urnik.fmf.uni-lj.si/teacher/66?day=2020-08-31&export=1
URL:https://urnik.fmf.uni-lj.si/teacher/66?day=2020-08-31&export=1
X-PUBLISHED-TTL:PT1H
X-WR-CALNAME:UL FMF urnik
X-WR-TIMEZONE:Europe/Ljubljana
BEGIN:VTIMEZONE
TZID:Europe/Ljubljana
BEGIN:DAYLIGHT
DTSTART:20260329T020000
RDATE:20260329T020000
RDATE:20270328T020000
TZNAME:CEST
TZOFFSETFROM:+0100
TZOFFSETTO:+0200
END:DAYLIGHT
BEGIN:STANDARD
DTSTART:20261025T030000
RDATE:20261025T030000
RDATE:20271031T030000
TZNAME:CET
TZOFFSETFROM:+0200
TZOFFSETTO:+0100
END:STANDARD
END:VTIMEZONE
BEGIN:VEVENT
SUMMARY:Diskretne strukture (FRI) ()\, Predavanja (P)
DTSTART;TZID=Europe/Ljubljana:20201002T080000
DTEND;TZID=Europe/Ljubljana:20201002T110000
DTSTAMP:20260423T144331Z
UID:fmf-AFLABS-URNIK:premaknjeno-srecanje:16635
CATEGORIES:Entry,Standard
COLOR:darkgreen
DESCRIPTION:Predmet: Diskretne strukture (FRI) ()\, Predavanja (P)\nLetnik
 i: \nIzvajalci: Sandi Klavžar\nProstor: FRI
LOCATION:FRI
ORGANIZER:Sandi Klavžar
RELATED-TO:fmf-AFLABS-URNIK:srecanje:4720
X-WR-TIMEZONE:Europe/Ljubljana
END:VEVENT
BEGIN:VEVENT
SUMMARY:PREDAVANJA IN SEMINAR (MB) ()\, Predavanja (P)
DTSTART;TZID=Europe/Ljubljana:20201005T080000
DTEND;TZID=Europe/Ljubljana:20201005T170000
DTSTAMP:20260423T144331Z
UID:fmf-AFLABS-URNIK:premaknjeno-srecanje:81981
CATEGORIES:Entry,Standard
COLOR:darkgreen
DESCRIPTION:Predmet: PREDAVANJA IN SEMINAR (MB) ()\, Predavanja (P)\nLetni
 ki: \nIzvajalci: Sandi Klavžar\nProstor: None
ORGANIZER:Sandi Klavžar
RELATED-TO:fmf-AFLABS-URNIK:srecanje:5062
X-WR-TIMEZONE:Europe/Ljubljana
END:VEVENT
BEGIN:VEVENT
SUMMARY:ZUN. OBVEZNOSTI ()\, Predavanja (P)
DTSTART;TZID=Europe/Ljubljana:20201005T090000
DTEND;TZID=Europe/Ljubljana:20201005T150000
DTSTAMP:20260423T144331Z
UID:fmf-AFLABS-URNIK:premaknjeno-srecanje:121063
CATEGORIES:Entry,Standard
COLOR:darkgreen
DESCRIPTION:Predmet: ZUN. OBVEZNOSTI ()\, Predavanja (P)\nLetniki: \nIzvaj
 alci: Sandi Klavžar\nProstor: FNM MB
LOCATION:FNM MB
ORGANIZER:Sandi Klavžar
RELATED-TO:fmf-AFLABS-URNIK:srecanje:5287
X-WR-TIMEZONE:Europe/Ljubljana
END:VEVENT
BEGIN:VEVENT
SUMMARY:Rezervacija
DTSTART;TZID=Europe/Ljubljana:20200904T100000
DTEND;TZID=Europe/Ljubljana:20200904T120000
DTSTAMP:20260423T144331Z
UID:fmf-AFLABS-URNIK:rezervacija:6251
CATEGORIES:Reservation
COLOR:royalblue
DESCRIPTION:Predmeti: \nLetniki: \nIzvajalci: Sandi Klavžar\nProstori: 3.
 06
LOCATION:3.06
ORGANIZER:Sandi Klavžar
X-WR-TIMEZONE:Europe/Ljubljana
END:VEVENT
BEGIN:VEVENT
SUMMARY:Rezervacija
DTSTART;TZID=Europe/Ljubljana:20200911T100000
DTEND;TZID=Europe/Ljubljana:20200911T110000
DTSTAMP:20260423T144331Z
UID:fmf-AFLABS-URNIK:rezervacija:6379
CATEGORIES:Reservation
COLOR:royalblue
DESCRIPTION:Predmeti: \nLetniki: \nIzvajalci: Sandi Klavžar\nProstori: 3.
 07
LOCATION:3.07
ORGANIZER:Sandi Klavžar
X-WR-TIMEZONE:Europe/Ljubljana
END:VEVENT
END:VCALENDAR
