BEGIN:VCALENDAR
VERSION:2.0
PRODID:-//AFLabs urnik izvoz - fmf//aflabs.si//SI
DTSTAMP:20260421T173912Z
NAME:UL FMF urnik
REFRESH-INTERVAL:PT1H
SOURCE:https://urnik.fmf.uni-lj.si/teacher/66?day=2023-01-30&export=1
URL:https://urnik.fmf.uni-lj.si/teacher/66?day=2023-01-30&export=1
X-PUBLISHED-TTL:PT1H
X-WR-CALNAME:UL FMF urnik
X-WR-TIMEZONE:Europe/Ljubljana
BEGIN:VTIMEZONE
TZID:Europe/Ljubljana
BEGIN:DAYLIGHT
DTSTART:20260329T020000
RDATE:20260329T020000
RDATE:20270328T020000
TZNAME:CEST
TZOFFSETFROM:+0100
TZOFFSETTO:+0200
END:DAYLIGHT
BEGIN:STANDARD
DTSTART:20261025T030000
RDATE:20261025T030000
RDATE:20271031T030000
TZNAME:CET
TZOFFSETFROM:+0200
TZOFFSETTO:+0100
END:STANDARD
END:VTIMEZONE
BEGIN:VEVENT
SUMMARY:Diskretna matematika 1 (FM-3\, MAT-2\, PM-2)\, Predavanja (P)
DTSTART;TZID=Europe/Ljubljana:20221229T110000
DTEND;TZID=Europe/Ljubljana:20221229T130000
DTSTAMP:20260421T173912Z
UID:fmf-AFLABS-URNIK:premaknjeno-srecanje:15990
ATTENDEE:2. letnik (M)
ATTENDEE:2. letnik (PM)
ATTENDEE:3. letnik (FM)
CATEGORIES:Entry,Standard
COLOR:darkgreen
DESCRIPTION:Predmet: Diskretna matematika 1 (FM-3\, MAT-2\, PM-2)\, Predav
 anja (P)\nLetniki: 3. letnik (FM)\, 2. letnik (M)\, 2. letnik (PM)\nIzvaja
 lci: Sandi Klavžar\nProstor: 2.04
LOCATION:2.04
ORGANIZER:Sandi Klavžar
RELATED-TO:fmf-AFLABS-URNIK:srecanje:7461
X-WR-TIMEZONE:Europe/Ljubljana
END:VEVENT
BEGIN:VEVENT
SUMMARY:Diskretna matematika 1 (FM-3\, MAT-2\, PM-2)\, Predavanja (P)
DTSTART;TZID=Europe/Ljubljana:20230105T110000
DTEND;TZID=Europe/Ljubljana:20230105T130000
DTSTAMP:20260421T173912Z
UID:fmf-AFLABS-URNIK:premaknjeno-srecanje:15991
ATTENDEE:2. letnik (M)
ATTENDEE:2. letnik (PM)
ATTENDEE:3. letnik (FM)
CATEGORIES:Entry,Standard
COLOR:darkgreen
DESCRIPTION:Predmet: Diskretna matematika 1 (FM-3\, MAT-2\, PM-2)\, Predav
 anja (P)\nLetniki: 3. letnik (FM)\, 2. letnik (M)\, 2. letnik (PM)\nIzvaja
 lci: Sandi Klavžar\nProstor: 2.04
LOCATION:2.04
ORGANIZER:Sandi Klavžar
RELATED-TO:fmf-AFLABS-URNIK:srecanje:7461
X-WR-TIMEZONE:Europe/Ljubljana
END:VEVENT
BEGIN:VEVENT
SUMMARY:Diskretna matematika 1 (FM-3\, MAT-2\, PM-2)\, Predavanja (P)
DTSTART;TZID=Europe/Ljubljana:20230112T110000
DTEND;TZID=Europe/Ljubljana:20230112T130000
DTSTAMP:20260421T173912Z
UID:fmf-AFLABS-URNIK:premaknjeno-srecanje:15992
ATTENDEE:2. letnik (M)
ATTENDEE:2. letnik (PM)
ATTENDEE:3. letnik (FM)
CATEGORIES:Entry,Standard
COLOR:darkgreen
DESCRIPTION:Predmet: Diskretna matematika 1 (FM-3\, MAT-2\, PM-2)\, Predav
 anja (P)\nLetniki: 3. letnik (FM)\, 2. letnik (M)\, 2. letnik (PM)\nIzvaja
 lci: Sandi Klavžar\nProstor: 2.04
LOCATION:2.04
ORGANIZER:Sandi Klavžar
RELATED-TO:fmf-AFLABS-URNIK:srecanje:7461
X-WR-TIMEZONE:Europe/Ljubljana
END:VEVENT
BEGIN:VEVENT
SUMMARY:Optimizacija (APM-3)\, Predavanja (P)
DTSTART;TZID=Europe/Ljubljana:20221230T090000
DTEND;TZID=Europe/Ljubljana:20221230T120000
DTSTAMP:20260421T173912Z
UID:fmf-AFLABS-URNIK:premaknjeno-srecanje:79644
ATTENDEE:3. letnik (APM)
CATEGORIES:Entry,Standard
COLOR:darkgreen
DESCRIPTION:Predmet: Optimizacija (APM-3)\, Predavanja (P)\nLetniki: 3. le
 tnik (APM)\nIzvajalci: Sandi Klavžar\nProstor: 2.04
LOCATION:2.04
ORGANIZER:Sandi Klavžar
RELATED-TO:fmf-AFLABS-URNIK:srecanje:7864
X-WR-TIMEZONE:Europe/Ljubljana
END:VEVENT
BEGIN:VEVENT
SUMMARY:Optimizacija (APM-3)\, Predavanja (P)
DTSTART;TZID=Europe/Ljubljana:20230106T090000
DTEND;TZID=Europe/Ljubljana:20230106T120000
DTSTAMP:20260421T173912Z
UID:fmf-AFLABS-URNIK:premaknjeno-srecanje:79645
ATTENDEE:3. letnik (APM)
CATEGORIES:Entry,Standard
COLOR:darkgreen
DESCRIPTION:Predmet: Optimizacija (APM-3)\, Predavanja (P)\nLetniki: 3. le
 tnik (APM)\nIzvajalci: Sandi Klavžar\nProstor: 2.04
LOCATION:2.04
ORGANIZER:Sandi Klavžar
RELATED-TO:fmf-AFLABS-URNIK:srecanje:7864
X-WR-TIMEZONE:Europe/Ljubljana
END:VEVENT
BEGIN:VEVENT
SUMMARY:Optimizacija (APM-3)\, Predavanja (P)
DTSTART;TZID=Europe/Ljubljana:20230113T090000
DTEND;TZID=Europe/Ljubljana:20230113T120000
DTSTAMP:20260421T173912Z
UID:fmf-AFLABS-URNIK:premaknjeno-srecanje:79646
ATTENDEE:3. letnik (APM)
CATEGORIES:Entry,Standard
COLOR:darkgreen
DESCRIPTION:Predmet: Optimizacija (APM-3)\, Predavanja (P)\nLetniki: 3. le
 tnik (APM)\nIzvajalci: Sandi Klavžar\nProstor: 2.04
LOCATION:2.04
ORGANIZER:Sandi Klavžar
RELATED-TO:fmf-AFLABS-URNIK:srecanje:7864
X-WR-TIMEZONE:Europe/Ljubljana
END:VEVENT
BEGIN:VEVENT
SUMMARY:Diskretna matematika 2 (FM-3\, MAT-3)\, Predavanja (P)
DTSTART;TZID=Europe/Ljubljana:20230213T080000
DTEND;TZID=Europe/Ljubljana:20230213T100000
DTSTAMP:20260421T173912Z
UID:fmf-AFLABS-URNIK:premaknjeno-srecanje:16243
ATTENDEE:3. letnik (FM)
ATTENDEE:3. letnik (M)
CATEGORIES:Entry,Standard
COLOR:darkgreen
DESCRIPTION:Predmet: Diskretna matematika 2 (FM-3\, MAT-3)\, Predavanja (P
 )\nLetniki: 3. letnik (FM)\, 3. letnik (M)\nIzvajalci: Sandi Klavžar\nPro
 stor: 3.04
LOCATION:3.04
ORGANIZER:Sandi Klavžar
RELATED-TO:fmf-AFLABS-URNIK:srecanje:8859
X-WR-TIMEZONE:Europe/Ljubljana
END:VEVENT
BEGIN:VEVENT
SUMMARY:Diskretna matematika 2 (FM-3\, MAT-3)\, Predavanja (P)
DTSTART;TZID=Europe/Ljubljana:20230220T080000
DTEND;TZID=Europe/Ljubljana:20230220T100000
DTSTAMP:20260421T173912Z
UID:fmf-AFLABS-URNIK:premaknjeno-srecanje:16244
ATTENDEE:3. letnik (FM)
ATTENDEE:3. letnik (M)
CATEGORIES:Entry,Standard
COLOR:darkgreen
DESCRIPTION:Predmet: Diskretna matematika 2 (FM-3\, MAT-3)\, Predavanja (P
 )\nLetniki: 3. letnik (FM)\, 3. letnik (M)\nIzvajalci: Sandi Klavžar\nPro
 stor: 3.04
LOCATION:3.04
ORGANIZER:Sandi Klavžar
RELATED-TO:fmf-AFLABS-URNIK:srecanje:8859
X-WR-TIMEZONE:Europe/Ljubljana
END:VEVENT
BEGIN:VEVENT
SUMMARY:Diskretna matematika 2 (FM-3\, MAT-3)\, Predavanja (P)
DTSTART;TZID=Europe/Ljubljana:20230227T080000
DTEND;TZID=Europe/Ljubljana:20230227T100000
DTSTAMP:20260421T173912Z
UID:fmf-AFLABS-URNIK:premaknjeno-srecanje:16245
ATTENDEE:3. letnik (FM)
ATTENDEE:3. letnik (M)
CATEGORIES:Entry,Standard
COLOR:darkgreen
DESCRIPTION:Predmet: Diskretna matematika 2 (FM-3\, MAT-3)\, Predavanja (P
 )\nLetniki: 3. letnik (FM)\, 3. letnik (M)\nIzvajalci: Sandi Klavžar\nPro
 stor: 3.04
LOCATION:3.04
ORGANIZER:Sandi Klavžar
RELATED-TO:fmf-AFLABS-URNIK:srecanje:8859
X-WR-TIMEZONE:Europe/Ljubljana
END:VEVENT
BEGIN:VEVENT
SUMMARY:Diskretna matematika 2 (FM-3\, MAT-3)\, Predavanja (P)
DTSTART;TZID=Europe/Ljubljana:20230306T080000
DTEND;TZID=Europe/Ljubljana:20230306T100000
DTSTAMP:20260421T173912Z
UID:fmf-AFLABS-URNIK:premaknjeno-srecanje:16246
ATTENDEE:3. letnik (FM)
ATTENDEE:3. letnik (M)
CATEGORIES:Entry,Standard
COLOR:darkgreen
DESCRIPTION:Predmet: Diskretna matematika 2 (FM-3\, MAT-3)\, Predavanja (P
 )\nLetniki: 3. letnik (FM)\, 3. letnik (M)\nIzvajalci: Sandi Klavžar\nPro
 stor: 3.04
LOCATION:3.04
ORGANIZER:Sandi Klavžar
RELATED-TO:fmf-AFLABS-URNIK:srecanje:8859
X-WR-TIMEZONE:Europe/Ljubljana
END:VEVENT
BEGIN:VEVENT
SUMMARY:Diskretne strukture 2 (IŠRM-1)\, Predavanja (P)
DTSTART;TZID=Europe/Ljubljana:20230214T120000
DTEND;TZID=Europe/Ljubljana:20230214T150000
DTSTAMP:20260421T173912Z
UID:fmf-AFLABS-URNIK:premaknjeno-srecanje:16936
ATTENDEE:1. letnik (IŠRM)
CATEGORIES:Entry,Standard
COLOR:darkgreen
DESCRIPTION:Predmet: Diskretne strukture 2 (IŠRM-1)\, Predavanja (P)\nLet
 niki: 1. letnik (IŠRM)\nIzvajalci: Sandi Klavžar\nProstor: 3.04
LOCATION:3.04
ORGANIZER:Sandi Klavžar
RELATED-TO:fmf-AFLABS-URNIK:srecanje:8298
X-WR-TIMEZONE:Europe/Ljubljana
END:VEVENT
BEGIN:VEVENT
SUMMARY:Diskretne strukture 2 (IŠRM-1)\, Predavanja (P)
DTSTART;TZID=Europe/Ljubljana:20230221T120000
DTEND;TZID=Europe/Ljubljana:20230221T150000
DTSTAMP:20260421T173912Z
UID:fmf-AFLABS-URNIK:premaknjeno-srecanje:16937
ATTENDEE:1. letnik (IŠRM)
CATEGORIES:Entry,Standard
COLOR:darkgreen
DESCRIPTION:Predmet: Diskretne strukture 2 (IŠRM-1)\, Predavanja (P)\nLet
 niki: 1. letnik (IŠRM)\nIzvajalci: Sandi Klavžar\nProstor: 3.04
LOCATION:3.04
ORGANIZER:Sandi Klavžar
RELATED-TO:fmf-AFLABS-URNIK:srecanje:8298
X-WR-TIMEZONE:Europe/Ljubljana
END:VEVENT
BEGIN:VEVENT
SUMMARY:Diskretne strukture 2 (IŠRM-1)\, Predavanja (P)
DTSTART;TZID=Europe/Ljubljana:20230228T120000
DTEND;TZID=Europe/Ljubljana:20230228T150000
DTSTAMP:20260421T173912Z
UID:fmf-AFLABS-URNIK:premaknjeno-srecanje:16938
ATTENDEE:1. letnik (IŠRM)
CATEGORIES:Entry,Standard
COLOR:darkgreen
DESCRIPTION:Predmet: Diskretne strukture 2 (IŠRM-1)\, Predavanja (P)\nLet
 niki: 1. letnik (IŠRM)\nIzvajalci: Sandi Klavžar\nProstor: 3.04
LOCATION:3.04
ORGANIZER:Sandi Klavžar
RELATED-TO:fmf-AFLABS-URNIK:srecanje:8298
X-WR-TIMEZONE:Europe/Ljubljana
END:VEVENT
BEGIN:VEVENT
SUMMARY:Seminar za diskretno matematiko (MAT-D)\, Seminar (S)
DTSTART;TZID=Europe/Ljubljana:20230214T100000
DTEND;TZID=Europe/Ljubljana:20230214T120000
DTSTAMP:20260421T173912Z
UID:fmf-AFLABS-URNIK:premaknjeno-srecanje:102324
ATTENDEE:doktorski študij (M)
CATEGORIES:Entry,Standard
COLOR:darkgreen
DESCRIPTION:Predmet: Seminar za diskretno matematiko (MAT-D)\, Seminar (S)
 \nLetniki: doktorski študij (M)\nIzvajalci: Sandi Klavžar\, Matjaž Konv
 alinka\, Primož Potočnik\nProstor: Plemljev seminar (IMFM)
LOCATION:Plemljev seminar (IMFM)
ORGANIZER:Sandi Klavžar, Matjaž Konvalinka, Primož Potočnik
RELATED-TO:fmf-AFLABS-URNIK:srecanje:8719
X-WR-TIMEZONE:Europe/Ljubljana
END:VEVENT
BEGIN:VEVENT
SUMMARY:Seminar za diskretno matematiko (MAT-D)\, Seminar (S)
DTSTART;TZID=Europe/Ljubljana:20230221T100000
DTEND;TZID=Europe/Ljubljana:20230221T120000
DTSTAMP:20260421T173912Z
UID:fmf-AFLABS-URNIK:premaknjeno-srecanje:102325
ATTENDEE:doktorski študij (M)
CATEGORIES:Entry,Standard
COLOR:darkgreen
DESCRIPTION:Predmet: Seminar za diskretno matematiko (MAT-D)\, Seminar (S)
 \nLetniki: doktorski študij (M)\nIzvajalci: Sandi Klavžar\, Matjaž Konv
 alinka\, Primož Potočnik\nProstor: Plemljev seminar (IMFM)
LOCATION:Plemljev seminar (IMFM)
ORGANIZER:Sandi Klavžar, Matjaž Konvalinka, Primož Potočnik
RELATED-TO:fmf-AFLABS-URNIK:srecanje:8719
X-WR-TIMEZONE:Europe/Ljubljana
END:VEVENT
BEGIN:VEVENT
SUMMARY:Seminar za diskretno matematiko (MAT-D)\, Seminar (S)
DTSTART;TZID=Europe/Ljubljana:20230228T100000
DTEND;TZID=Europe/Ljubljana:20230228T120000
DTSTAMP:20260421T173912Z
UID:fmf-AFLABS-URNIK:premaknjeno-srecanje:102326
ATTENDEE:doktorski študij (M)
CATEGORIES:Entry,Standard
COLOR:darkgreen
DESCRIPTION:Predmet: Seminar za diskretno matematiko (MAT-D)\, Seminar (S)
 \nLetniki: doktorski študij (M)\nIzvajalci: Sandi Klavžar\, Matjaž Konv
 alinka\, Primož Potočnik\nProstor: Plemljev seminar (IMFM)
LOCATION:Plemljev seminar (IMFM)
ORGANIZER:Sandi Klavžar, Matjaž Konvalinka, Primož Potočnik
RELATED-TO:fmf-AFLABS-URNIK:srecanje:8719
X-WR-TIMEZONE:Europe/Ljubljana
END:VEVENT
BEGIN:VEVENT
SUMMARY:Govorilna ura ()\, Predavanja (P)
DTSTART;TZID=Europe/Ljubljana:20230216T100000
DTEND;TZID=Europe/Ljubljana:20230216T110000
DTSTAMP:20260421T173912Z
UID:fmf-AFLABS-URNIK:premaknjeno-srecanje:41574
CATEGORIES:Entry,Standard
COLOR:darkgreen
DESCRIPTION:Predmet: Govorilna ura ()\, Predavanja (P)\nLetniki: \nIzvajal
 ci: Sandi Klavžar\nProstor: 4.03
LOCATION:4.03
ORGANIZER:Sandi Klavžar
RELATED-TO:fmf-AFLABS-URNIK:srecanje:8411
X-WR-TIMEZONE:Europe/Ljubljana
END:VEVENT
BEGIN:VEVENT
SUMMARY:Govorilna ura ()\, Predavanja (P)
DTSTART;TZID=Europe/Ljubljana:20230223T100000
DTEND;TZID=Europe/Ljubljana:20230223T110000
DTSTAMP:20260421T173912Z
UID:fmf-AFLABS-URNIK:premaknjeno-srecanje:41575
CATEGORIES:Entry,Standard
COLOR:darkgreen
DESCRIPTION:Predmet: Govorilna ura ()\, Predavanja (P)\nLetniki: \nIzvajal
 ci: Sandi Klavžar\nProstor: 4.03
LOCATION:4.03
ORGANIZER:Sandi Klavžar
RELATED-TO:fmf-AFLABS-URNIK:srecanje:8411
X-WR-TIMEZONE:Europe/Ljubljana
END:VEVENT
BEGIN:VEVENT
SUMMARY:Govorilna ura ()\, Predavanja (P)
DTSTART;TZID=Europe/Ljubljana:20230302T100000
DTEND;TZID=Europe/Ljubljana:20230302T110000
DTSTAMP:20260421T173912Z
UID:fmf-AFLABS-URNIK:premaknjeno-srecanje:41576
CATEGORIES:Entry,Standard
COLOR:darkgreen
DESCRIPTION:Predmet: Govorilna ura ()\, Predavanja (P)\nLetniki: \nIzvajal
 ci: Sandi Klavžar\nProstor: 4.03
LOCATION:4.03
ORGANIZER:Sandi Klavžar
RELATED-TO:fmf-AFLABS-URNIK:srecanje:8411
X-WR-TIMEZONE:Europe/Ljubljana
END:VEVENT
BEGIN:VEVENT
SUMMARY:Rezervacija
DTSTART;TZID=Europe/Ljubljana:20230124T110000
DTEND;TZID=Europe/Ljubljana:20230124T120000
DTSTAMP:20260421T173912Z
UID:fmf-AFLABS-URNIK:rezervacija:11007
CATEGORIES:Reservation
COLOR:royalblue
DESCRIPTION:Predmeti: \nLetniki: \nIzvajalci: Sandi Klavžar\nProstori: 2.
 01
LOCATION:2.01
ORGANIZER:Sandi Klavžar
X-WR-TIMEZONE:Europe/Ljubljana
END:VEVENT
BEGIN:VEVENT
SUMMARY:Rezervacija
DTSTART;TZID=Europe/Ljubljana:20230124T120000
DTEND;TZID=Europe/Ljubljana:20230124T130000
DTSTAMP:20260421T173912Z
UID:fmf-AFLABS-URNIK:rezervacija:11010
CATEGORIES:Reservation
COLOR:royalblue
DESCRIPTION:Predmeti: \nLetniki: \nIzvajalci: Sandi Klavžar\nProstori: 2.
 01
LOCATION:2.01
ORGANIZER:Sandi Klavžar
X-WR-TIMEZONE:Europe/Ljubljana
END:VEVENT
BEGIN:VEVENT
SUMMARY:Rezervacija
DTSTART;TZID=Europe/Ljubljana:20230203T110000
DTEND;TZID=Europe/Ljubljana:20230203T120000
DTSTAMP:20260421T173912Z
UID:fmf-AFLABS-URNIK:rezervacija:11163
CATEGORIES:Reservation
COLOR:royalblue
DESCRIPTION:Predmeti: \nLetniki: \nIzvajalci: Sandi Klavžar\nProstori: 2.
 01
LOCATION:2.01
ORGANIZER:Sandi Klavžar
X-WR-TIMEZONE:Europe/Ljubljana
END:VEVENT
END:VCALENDAR
