BEGIN:VCALENDAR
VERSION:2.0
PRODID:-//AFLabs urnik izvoz - fmf//aflabs.si//SI
DTSTAMP:20260422T031801Z
NAME:UL FMF urnik
REFRESH-INTERVAL:PT1H
SOURCE:https://urnik.fmf.uni-lj.si/teacher/66?day=2023-06-05&export=1
URL:https://urnik.fmf.uni-lj.si/teacher/66?day=2023-06-05&export=1
X-PUBLISHED-TTL:PT1H
X-WR-CALNAME:UL FMF urnik
X-WR-TIMEZONE:Europe/Ljubljana
BEGIN:VTIMEZONE
TZID:Europe/Ljubljana
BEGIN:DAYLIGHT
DTSTART:20260329T020000
RDATE:20260329T020000
RDATE:20270328T020000
TZNAME:CEST
TZOFFSETFROM:+0100
TZOFFSETTO:+0200
END:DAYLIGHT
BEGIN:STANDARD
DTSTART:20261025T030000
RDATE:20261025T030000
RDATE:20271031T030000
TZNAME:CET
TZOFFSETFROM:+0200
TZOFFSETTO:+0100
END:STANDARD
END:VTIMEZONE
BEGIN:VEVENT
SUMMARY:Diskretna matematika 2 (FM-3\, MAT-3)\, Predavanja (P)
DTSTART;TZID=Europe/Ljubljana:20230501T080000
DTEND;TZID=Europe/Ljubljana:20230501T100000
DTSTAMP:20260422T031801Z
UID:fmf-AFLABS-URNIK:premaknjeno-srecanje:16254
ATTENDEE:3. letnik (FM)
ATTENDEE:3. letnik (M)
CATEGORIES:Entry,Standard
COLOR:darkgreen
DESCRIPTION:Predmet: Diskretna matematika 2 (FM-3\, MAT-3)\, Predavanja (P
 )\nLetniki: 3. letnik (FM)\, 3. letnik (M)\nIzvajalci: Sandi Klavžar\nPro
 stor: 3.04
LOCATION:3.04
ORGANIZER:Sandi Klavžar
RELATED-TO:fmf-AFLABS-URNIK:srecanje:8859
X-WR-TIMEZONE:Europe/Ljubljana
END:VEVENT
BEGIN:VEVENT
SUMMARY:Diskretna matematika 2 (FM-3\, MAT-3)\, Predavanja (P)
DTSTART;TZID=Europe/Ljubljana:20230508T080000
DTEND;TZID=Europe/Ljubljana:20230508T100000
DTSTAMP:20260422T031801Z
UID:fmf-AFLABS-URNIK:premaknjeno-srecanje:16255
ATTENDEE:3. letnik (FM)
ATTENDEE:3. letnik (M)
CATEGORIES:Entry,Standard
COLOR:darkgreen
DESCRIPTION:Predmet: Diskretna matematika 2 (FM-3\, MAT-3)\, Predavanja (P
 )\nLetniki: 3. letnik (FM)\, 3. letnik (M)\nIzvajalci: Sandi Klavžar\nPro
 stor: 3.04
LOCATION:3.04
ORGANIZER:Sandi Klavžar
RELATED-TO:fmf-AFLABS-URNIK:srecanje:8859
X-WR-TIMEZONE:Europe/Ljubljana
END:VEVENT
BEGIN:VEVENT
SUMMARY:Diskretna matematika 2 (FM-3\, MAT-3)\, Predavanja (P)
DTSTART;TZID=Europe/Ljubljana:20230515T080000
DTEND;TZID=Europe/Ljubljana:20230515T100000
DTSTAMP:20260422T031801Z
UID:fmf-AFLABS-URNIK:premaknjeno-srecanje:16256
ATTENDEE:3. letnik (FM)
ATTENDEE:3. letnik (M)
CATEGORIES:Entry,Standard
COLOR:darkgreen
DESCRIPTION:Predmet: Diskretna matematika 2 (FM-3\, MAT-3)\, Predavanja (P
 )\nLetniki: 3. letnik (FM)\, 3. letnik (M)\nIzvajalci: Sandi Klavžar\nPro
 stor: 3.04
LOCATION:3.04
ORGANIZER:Sandi Klavžar
RELATED-TO:fmf-AFLABS-URNIK:srecanje:8859
X-WR-TIMEZONE:Europe/Ljubljana
END:VEVENT
BEGIN:VEVENT
SUMMARY:Diskretna matematika 2 (FM-3\, MAT-3)\, Predavanja (P)
DTSTART;TZID=Europe/Ljubljana:20230522T080000
DTEND;TZID=Europe/Ljubljana:20230522T100000
DTSTAMP:20260422T031801Z
UID:fmf-AFLABS-URNIK:premaknjeno-srecanje:16257
ATTENDEE:3. letnik (FM)
ATTENDEE:3. letnik (M)
CATEGORIES:Entry,Standard
COLOR:darkgreen
DESCRIPTION:Predmet: Diskretna matematika 2 (FM-3\, MAT-3)\, Predavanja (P
 )\nLetniki: 3. letnik (FM)\, 3. letnik (M)\nIzvajalci: Sandi Klavžar\nPro
 stor: 3.04
LOCATION:3.04
ORGANIZER:Sandi Klavžar
RELATED-TO:fmf-AFLABS-URNIK:srecanje:8859
X-WR-TIMEZONE:Europe/Ljubljana
END:VEVENT
BEGIN:VEVENT
SUMMARY:Diskretna matematika 2 (FM-3\, MAT-3)\, Predavanja (P)
DTSTART;TZID=Europe/Ljubljana:20230529T080000
DTEND;TZID=Europe/Ljubljana:20230529T100000
DTSTAMP:20260422T031801Z
UID:fmf-AFLABS-URNIK:premaknjeno-srecanje:16258
ATTENDEE:3. letnik (FM)
ATTENDEE:3. letnik (M)
CATEGORIES:Entry,Standard
COLOR:darkgreen
DESCRIPTION:Predmet: Diskretna matematika 2 (FM-3\, MAT-3)\, Predavanja (P
 )\nLetniki: 3. letnik (FM)\, 3. letnik (M)\nIzvajalci: Sandi Klavžar\nPro
 stor: 3.04
LOCATION:3.04
ORGANIZER:Sandi Klavžar
RELATED-TO:fmf-AFLABS-URNIK:srecanje:8859
X-WR-TIMEZONE:Europe/Ljubljana
END:VEVENT
BEGIN:VEVENT
SUMMARY:Diskretne strukture 2 (IŠRM-1)\, Predavanja (P)
DTSTART;TZID=Europe/Ljubljana:20230502T120000
DTEND;TZID=Europe/Ljubljana:20230502T150000
DTSTAMP:20260422T031801Z
UID:fmf-AFLABS-URNIK:premaknjeno-srecanje:16947
ATTENDEE:1. letnik (IŠRM)
CATEGORIES:Entry,Standard
COLOR:darkgreen
DESCRIPTION:Predmet: Diskretne strukture 2 (IŠRM-1)\, Predavanja (P)\nLet
 niki: 1. letnik (IŠRM)\nIzvajalci: Sandi Klavžar\nProstor: 3.04
LOCATION:3.04
ORGANIZER:Sandi Klavžar
RELATED-TO:fmf-AFLABS-URNIK:srecanje:8298
X-WR-TIMEZONE:Europe/Ljubljana
END:VEVENT
BEGIN:VEVENT
SUMMARY:Diskretne strukture 2 (IŠRM-1)\, Predavanja (P)
DTSTART;TZID=Europe/Ljubljana:20230509T120000
DTEND;TZID=Europe/Ljubljana:20230509T150000
DTSTAMP:20260422T031801Z
UID:fmf-AFLABS-URNIK:premaknjeno-srecanje:16948
ATTENDEE:1. letnik (IŠRM)
CATEGORIES:Entry,Standard
COLOR:darkgreen
DESCRIPTION:Predmet: Diskretne strukture 2 (IŠRM-1)\, Predavanja (P)\nLet
 niki: 1. letnik (IŠRM)\nIzvajalci: Sandi Klavžar\nProstor: 3.04
LOCATION:3.04
ORGANIZER:Sandi Klavžar
RELATED-TO:fmf-AFLABS-URNIK:srecanje:8298
X-WR-TIMEZONE:Europe/Ljubljana
END:VEVENT
BEGIN:VEVENT
SUMMARY:Diskretne strukture 2 (IŠRM-1)\, Predavanja (P)
DTSTART;TZID=Europe/Ljubljana:20230516T120000
DTEND;TZID=Europe/Ljubljana:20230516T150000
DTSTAMP:20260422T031801Z
UID:fmf-AFLABS-URNIK:premaknjeno-srecanje:16949
ATTENDEE:1. letnik (IŠRM)
CATEGORIES:Entry,Standard
COLOR:darkgreen
DESCRIPTION:Predmet: Diskretne strukture 2 (IŠRM-1)\, Predavanja (P)\nLet
 niki: 1. letnik (IŠRM)\nIzvajalci: Sandi Klavžar\nProstor: 3.04
LOCATION:3.04
ORGANIZER:Sandi Klavžar
RELATED-TO:fmf-AFLABS-URNIK:srecanje:8298
X-WR-TIMEZONE:Europe/Ljubljana
END:VEVENT
BEGIN:VEVENT
SUMMARY:Diskretne strukture 2 (IŠRM-1)\, Predavanja (P)
DTSTART;TZID=Europe/Ljubljana:20230523T120000
DTEND;TZID=Europe/Ljubljana:20230523T150000
DTSTAMP:20260422T031801Z
UID:fmf-AFLABS-URNIK:premaknjeno-srecanje:16950
ATTENDEE:1. letnik (IŠRM)
CATEGORIES:Entry,Standard
COLOR:darkgreen
DESCRIPTION:Predmet: Diskretne strukture 2 (IŠRM-1)\, Predavanja (P)\nLet
 niki: 1. letnik (IŠRM)\nIzvajalci: Sandi Klavžar\nProstor: 3.04
LOCATION:3.04
ORGANIZER:Sandi Klavžar
RELATED-TO:fmf-AFLABS-URNIK:srecanje:8298
X-WR-TIMEZONE:Europe/Ljubljana
END:VEVENT
BEGIN:VEVENT
SUMMARY:Diskretne strukture 2 (IŠRM-1)\, Predavanja (P)
DTSTART;TZID=Europe/Ljubljana:20230530T120000
DTEND;TZID=Europe/Ljubljana:20230530T150000
DTSTAMP:20260422T031801Z
UID:fmf-AFLABS-URNIK:premaknjeno-srecanje:16951
ATTENDEE:1. letnik (IŠRM)
CATEGORIES:Entry,Standard
COLOR:darkgreen
DESCRIPTION:Predmet: Diskretne strukture 2 (IŠRM-1)\, Predavanja (P)\nLet
 niki: 1. letnik (IŠRM)\nIzvajalci: Sandi Klavžar\nProstor: 3.04
LOCATION:3.04
ORGANIZER:Sandi Klavžar
RELATED-TO:fmf-AFLABS-URNIK:srecanje:8298
X-WR-TIMEZONE:Europe/Ljubljana
END:VEVENT
BEGIN:VEVENT
SUMMARY:Seminar za diskretno matematiko (MAT-D)\, Seminar (S)
DTSTART;TZID=Europe/Ljubljana:20230502T100000
DTEND;TZID=Europe/Ljubljana:20230502T120000
DTSTAMP:20260422T031801Z
UID:fmf-AFLABS-URNIK:premaknjeno-srecanje:102335
ATTENDEE:doktorski študij (M)
CATEGORIES:Entry,Standard
COLOR:darkgreen
DESCRIPTION:Predmet: Seminar za diskretno matematiko (MAT-D)\, Seminar (S)
 \nLetniki: doktorski študij (M)\nIzvajalci: Sandi Klavžar\, Matjaž Konv
 alinka\, Primož Potočnik\nProstor: Plemljev seminar (IMFM)
LOCATION:Plemljev seminar (IMFM)
ORGANIZER:Sandi Klavžar, Matjaž Konvalinka, Primož Potočnik
RELATED-TO:fmf-AFLABS-URNIK:srecanje:8719
X-WR-TIMEZONE:Europe/Ljubljana
END:VEVENT
BEGIN:VEVENT
SUMMARY:Seminar za diskretno matematiko (MAT-D)\, Seminar (S)
DTSTART;TZID=Europe/Ljubljana:20230509T100000
DTEND;TZID=Europe/Ljubljana:20230509T120000
DTSTAMP:20260422T031801Z
UID:fmf-AFLABS-URNIK:premaknjeno-srecanje:102336
ATTENDEE:doktorski študij (M)
CATEGORIES:Entry,Standard
COLOR:darkgreen
DESCRIPTION:Predmet: Seminar za diskretno matematiko (MAT-D)\, Seminar (S)
 \nLetniki: doktorski študij (M)\nIzvajalci: Sandi Klavžar\, Matjaž Konv
 alinka\, Primož Potočnik\nProstor: Plemljev seminar (IMFM)
LOCATION:Plemljev seminar (IMFM)
ORGANIZER:Sandi Klavžar, Matjaž Konvalinka, Primož Potočnik
RELATED-TO:fmf-AFLABS-URNIK:srecanje:8719
X-WR-TIMEZONE:Europe/Ljubljana
END:VEVENT
BEGIN:VEVENT
SUMMARY:Seminar za diskretno matematiko (MAT-D)\, Seminar (S)
DTSTART;TZID=Europe/Ljubljana:20230516T100000
DTEND;TZID=Europe/Ljubljana:20230516T120000
DTSTAMP:20260422T031801Z
UID:fmf-AFLABS-URNIK:premaknjeno-srecanje:102337
ATTENDEE:doktorski študij (M)
CATEGORIES:Entry,Standard
COLOR:darkgreen
DESCRIPTION:Predmet: Seminar za diskretno matematiko (MAT-D)\, Seminar (S)
 \nLetniki: doktorski študij (M)\nIzvajalci: Sandi Klavžar\, Matjaž Konv
 alinka\, Primož Potočnik\nProstor: Plemljev seminar (IMFM)
LOCATION:Plemljev seminar (IMFM)
ORGANIZER:Sandi Klavžar, Matjaž Konvalinka, Primož Potočnik
RELATED-TO:fmf-AFLABS-URNIK:srecanje:8719
X-WR-TIMEZONE:Europe/Ljubljana
END:VEVENT
BEGIN:VEVENT
SUMMARY:Seminar za diskretno matematiko (MAT-D)\, Seminar (S)
DTSTART;TZID=Europe/Ljubljana:20230523T100000
DTEND;TZID=Europe/Ljubljana:20230523T120000
DTSTAMP:20260422T031801Z
UID:fmf-AFLABS-URNIK:premaknjeno-srecanje:102338
ATTENDEE:doktorski študij (M)
CATEGORIES:Entry,Standard
COLOR:darkgreen
DESCRIPTION:Predmet: Seminar za diskretno matematiko (MAT-D)\, Seminar (S)
 \nLetniki: doktorski študij (M)\nIzvajalci: Sandi Klavžar\, Matjaž Konv
 alinka\, Primož Potočnik\nProstor: Plemljev seminar (IMFM)
LOCATION:Plemljev seminar (IMFM)
ORGANIZER:Sandi Klavžar, Matjaž Konvalinka, Primož Potočnik
RELATED-TO:fmf-AFLABS-URNIK:srecanje:8719
X-WR-TIMEZONE:Europe/Ljubljana
END:VEVENT
BEGIN:VEVENT
SUMMARY:Seminar za diskretno matematiko (MAT-D)\, Seminar (S)
DTSTART;TZID=Europe/Ljubljana:20230530T100000
DTEND;TZID=Europe/Ljubljana:20230530T120000
DTSTAMP:20260422T031801Z
UID:fmf-AFLABS-URNIK:premaknjeno-srecanje:102339
ATTENDEE:doktorski študij (M)
CATEGORIES:Entry,Standard
COLOR:darkgreen
DESCRIPTION:Predmet: Seminar za diskretno matematiko (MAT-D)\, Seminar (S)
 \nLetniki: doktorski študij (M)\nIzvajalci: Sandi Klavžar\, Matjaž Konv
 alinka\, Primož Potočnik\nProstor: Plemljev seminar (IMFM)
LOCATION:Plemljev seminar (IMFM)
ORGANIZER:Sandi Klavžar, Matjaž Konvalinka, Primož Potočnik
RELATED-TO:fmf-AFLABS-URNIK:srecanje:8719
X-WR-TIMEZONE:Europe/Ljubljana
END:VEVENT
BEGIN:VEVENT
SUMMARY:Govorilna ura ()\, Predavanja (P)
DTSTART;TZID=Europe/Ljubljana:20230504T100000
DTEND;TZID=Europe/Ljubljana:20230504T110000
DTSTAMP:20260422T031801Z
UID:fmf-AFLABS-URNIK:premaknjeno-srecanje:41585
CATEGORIES:Entry,Standard
COLOR:darkgreen
DESCRIPTION:Predmet: Govorilna ura ()\, Predavanja (P)\nLetniki: \nIzvajal
 ci: Sandi Klavžar\nProstor: 4.03
LOCATION:4.03
ORGANIZER:Sandi Klavžar
RELATED-TO:fmf-AFLABS-URNIK:srecanje:8411
X-WR-TIMEZONE:Europe/Ljubljana
END:VEVENT
BEGIN:VEVENT
SUMMARY:Govorilna ura ()\, Predavanja (P)
DTSTART;TZID=Europe/Ljubljana:20230511T100000
DTEND;TZID=Europe/Ljubljana:20230511T110000
DTSTAMP:20260422T031801Z
UID:fmf-AFLABS-URNIK:premaknjeno-srecanje:41586
CATEGORIES:Entry,Standard
COLOR:darkgreen
DESCRIPTION:Predmet: Govorilna ura ()\, Predavanja (P)\nLetniki: \nIzvajal
 ci: Sandi Klavžar\nProstor: 4.03
LOCATION:4.03
ORGANIZER:Sandi Klavžar
RELATED-TO:fmf-AFLABS-URNIK:srecanje:8411
X-WR-TIMEZONE:Europe/Ljubljana
END:VEVENT
BEGIN:VEVENT
SUMMARY:Govorilna ura ()\, Predavanja (P)
DTSTART;TZID=Europe/Ljubljana:20230518T100000
DTEND;TZID=Europe/Ljubljana:20230518T110000
DTSTAMP:20260422T031801Z
UID:fmf-AFLABS-URNIK:premaknjeno-srecanje:41587
CATEGORIES:Entry,Standard
COLOR:darkgreen
DESCRIPTION:Predmet: Govorilna ura ()\, Predavanja (P)\nLetniki: \nIzvajal
 ci: Sandi Klavžar\nProstor: 4.03
LOCATION:4.03
ORGANIZER:Sandi Klavžar
RELATED-TO:fmf-AFLABS-URNIK:srecanje:8411
X-WR-TIMEZONE:Europe/Ljubljana
END:VEVENT
BEGIN:VEVENT
SUMMARY:Govorilna ura ()\, Predavanja (P)
DTSTART;TZID=Europe/Ljubljana:20230525T100000
DTEND;TZID=Europe/Ljubljana:20230525T110000
DTSTAMP:20260422T031801Z
UID:fmf-AFLABS-URNIK:premaknjeno-srecanje:41588
CATEGORIES:Entry,Standard
COLOR:darkgreen
DESCRIPTION:Predmet: Govorilna ura ()\, Predavanja (P)\nLetniki: \nIzvajal
 ci: Sandi Klavžar\nProstor: 4.03
LOCATION:4.03
ORGANIZER:Sandi Klavžar
RELATED-TO:fmf-AFLABS-URNIK:srecanje:8411
X-WR-TIMEZONE:Europe/Ljubljana
END:VEVENT
BEGIN:VEVENT
SUMMARY:Govorilna ura ()\, Predavanja (P)
DTSTART;TZID=Europe/Ljubljana:20230601T100000
DTEND;TZID=Europe/Ljubljana:20230601T110000
DTSTAMP:20260422T031801Z
UID:fmf-AFLABS-URNIK:premaknjeno-srecanje:41589
CATEGORIES:Entry,Standard
COLOR:darkgreen
DESCRIPTION:Predmet: Govorilna ura ()\, Predavanja (P)\nLetniki: \nIzvajal
 ci: Sandi Klavžar\nProstor: 4.03
LOCATION:4.03
ORGANIZER:Sandi Klavžar
RELATED-TO:fmf-AFLABS-URNIK:srecanje:8411
X-WR-TIMEZONE:Europe/Ljubljana
END:VEVENT
BEGIN:VEVENT
SUMMARY:Rezervacija
DTSTART;TZID=Europe/Ljubljana:20230630T100000
DTEND;TZID=Europe/Ljubljana:20230630T120000
DTSTAMP:20260422T031801Z
UID:fmf-AFLABS-URNIK:rezervacija:12592
CATEGORIES:Reservation
COLOR:royalblue
DESCRIPTION:Predmeti: \nLetniki: \nIzvajalci: Sandi Klavžar\nProstori: 2.
 05
LOCATION:2.05
ORGANIZER:Sandi Klavžar
X-WR-TIMEZONE:Europe/Ljubljana
END:VEVENT
BEGIN:VEVENT
SUMMARY:Rezervacija
DTSTART;TZID=Europe/Ljubljana:20230710T100000
DTEND;TZID=Europe/Ljubljana:20230710T120000
DTSTAMP:20260422T031801Z
UID:fmf-AFLABS-URNIK:rezervacija:12708
CATEGORIES:Reservation
COLOR:royalblue
DESCRIPTION:Predmeti: \nLetniki: \nIzvajalci: Sandi Klavžar\nProstori: 2.
 02
LOCATION:2.02
ORGANIZER:Sandi Klavžar
X-WR-TIMEZONE:Europe/Ljubljana
END:VEVENT
END:VCALENDAR
