BEGIN:VCALENDAR
VERSION:2.0
PRODID:-//AFLabs urnik izvoz - fmf//aflabs.si//SI
DTSTAMP:20260424T023557Z
NAME:UL FMF urnik
REFRESH-INTERVAL:PT1H
SOURCE:https://urnik.fmf.uni-lj.si/teacher/66?day=2025-03-10&export=1
URL:https://urnik.fmf.uni-lj.si/teacher/66?day=2025-03-10&export=1
X-PUBLISHED-TTL:PT1H
X-WR-CALNAME:UL FMF urnik
X-WR-TIMEZONE:Europe/Ljubljana
BEGIN:VTIMEZONE
TZID:Europe/Ljubljana
BEGIN:DAYLIGHT
DTSTART:20260329T020000
RDATE:20260329T020000
RDATE:20270328T020000
TZNAME:CEST
TZOFFSETFROM:+0100
TZOFFSETTO:+0200
END:DAYLIGHT
BEGIN:STANDARD
DTSTART:20261025T030000
RDATE:20261025T030000
RDATE:20271031T030000
TZNAME:CET
TZOFFSETFROM:+0200
TZOFFSETTO:+0100
END:STANDARD
END:VTIMEZONE
BEGIN:VEVENT
SUMMARY:Seminar za diskretno matematiko (MAT-D)\, Seminar (S)
DTSTART;TZID=Europe/Ljubljana:20250218T100000
DTEND;TZID=Europe/Ljubljana:20250218T120000
DTSTAMP:20260424T023557Z
UID:fmf-AFLABS-URNIK:premaknjeno-srecanje:205800
ATTENDEE:doktorski študij (M)
CATEGORIES:Entry,Standard
COLOR:darkgreen
DESCRIPTION:Predmet: Seminar za diskretno matematiko (MAT-D)\, Seminar (S)
 \nLetniki: doktorski študij (M)\nIzvajalci: Sandi Klavžar\, Matjaž Konv
 alinka\, Primož Potočnik\nProstor: Plemljev seminar (IMFM)
LOCATION:Plemljev seminar (IMFM)
ORGANIZER:Sandi Klavžar, Matjaž Konvalinka, Primož Potočnik
RELATED-TO:fmf-AFLABS-URNIK:srecanje:15175
X-WR-TIMEZONE:Europe/Ljubljana
END:VEVENT
BEGIN:VEVENT
SUMMARY:Seminar za diskretno matematiko (MAT-D)\, Seminar (S)
DTSTART;TZID=Europe/Ljubljana:20250225T100000
DTEND;TZID=Europe/Ljubljana:20250225T120000
DTSTAMP:20260424T023557Z
UID:fmf-AFLABS-URNIK:premaknjeno-srecanje:205801
ATTENDEE:doktorski študij (M)
CATEGORIES:Entry,Standard
COLOR:darkgreen
DESCRIPTION:Predmet: Seminar za diskretno matematiko (MAT-D)\, Seminar (S)
 \nLetniki: doktorski študij (M)\nIzvajalci: Sandi Klavžar\, Matjaž Konv
 alinka\, Primož Potočnik\nProstor: Plemljev seminar (IMFM)
LOCATION:Plemljev seminar (IMFM)
ORGANIZER:Sandi Klavžar, Matjaž Konvalinka, Primož Potočnik
RELATED-TO:fmf-AFLABS-URNIK:srecanje:15175
X-WR-TIMEZONE:Europe/Ljubljana
END:VEVENT
BEGIN:VEVENT
SUMMARY:Seminar za diskretno matematiko (MAT-D)\, Seminar (S)
DTSTART;TZID=Europe/Ljubljana:20250304T100000
DTEND;TZID=Europe/Ljubljana:20250304T120000
DTSTAMP:20260424T023557Z
UID:fmf-AFLABS-URNIK:premaknjeno-srecanje:205802
ATTENDEE:doktorski študij (M)
CATEGORIES:Entry,Standard
COLOR:darkgreen
DESCRIPTION:Predmet: Seminar za diskretno matematiko (MAT-D)\, Seminar (S)
 \nLetniki: doktorski študij (M)\nIzvajalci: Sandi Klavžar\, Matjaž Konv
 alinka\, Primož Potočnik\nProstor: Plemljev seminar (IMFM)
LOCATION:Plemljev seminar (IMFM)
ORGANIZER:Sandi Klavžar, Matjaž Konvalinka, Primož Potočnik
RELATED-TO:fmf-AFLABS-URNIK:srecanje:15175
X-WR-TIMEZONE:Europe/Ljubljana
END:VEVENT
BEGIN:VEVENT
SUMMARY:Seminar za diskretno matematiko (MAT-D)\, Seminar (S)
DTSTART;TZID=Europe/Ljubljana:20250311T100000
DTEND;TZID=Europe/Ljubljana:20250311T120000
DTSTAMP:20260424T023557Z
UID:fmf-AFLABS-URNIK:premaknjeno-srecanje:205803
ATTENDEE:doktorski študij (M)
CATEGORIES:Entry,Standard
COLOR:darkgreen
DESCRIPTION:Predmet: Seminar za diskretno matematiko (MAT-D)\, Seminar (S)
 \nLetniki: doktorski študij (M)\nIzvajalci: Sandi Klavžar\, Matjaž Konv
 alinka\, Primož Potočnik\nProstor: Plemljev seminar (IMFM)
LOCATION:Plemljev seminar (IMFM)
ORGANIZER:Sandi Klavžar, Matjaž Konvalinka, Primož Potočnik
RELATED-TO:fmf-AFLABS-URNIK:srecanje:15175
X-WR-TIMEZONE:Europe/Ljubljana
END:VEVENT
BEGIN:VEVENT
SUMMARY:Seminar za diskretno matematiko (MAT-D)\, Seminar (S)
DTSTART;TZID=Europe/Ljubljana:20250318T100000
DTEND;TZID=Europe/Ljubljana:20250318T120000
DTSTAMP:20260424T023557Z
UID:fmf-AFLABS-URNIK:premaknjeno-srecanje:205804
ATTENDEE:doktorski študij (M)
CATEGORIES:Entry,Standard
COLOR:darkgreen
DESCRIPTION:Predmet: Seminar za diskretno matematiko (MAT-D)\, Seminar (S)
 \nLetniki: doktorski študij (M)\nIzvajalci: Sandi Klavžar\, Matjaž Konv
 alinka\, Primož Potočnik\nProstor: Plemljev seminar (IMFM)
LOCATION:Plemljev seminar (IMFM)
ORGANIZER:Sandi Klavžar, Matjaž Konvalinka, Primož Potočnik
RELATED-TO:fmf-AFLABS-URNIK:srecanje:15175
X-WR-TIMEZONE:Europe/Ljubljana
END:VEVENT
BEGIN:VEVENT
SUMMARY:Seminar za diskretno matematiko (MAT-D)\, Seminar (S)
DTSTART;TZID=Europe/Ljubljana:20250325T100000
DTEND;TZID=Europe/Ljubljana:20250325T120000
DTSTAMP:20260424T023557Z
UID:fmf-AFLABS-URNIK:premaknjeno-srecanje:205805
ATTENDEE:doktorski študij (M)
CATEGORIES:Entry,Standard
COLOR:darkgreen
DESCRIPTION:Predmet: Seminar za diskretno matematiko (MAT-D)\, Seminar (S)
 \nLetniki: doktorski študij (M)\nIzvajalci: Sandi Klavžar\, Matjaž Konv
 alinka\, Primož Potočnik\nProstor: Plemljev seminar (IMFM)
LOCATION:Plemljev seminar (IMFM)
ORGANIZER:Sandi Klavžar, Matjaž Konvalinka, Primož Potočnik
RELATED-TO:fmf-AFLABS-URNIK:srecanje:15175
X-WR-TIMEZONE:Europe/Ljubljana
END:VEVENT
BEGIN:VEVENT
SUMMARY:Seminar za diskretno matematiko (MAT-D)\, Seminar (S)
DTSTART;TZID=Europe/Ljubljana:20250401T100000
DTEND;TZID=Europe/Ljubljana:20250401T120000
DTSTAMP:20260424T023557Z
UID:fmf-AFLABS-URNIK:premaknjeno-srecanje:205806
ATTENDEE:doktorski študij (M)
CATEGORIES:Entry,Standard
COLOR:darkgreen
DESCRIPTION:Predmet: Seminar za diskretno matematiko (MAT-D)\, Seminar (S)
 \nLetniki: doktorski študij (M)\nIzvajalci: Sandi Klavžar\, Matjaž Konv
 alinka\, Primož Potočnik\nProstor: Plemljev seminar (IMFM)
LOCATION:Plemljev seminar (IMFM)
ORGANIZER:Sandi Klavžar, Matjaž Konvalinka, Primož Potočnik
RELATED-TO:fmf-AFLABS-URNIK:srecanje:15175
X-WR-TIMEZONE:Europe/Ljubljana
END:VEVENT
BEGIN:VEVENT
SUMMARY:Seminar za diskretno matematiko (MAT-D)\, Seminar (S)
DTSTART;TZID=Europe/Ljubljana:20250408T100000
DTEND;TZID=Europe/Ljubljana:20250408T120000
DTSTAMP:20260424T023557Z
UID:fmf-AFLABS-URNIK:premaknjeno-srecanje:205807
ATTENDEE:doktorski študij (M)
CATEGORIES:Entry,Standard
COLOR:darkgreen
DESCRIPTION:Predmet: Seminar za diskretno matematiko (MAT-D)\, Seminar (S)
 \nLetniki: doktorski študij (M)\nIzvajalci: Sandi Klavžar\, Matjaž Konv
 alinka\, Primož Potočnik\nProstor: Plemljev seminar (IMFM)
LOCATION:Plemljev seminar (IMFM)
ORGANIZER:Sandi Klavžar, Matjaž Konvalinka, Primož Potočnik
RELATED-TO:fmf-AFLABS-URNIK:srecanje:15175
X-WR-TIMEZONE:Europe/Ljubljana
END:VEVENT
BEGIN:VEVENT
SUMMARY:Seminar za diskretno matematiko (MAT-D)\, Seminar (S)
DTSTART;TZID=Europe/Ljubljana:20250415T100000
DTEND;TZID=Europe/Ljubljana:20250415T120000
DTSTAMP:20260424T023557Z
UID:fmf-AFLABS-URNIK:premaknjeno-srecanje:205808
ATTENDEE:doktorski študij (M)
CATEGORIES:Entry,Standard
COLOR:darkgreen
DESCRIPTION:Predmet: Seminar za diskretno matematiko (MAT-D)\, Seminar (S)
 \nLetniki: doktorski študij (M)\nIzvajalci: Sandi Klavžar\, Matjaž Konv
 alinka\, Primož Potočnik\nProstor: Plemljev seminar (IMFM)
LOCATION:Plemljev seminar (IMFM)
ORGANIZER:Sandi Klavžar, Matjaž Konvalinka, Primož Potočnik
RELATED-TO:fmf-AFLABS-URNIK:srecanje:15175
X-WR-TIMEZONE:Europe/Ljubljana
END:VEVENT
BEGIN:VEVENT
SUMMARY:Seminar za diskretno matematiko (MAT-D)\, Seminar (S)
DTSTART;TZID=Europe/Ljubljana:20250422T100000
DTEND;TZID=Europe/Ljubljana:20250422T120000
DTSTAMP:20260424T023557Z
UID:fmf-AFLABS-URNIK:premaknjeno-srecanje:205809
ATTENDEE:doktorski študij (M)
CATEGORIES:Entry,Standard
COLOR:darkgreen
DESCRIPTION:Predmet: Seminar za diskretno matematiko (MAT-D)\, Seminar (S)
 \nLetniki: doktorski študij (M)\nIzvajalci: Sandi Klavžar\, Matjaž Konv
 alinka\, Primož Potočnik\nProstor: Plemljev seminar (IMFM)
LOCATION:Plemljev seminar (IMFM)
ORGANIZER:Sandi Klavžar, Matjaž Konvalinka, Primož Potočnik
RELATED-TO:fmf-AFLABS-URNIK:srecanje:15175
X-WR-TIMEZONE:Europe/Ljubljana
END:VEVENT
BEGIN:VEVENT
SUMMARY:Seminar za diskretno matematiko (MAT-D)\, Seminar (S)
DTSTART;TZID=Europe/Ljubljana:20250429T100000
DTEND;TZID=Europe/Ljubljana:20250429T120000
DTSTAMP:20260424T023557Z
UID:fmf-AFLABS-URNIK:premaknjeno-srecanje:205810
ATTENDEE:doktorski študij (M)
CATEGORIES:Entry,Standard
COLOR:darkgreen
DESCRIPTION:Predmet: Seminar za diskretno matematiko (MAT-D)\, Seminar (S)
 \nLetniki: doktorski študij (M)\nIzvajalci: Sandi Klavžar\, Matjaž Konv
 alinka\, Primož Potočnik\nProstor: Plemljev seminar (IMFM)
LOCATION:Plemljev seminar (IMFM)
ORGANIZER:Sandi Klavžar, Matjaž Konvalinka, Primož Potočnik
RELATED-TO:fmf-AFLABS-URNIK:srecanje:15175
X-WR-TIMEZONE:Europe/Ljubljana
END:VEVENT
BEGIN:VEVENT
SUMMARY:Seminar za diskretno matematiko (MAT-D)\, Seminar (S)
DTSTART;TZID=Europe/Ljubljana:20250506T100000
DTEND;TZID=Europe/Ljubljana:20250506T120000
DTSTAMP:20260424T023557Z
UID:fmf-AFLABS-URNIK:premaknjeno-srecanje:205811
ATTENDEE:doktorski študij (M)
CATEGORIES:Entry,Standard
COLOR:darkgreen
DESCRIPTION:Predmet: Seminar za diskretno matematiko (MAT-D)\, Seminar (S)
 \nLetniki: doktorski študij (M)\nIzvajalci: Sandi Klavžar\, Matjaž Konv
 alinka\, Primož Potočnik\nProstor: Plemljev seminar (IMFM)
LOCATION:Plemljev seminar (IMFM)
ORGANIZER:Sandi Klavžar, Matjaž Konvalinka, Primož Potočnik
RELATED-TO:fmf-AFLABS-URNIK:srecanje:15175
X-WR-TIMEZONE:Europe/Ljubljana
END:VEVENT
BEGIN:VEVENT
SUMMARY:Seminar za diskretno matematiko (MAT-D)\, Seminar (S)
DTSTART;TZID=Europe/Ljubljana:20250513T100000
DTEND;TZID=Europe/Ljubljana:20250513T120000
DTSTAMP:20260424T023557Z
UID:fmf-AFLABS-URNIK:premaknjeno-srecanje:205812
ATTENDEE:doktorski študij (M)
CATEGORIES:Entry,Standard
COLOR:darkgreen
DESCRIPTION:Predmet: Seminar za diskretno matematiko (MAT-D)\, Seminar (S)
 \nLetniki: doktorski študij (M)\nIzvajalci: Sandi Klavžar\, Matjaž Konv
 alinka\, Primož Potočnik\nProstor: Plemljev seminar (IMFM)
LOCATION:Plemljev seminar (IMFM)
ORGANIZER:Sandi Klavžar, Matjaž Konvalinka, Primož Potočnik
RELATED-TO:fmf-AFLABS-URNIK:srecanje:15175
X-WR-TIMEZONE:Europe/Ljubljana
END:VEVENT
BEGIN:VEVENT
SUMMARY:Seminar za diskretno matematiko (MAT-D)\, Seminar (S)
DTSTART;TZID=Europe/Ljubljana:20250520T100000
DTEND;TZID=Europe/Ljubljana:20250520T120000
DTSTAMP:20260424T023557Z
UID:fmf-AFLABS-URNIK:premaknjeno-srecanje:205813
ATTENDEE:doktorski študij (M)
CATEGORIES:Entry,Standard
COLOR:darkgreen
DESCRIPTION:Predmet: Seminar za diskretno matematiko (MAT-D)\, Seminar (S)
 \nLetniki: doktorski študij (M)\nIzvajalci: Sandi Klavžar\, Matjaž Konv
 alinka\, Primož Potočnik\nProstor: Plemljev seminar (IMFM)
LOCATION:Plemljev seminar (IMFM)
ORGANIZER:Sandi Klavžar, Matjaž Konvalinka, Primož Potočnik
RELATED-TO:fmf-AFLABS-URNIK:srecanje:15175
X-WR-TIMEZONE:Europe/Ljubljana
END:VEVENT
BEGIN:VEVENT
SUMMARY:Seminar za diskretno matematiko (MAT-D)\, Seminar (S)
DTSTART;TZID=Europe/Ljubljana:20250527T100000
DTEND;TZID=Europe/Ljubljana:20250527T120000
DTSTAMP:20260424T023557Z
UID:fmf-AFLABS-URNIK:premaknjeno-srecanje:205814
ATTENDEE:doktorski študij (M)
CATEGORIES:Entry,Standard
COLOR:darkgreen
DESCRIPTION:Predmet: Seminar za diskretno matematiko (MAT-D)\, Seminar (S)
 \nLetniki: doktorski študij (M)\nIzvajalci: Sandi Klavžar\, Matjaž Konv
 alinka\, Primož Potočnik\nProstor: Plemljev seminar (IMFM)
LOCATION:Plemljev seminar (IMFM)
ORGANIZER:Sandi Klavžar, Matjaž Konvalinka, Primož Potočnik
RELATED-TO:fmf-AFLABS-URNIK:srecanje:15175
X-WR-TIMEZONE:Europe/Ljubljana
END:VEVENT
BEGIN:VEVENT
SUMMARY:Seminar za diskretno matematiko (MAT-D)\, Seminar (S)
DTSTART;TZID=Europe/Ljubljana:20250603T100000
DTEND;TZID=Europe/Ljubljana:20250603T120000
DTSTAMP:20260424T023557Z
UID:fmf-AFLABS-URNIK:premaknjeno-srecanje:205815
ATTENDEE:doktorski študij (M)
CATEGORIES:Entry,Standard
COLOR:darkgreen
DESCRIPTION:Predmet: Seminar za diskretno matematiko (MAT-D)\, Seminar (S)
 \nLetniki: doktorski študij (M)\nIzvajalci: Sandi Klavžar\, Matjaž Konv
 alinka\, Primož Potočnik\nProstor: Plemljev seminar (IMFM)
LOCATION:Plemljev seminar (IMFM)
ORGANIZER:Sandi Klavžar, Matjaž Konvalinka, Primož Potočnik
RELATED-TO:fmf-AFLABS-URNIK:srecanje:15175
X-WR-TIMEZONE:Europe/Ljubljana
END:VEVENT
BEGIN:VEVENT
SUMMARY:Govorilna ura ()\, Predavanja (P)
DTSTART;TZID=Europe/Ljubljana:20250220T100000
DTEND;TZID=Europe/Ljubljana:20250220T110000
DTSTAMP:20260424T023557Z
UID:fmf-AFLABS-URNIK:premaknjeno-srecanje:200792
CATEGORIES:Entry,Standard
COLOR:darkgreen
DESCRIPTION:Predmet: Govorilna ura ()\, Predavanja (P)\nLetniki: \nIzvajal
 ci: Sandi Klavžar\nProstor: 4.03
LOCATION:4.03
ORGANIZER:Sandi Klavžar
RELATED-TO:fmf-AFLABS-URNIK:srecanje:14862
X-WR-TIMEZONE:Europe/Ljubljana
END:VEVENT
BEGIN:VEVENT
SUMMARY:Govorilna ura ()\, Predavanja (P)
DTSTART;TZID=Europe/Ljubljana:20250227T100000
DTEND;TZID=Europe/Ljubljana:20250227T110000
DTSTAMP:20260424T023557Z
UID:fmf-AFLABS-URNIK:premaknjeno-srecanje:200793
CATEGORIES:Entry,Standard
COLOR:darkgreen
DESCRIPTION:Predmet: Govorilna ura ()\, Predavanja (P)\nLetniki: \nIzvajal
 ci: Sandi Klavžar\nProstor: 4.03
LOCATION:4.03
ORGANIZER:Sandi Klavžar
RELATED-TO:fmf-AFLABS-URNIK:srecanje:14862
X-WR-TIMEZONE:Europe/Ljubljana
END:VEVENT
BEGIN:VEVENT
SUMMARY:Govorilna ura ()\, Predavanja (P)
DTSTART;TZID=Europe/Ljubljana:20250306T100000
DTEND;TZID=Europe/Ljubljana:20250306T110000
DTSTAMP:20260424T023557Z
UID:fmf-AFLABS-URNIK:premaknjeno-srecanje:200794
CATEGORIES:Entry,Standard
COLOR:darkgreen
DESCRIPTION:Predmet: Govorilna ura ()\, Predavanja (P)\nLetniki: \nIzvajal
 ci: Sandi Klavžar\nProstor: 4.03
LOCATION:4.03
ORGANIZER:Sandi Klavžar
RELATED-TO:fmf-AFLABS-URNIK:srecanje:14862
X-WR-TIMEZONE:Europe/Ljubljana
END:VEVENT
BEGIN:VEVENT
SUMMARY:Govorilna ura ()\, Predavanja (P)
DTSTART;TZID=Europe/Ljubljana:20250313T100000
DTEND;TZID=Europe/Ljubljana:20250313T110000
DTSTAMP:20260424T023557Z
UID:fmf-AFLABS-URNIK:premaknjeno-srecanje:200795
CATEGORIES:Entry,Standard
COLOR:darkgreen
DESCRIPTION:Predmet: Govorilna ura ()\, Predavanja (P)\nLetniki: \nIzvajal
 ci: Sandi Klavžar\nProstor: 4.03
LOCATION:4.03
ORGANIZER:Sandi Klavžar
RELATED-TO:fmf-AFLABS-URNIK:srecanje:14862
X-WR-TIMEZONE:Europe/Ljubljana
END:VEVENT
BEGIN:VEVENT
SUMMARY:Govorilna ura ()\, Predavanja (P)
DTSTART;TZID=Europe/Ljubljana:20250320T100000
DTEND;TZID=Europe/Ljubljana:20250320T110000
DTSTAMP:20260424T023557Z
UID:fmf-AFLABS-URNIK:premaknjeno-srecanje:200796
CATEGORIES:Entry,Standard
COLOR:darkgreen
DESCRIPTION:Predmet: Govorilna ura ()\, Predavanja (P)\nLetniki: \nIzvajal
 ci: Sandi Klavžar\nProstor: 4.03
LOCATION:4.03
ORGANIZER:Sandi Klavžar
RELATED-TO:fmf-AFLABS-URNIK:srecanje:14862
X-WR-TIMEZONE:Europe/Ljubljana
END:VEVENT
BEGIN:VEVENT
SUMMARY:Govorilna ura ()\, Predavanja (P)
DTSTART;TZID=Europe/Ljubljana:20250327T100000
DTEND;TZID=Europe/Ljubljana:20250327T110000
DTSTAMP:20260424T023557Z
UID:fmf-AFLABS-URNIK:premaknjeno-srecanje:200797
CATEGORIES:Entry,Standard
COLOR:darkgreen
DESCRIPTION:Predmet: Govorilna ura ()\, Predavanja (P)\nLetniki: \nIzvajal
 ci: Sandi Klavžar\nProstor: 4.03
LOCATION:4.03
ORGANIZER:Sandi Klavžar
RELATED-TO:fmf-AFLABS-URNIK:srecanje:14862
X-WR-TIMEZONE:Europe/Ljubljana
END:VEVENT
BEGIN:VEVENT
SUMMARY:Govorilna ura ()\, Predavanja (P)
DTSTART;TZID=Europe/Ljubljana:20250403T100000
DTEND;TZID=Europe/Ljubljana:20250403T110000
DTSTAMP:20260424T023557Z
UID:fmf-AFLABS-URNIK:premaknjeno-srecanje:200798
CATEGORIES:Entry,Standard
COLOR:darkgreen
DESCRIPTION:Predmet: Govorilna ura ()\, Predavanja (P)\nLetniki: \nIzvajal
 ci: Sandi Klavžar\nProstor: 4.03
LOCATION:4.03
ORGANIZER:Sandi Klavžar
RELATED-TO:fmf-AFLABS-URNIK:srecanje:14862
X-WR-TIMEZONE:Europe/Ljubljana
END:VEVENT
BEGIN:VEVENT
SUMMARY:Govorilna ura ()\, Predavanja (P)
DTSTART;TZID=Europe/Ljubljana:20250410T100000
DTEND;TZID=Europe/Ljubljana:20250410T110000
DTSTAMP:20260424T023557Z
UID:fmf-AFLABS-URNIK:premaknjeno-srecanje:200799
CATEGORIES:Entry,Standard
COLOR:darkgreen
DESCRIPTION:Predmet: Govorilna ura ()\, Predavanja (P)\nLetniki: \nIzvajal
 ci: Sandi Klavžar\nProstor: 4.03
LOCATION:4.03
ORGANIZER:Sandi Klavžar
RELATED-TO:fmf-AFLABS-URNIK:srecanje:14862
X-WR-TIMEZONE:Europe/Ljubljana
END:VEVENT
BEGIN:VEVENT
SUMMARY:Govorilna ura ()\, Predavanja (P)
DTSTART;TZID=Europe/Ljubljana:20250417T100000
DTEND;TZID=Europe/Ljubljana:20250417T110000
DTSTAMP:20260424T023557Z
UID:fmf-AFLABS-URNIK:premaknjeno-srecanje:200800
CATEGORIES:Entry,Standard
COLOR:darkgreen
DESCRIPTION:Predmet: Govorilna ura ()\, Predavanja (P)\nLetniki: \nIzvajal
 ci: Sandi Klavžar\nProstor: 4.03
LOCATION:4.03
ORGANIZER:Sandi Klavžar
RELATED-TO:fmf-AFLABS-URNIK:srecanje:14862
X-WR-TIMEZONE:Europe/Ljubljana
END:VEVENT
BEGIN:VEVENT
SUMMARY:Govorilna ura ()\, Predavanja (P)
DTSTART;TZID=Europe/Ljubljana:20250424T100000
DTEND;TZID=Europe/Ljubljana:20250424T110000
DTSTAMP:20260424T023557Z
UID:fmf-AFLABS-URNIK:premaknjeno-srecanje:200801
CATEGORIES:Entry,Standard
COLOR:darkgreen
DESCRIPTION:Predmet: Govorilna ura ()\, Predavanja (P)\nLetniki: \nIzvajal
 ci: Sandi Klavžar\nProstor: 4.03
LOCATION:4.03
ORGANIZER:Sandi Klavžar
RELATED-TO:fmf-AFLABS-URNIK:srecanje:14862
X-WR-TIMEZONE:Europe/Ljubljana
END:VEVENT
BEGIN:VEVENT
SUMMARY:Govorilna ura ()\, Predavanja (P)
DTSTART;TZID=Europe/Ljubljana:20250501T100000
DTEND;TZID=Europe/Ljubljana:20250501T110000
DTSTAMP:20260424T023557Z
UID:fmf-AFLABS-URNIK:premaknjeno-srecanje:200802
CATEGORIES:Entry,Standard
COLOR:darkgreen
DESCRIPTION:Predmet: Govorilna ura ()\, Predavanja (P)\nLetniki: \nIzvajal
 ci: Sandi Klavžar\nProstor: 4.03
LOCATION:4.03
ORGANIZER:Sandi Klavžar
RELATED-TO:fmf-AFLABS-URNIK:srecanje:14862
X-WR-TIMEZONE:Europe/Ljubljana
END:VEVENT
BEGIN:VEVENT
SUMMARY:Govorilna ura ()\, Predavanja (P)
DTSTART;TZID=Europe/Ljubljana:20250508T100000
DTEND;TZID=Europe/Ljubljana:20250508T110000
DTSTAMP:20260424T023557Z
UID:fmf-AFLABS-URNIK:premaknjeno-srecanje:200803
CATEGORIES:Entry,Standard
COLOR:darkgreen
DESCRIPTION:Predmet: Govorilna ura ()\, Predavanja (P)\nLetniki: \nIzvajal
 ci: Sandi Klavžar\nProstor: 4.03
LOCATION:4.03
ORGANIZER:Sandi Klavžar
RELATED-TO:fmf-AFLABS-URNIK:srecanje:14862
X-WR-TIMEZONE:Europe/Ljubljana
END:VEVENT
BEGIN:VEVENT
SUMMARY:Govorilna ura ()\, Predavanja (P)
DTSTART;TZID=Europe/Ljubljana:20250515T100000
DTEND;TZID=Europe/Ljubljana:20250515T110000
DTSTAMP:20260424T023557Z
UID:fmf-AFLABS-URNIK:premaknjeno-srecanje:200804
CATEGORIES:Entry,Standard
COLOR:darkgreen
DESCRIPTION:Predmet: Govorilna ura ()\, Predavanja (P)\nLetniki: \nIzvajal
 ci: Sandi Klavžar\nProstor: 4.03
LOCATION:4.03
ORGANIZER:Sandi Klavžar
RELATED-TO:fmf-AFLABS-URNIK:srecanje:14862
X-WR-TIMEZONE:Europe/Ljubljana
END:VEVENT
BEGIN:VEVENT
SUMMARY:Govorilna ura ()\, Predavanja (P)
DTSTART;TZID=Europe/Ljubljana:20250522T100000
DTEND;TZID=Europe/Ljubljana:20250522T110000
DTSTAMP:20260424T023557Z
UID:fmf-AFLABS-URNIK:premaknjeno-srecanje:200805
CATEGORIES:Entry,Standard
COLOR:darkgreen
DESCRIPTION:Predmet: Govorilna ura ()\, Predavanja (P)\nLetniki: \nIzvajal
 ci: Sandi Klavžar\nProstor: 4.03
LOCATION:4.03
ORGANIZER:Sandi Klavžar
RELATED-TO:fmf-AFLABS-URNIK:srecanje:14862
X-WR-TIMEZONE:Europe/Ljubljana
END:VEVENT
BEGIN:VEVENT
SUMMARY:Govorilna ura ()\, Predavanja (P)
DTSTART;TZID=Europe/Ljubljana:20250529T100000
DTEND;TZID=Europe/Ljubljana:20250529T110000
DTSTAMP:20260424T023557Z
UID:fmf-AFLABS-URNIK:premaknjeno-srecanje:200806
CATEGORIES:Entry,Standard
COLOR:darkgreen
DESCRIPTION:Predmet: Govorilna ura ()\, Predavanja (P)\nLetniki: \nIzvajal
 ci: Sandi Klavžar\nProstor: 4.03
LOCATION:4.03
ORGANIZER:Sandi Klavžar
RELATED-TO:fmf-AFLABS-URNIK:srecanje:14862
X-WR-TIMEZONE:Europe/Ljubljana
END:VEVENT
BEGIN:VEVENT
SUMMARY:Govorilna ura ()\, Predavanja (P)
DTSTART;TZID=Europe/Ljubljana:20250605T100000
DTEND;TZID=Europe/Ljubljana:20250605T110000
DTSTAMP:20260424T023557Z
UID:fmf-AFLABS-URNIK:premaknjeno-srecanje:200807
CATEGORIES:Entry,Standard
COLOR:darkgreen
DESCRIPTION:Predmet: Govorilna ura ()\, Predavanja (P)\nLetniki: \nIzvajal
 ci: Sandi Klavžar\nProstor: 4.03
LOCATION:4.03
ORGANIZER:Sandi Klavžar
RELATED-TO:fmf-AFLABS-URNIK:srecanje:14862
X-WR-TIMEZONE:Europe/Ljubljana
END:VEVENT
BEGIN:VEVENT
SUMMARY:Diskretna matematika 1
DTSTART;TZID=Europe/Ljubljana:20250221T120000
DTEND;TZID=Europe/Ljubljana:20250221T140000
DTSTAMP:20260424T023557Z
UID:fmf-AFLABS-URNIK:rezervacija:20682
ATTENDEE:2. letnik (M)
ATTENDEE:2. letnik (PM)
ATTENDEE:3. letnik (FM)
CATEGORIES:Reservation
COLOR:royalblue
DESCRIPTION:Predmeti: Diskretna matematika 1 (FM-3\, MAT-2\, PM-2)\nLetnik
 i: 3. letnik (FM)\, 2. letnik (M)\, 2. letnik (PM)\nIzvajalci: Sandi Klav
 žar\nProstori: 2.05
LOCATION:2.05
ORGANIZER:Sandi Klavžar
X-WR-TIMEZONE:Europe/Ljubljana
END:VEVENT
END:VCALENDAR
