BEGIN:VCALENDAR
VERSION:2.0
PRODID:-//AFLabs urnik izvoz - fmf//aflabs.si//SI
DTSTAMP:20260419T191225Z
NAME:UL FMF urnik
REFRESH-INTERVAL:PT1H
SOURCE:https://urnik.fmf.uni-lj.si/teacher/683?day=2023-01-02&export=1
URL:https://urnik.fmf.uni-lj.si/teacher/683?day=2023-01-02&export=1
X-PUBLISHED-TTL:PT1H
X-WR-CALNAME:UL FMF urnik
X-WR-TIMEZONE:Europe/Ljubljana
BEGIN:VTIMEZONE
TZID:Europe/Ljubljana
BEGIN:DAYLIGHT
DTSTART:20260329T020000
RDATE:20260329T020000
RDATE:20270328T020000
TZNAME:CEST
TZOFFSETFROM:+0100
TZOFFSETTO:+0200
END:DAYLIGHT
BEGIN:STANDARD
DTSTART:20261025T030000
RDATE:20261025T030000
RDATE:20271031T030000
TZNAME:CET
TZOFFSETFROM:+0200
TZOFFSETTO:+0100
END:STANDARD
END:VTIMEZONE
BEGIN:VEVENT
SUMMARY:Fotonika I (FIZ-M1)\, Vaje (V)
DTSTART;TZID=Europe/Ljubljana:20221003T080000
DTEND;TZID=Europe/Ljubljana:20221003T100000
DTSTAMP:20260419T191225Z
UID:fmf-AFLABS-URNIK:premaknjeno-srecanje:37783
ATTENDEE:1. letnik (Fizika, 2. stopnja)
CATEGORIES:Entry,Standard
COLOR:darkgreen
DESCRIPTION:Predmet: Fotonika I (FIZ-M1)\, Vaje (V)\nLetniki: 1. letnik (F
 izika\, 2. stopnja)\nIzvajalci: Igor Vaskivskyi\nProstor: P.01
LOCATION:P.01
ORGANIZER:Igor Vaskivskyi
RELATED-TO:fmf-AFLABS-URNIK:srecanje:7650
X-WR-TIMEZONE:Europe/Ljubljana
END:VEVENT
BEGIN:VEVENT
SUMMARY:Fotonika I (FIZ-M1)\, Vaje (V)
DTSTART;TZID=Europe/Ljubljana:20221010T080000
DTEND;TZID=Europe/Ljubljana:20221010T100000
DTSTAMP:20260419T191225Z
UID:fmf-AFLABS-URNIK:premaknjeno-srecanje:37784
ATTENDEE:1. letnik (Fizika, 2. stopnja)
CATEGORIES:Entry,Standard
COLOR:darkgreen
DESCRIPTION:Predmet: Fotonika I (FIZ-M1)\, Vaje (V)\nLetniki: 1. letnik (F
 izika\, 2. stopnja)\nIzvajalci: Igor Vaskivskyi\nProstor: P.01
LOCATION:P.01
ORGANIZER:Igor Vaskivskyi
RELATED-TO:fmf-AFLABS-URNIK:srecanje:7650
X-WR-TIMEZONE:Europe/Ljubljana
END:VEVENT
BEGIN:VEVENT
SUMMARY:Fotonika I (FIZ-M1)\, Vaje (V)
DTSTART;TZID=Europe/Ljubljana:20221017T080000
DTEND;TZID=Europe/Ljubljana:20221017T100000
DTSTAMP:20260419T191225Z
UID:fmf-AFLABS-URNIK:premaknjeno-srecanje:37785
ATTENDEE:1. letnik (Fizika, 2. stopnja)
CATEGORIES:Entry,Standard
COLOR:darkgreen
DESCRIPTION:Predmet: Fotonika I (FIZ-M1)\, Vaje (V)\nLetniki: 1. letnik (F
 izika\, 2. stopnja)\nIzvajalci: Igor Vaskivskyi\nProstor: P.01
LOCATION:P.01
ORGANIZER:Igor Vaskivskyi
RELATED-TO:fmf-AFLABS-URNIK:srecanje:7650
X-WR-TIMEZONE:Europe/Ljubljana
END:VEVENT
BEGIN:VEVENT
SUMMARY:Fotonika I (FIZ-M1)\, Vaje (V)
DTSTART;TZID=Europe/Ljubljana:20221024T080000
DTEND;TZID=Europe/Ljubljana:20221024T100000
DTSTAMP:20260419T191225Z
UID:fmf-AFLABS-URNIK:premaknjeno-srecanje:37786
ATTENDEE:1. letnik (Fizika, 2. stopnja)
CATEGORIES:Entry,Standard
COLOR:darkgreen
DESCRIPTION:Predmet: Fotonika I (FIZ-M1)\, Vaje (V)\nLetniki: 1. letnik (F
 izika\, 2. stopnja)\nIzvajalci: Igor Vaskivskyi\nProstor: P.01
LOCATION:P.01
ORGANIZER:Igor Vaskivskyi
RELATED-TO:fmf-AFLABS-URNIK:srecanje:7650
X-WR-TIMEZONE:Europe/Ljubljana
END:VEVENT
BEGIN:VEVENT
SUMMARY:Fotonika I (FIZ-M1)\, Vaje (V)
DTSTART;TZID=Europe/Ljubljana:20221031T080000
DTEND;TZID=Europe/Ljubljana:20221031T100000
DTSTAMP:20260419T191225Z
UID:fmf-AFLABS-URNIK:premaknjeno-srecanje:37787
ATTENDEE:1. letnik (Fizika, 2. stopnja)
CATEGORIES:Entry,Standard
COLOR:darkgreen
DESCRIPTION:Predmet: Fotonika I (FIZ-M1)\, Vaje (V)\nLetniki: 1. letnik (F
 izika\, 2. stopnja)\nIzvajalci: Igor Vaskivskyi\nProstor: P.01
LOCATION:P.01
ORGANIZER:Igor Vaskivskyi
RELATED-TO:fmf-AFLABS-URNIK:srecanje:7650
X-WR-TIMEZONE:Europe/Ljubljana
END:VEVENT
BEGIN:VEVENT
SUMMARY:Fotonika I (FIZ-M1)\, Vaje (V)
DTSTART;TZID=Europe/Ljubljana:20221107T080000
DTEND;TZID=Europe/Ljubljana:20221107T100000
DTSTAMP:20260419T191225Z
UID:fmf-AFLABS-URNIK:premaknjeno-srecanje:37788
ATTENDEE:1. letnik (Fizika, 2. stopnja)
CATEGORIES:Entry,Standard
COLOR:darkgreen
DESCRIPTION:Predmet: Fotonika I (FIZ-M1)\, Vaje (V)\nLetniki: 1. letnik (F
 izika\, 2. stopnja)\nIzvajalci: Igor Vaskivskyi\nProstor: P.01
LOCATION:P.01
ORGANIZER:Igor Vaskivskyi
RELATED-TO:fmf-AFLABS-URNIK:srecanje:7650
X-WR-TIMEZONE:Europe/Ljubljana
END:VEVENT
BEGIN:VEVENT
SUMMARY:Fotonika I (FIZ-M1)\, Vaje (V)
DTSTART;TZID=Europe/Ljubljana:20221114T080000
DTEND;TZID=Europe/Ljubljana:20221114T100000
DTSTAMP:20260419T191225Z
UID:fmf-AFLABS-URNIK:premaknjeno-srecanje:37789
ATTENDEE:1. letnik (Fizika, 2. stopnja)
CATEGORIES:Entry,Standard
COLOR:darkgreen
DESCRIPTION:Predmet: Fotonika I (FIZ-M1)\, Vaje (V)\nLetniki: 1. letnik (F
 izika\, 2. stopnja)\nIzvajalci: Igor Vaskivskyi\nProstor: P.01
LOCATION:P.01
ORGANIZER:Igor Vaskivskyi
RELATED-TO:fmf-AFLABS-URNIK:srecanje:7650
X-WR-TIMEZONE:Europe/Ljubljana
END:VEVENT
BEGIN:VEVENT
SUMMARY:Fotonika I (FIZ-M1)\, Vaje (V)
DTSTART;TZID=Europe/Ljubljana:20221121T080000
DTEND;TZID=Europe/Ljubljana:20221121T100000
DTSTAMP:20260419T191225Z
UID:fmf-AFLABS-URNIK:premaknjeno-srecanje:37790
ATTENDEE:1. letnik (Fizika, 2. stopnja)
CATEGORIES:Entry,Standard
COLOR:darkgreen
DESCRIPTION:Predmet: Fotonika I (FIZ-M1)\, Vaje (V)\nLetniki: 1. letnik (F
 izika\, 2. stopnja)\nIzvajalci: Igor Vaskivskyi\nProstor: P.01
LOCATION:P.01
ORGANIZER:Igor Vaskivskyi
RELATED-TO:fmf-AFLABS-URNIK:srecanje:7650
X-WR-TIMEZONE:Europe/Ljubljana
END:VEVENT
BEGIN:VEVENT
SUMMARY:Fotonika I (FIZ-M1)\, Vaje (V)
DTSTART;TZID=Europe/Ljubljana:20221128T080000
DTEND;TZID=Europe/Ljubljana:20221128T100000
DTSTAMP:20260419T191225Z
UID:fmf-AFLABS-URNIK:premaknjeno-srecanje:37791
ATTENDEE:1. letnik (Fizika, 2. stopnja)
CATEGORIES:Entry,Standard
COLOR:darkgreen
DESCRIPTION:Predmet: Fotonika I (FIZ-M1)\, Vaje (V)\nLetniki: 1. letnik (F
 izika\, 2. stopnja)\nIzvajalci: Igor Vaskivskyi\nProstor: P.01
LOCATION:P.01
ORGANIZER:Igor Vaskivskyi
RELATED-TO:fmf-AFLABS-URNIK:srecanje:7650
X-WR-TIMEZONE:Europe/Ljubljana
END:VEVENT
BEGIN:VEVENT
SUMMARY:Fotonika I (FIZ-M1)\, Vaje (V)
DTSTART;TZID=Europe/Ljubljana:20221205T080000
DTEND;TZID=Europe/Ljubljana:20221205T100000
DTSTAMP:20260419T191225Z
UID:fmf-AFLABS-URNIK:premaknjeno-srecanje:37792
ATTENDEE:1. letnik (Fizika, 2. stopnja)
CATEGORIES:Entry,Standard
COLOR:darkgreen
DESCRIPTION:Predmet: Fotonika I (FIZ-M1)\, Vaje (V)\nLetniki: 1. letnik (F
 izika\, 2. stopnja)\nIzvajalci: Igor Vaskivskyi\nProstor: P.01
LOCATION:P.01
ORGANIZER:Igor Vaskivskyi
RELATED-TO:fmf-AFLABS-URNIK:srecanje:7650
X-WR-TIMEZONE:Europe/Ljubljana
END:VEVENT
BEGIN:VEVENT
SUMMARY:Fotonika I (FIZ-M1)\, Vaje (V)
DTSTART;TZID=Europe/Ljubljana:20221212T080000
DTEND;TZID=Europe/Ljubljana:20221212T100000
DTSTAMP:20260419T191225Z
UID:fmf-AFLABS-URNIK:premaknjeno-srecanje:37793
ATTENDEE:1. letnik (Fizika, 2. stopnja)
CATEGORIES:Entry,Standard
COLOR:darkgreen
DESCRIPTION:Predmet: Fotonika I (FIZ-M1)\, Vaje (V)\nLetniki: 1. letnik (F
 izika\, 2. stopnja)\nIzvajalci: Igor Vaskivskyi\nProstor: P.01
LOCATION:P.01
ORGANIZER:Igor Vaskivskyi
RELATED-TO:fmf-AFLABS-URNIK:srecanje:7650
X-WR-TIMEZONE:Europe/Ljubljana
END:VEVENT
BEGIN:VEVENT
SUMMARY:Fotonika I (FIZ-M1)\, Vaje (V)
DTSTART;TZID=Europe/Ljubljana:20221219T080000
DTEND;TZID=Europe/Ljubljana:20221219T100000
DTSTAMP:20260419T191225Z
UID:fmf-AFLABS-URNIK:premaknjeno-srecanje:37794
ATTENDEE:1. letnik (Fizika, 2. stopnja)
CATEGORIES:Entry,Standard
COLOR:darkgreen
DESCRIPTION:Predmet: Fotonika I (FIZ-M1)\, Vaje (V)\nLetniki: 1. letnik (F
 izika\, 2. stopnja)\nIzvajalci: Igor Vaskivskyi\nProstor: P.01
LOCATION:P.01
ORGANIZER:Igor Vaskivskyi
RELATED-TO:fmf-AFLABS-URNIK:srecanje:7650
X-WR-TIMEZONE:Europe/Ljubljana
END:VEVENT
BEGIN:VEVENT
SUMMARY:Fotonika I (FIZ-M1)\, Vaje (V)
DTSTART;TZID=Europe/Ljubljana:20221226T080000
DTEND;TZID=Europe/Ljubljana:20221226T100000
DTSTAMP:20260419T191225Z
UID:fmf-AFLABS-URNIK:premaknjeno-srecanje:37795
ATTENDEE:1. letnik (Fizika, 2. stopnja)
CATEGORIES:Entry,Standard
COLOR:darkgreen
DESCRIPTION:Predmet: Fotonika I (FIZ-M1)\, Vaje (V)\nLetniki: 1. letnik (F
 izika\, 2. stopnja)\nIzvajalci: Igor Vaskivskyi\nProstor: P.01
LOCATION:P.01
ORGANIZER:Igor Vaskivskyi
RELATED-TO:fmf-AFLABS-URNIK:srecanje:7650
X-WR-TIMEZONE:Europe/Ljubljana
END:VEVENT
BEGIN:VEVENT
SUMMARY:Fotonika I (FIZ-M1)\, Vaje (V)
DTSTART;TZID=Europe/Ljubljana:20230102T080000
DTEND;TZID=Europe/Ljubljana:20230102T100000
DTSTAMP:20260419T191225Z
UID:fmf-AFLABS-URNIK:premaknjeno-srecanje:37796
ATTENDEE:1. letnik (Fizika, 2. stopnja)
CATEGORIES:Entry,Standard
COLOR:darkgreen
DESCRIPTION:Predmet: Fotonika I (FIZ-M1)\, Vaje (V)\nLetniki: 1. letnik (F
 izika\, 2. stopnja)\nIzvajalci: Igor Vaskivskyi\nProstor: P.01
LOCATION:P.01
ORGANIZER:Igor Vaskivskyi
RELATED-TO:fmf-AFLABS-URNIK:srecanje:7650
X-WR-TIMEZONE:Europe/Ljubljana
END:VEVENT
BEGIN:VEVENT
SUMMARY:Fotonika I (FIZ-M1)\, Vaje (V)
DTSTART;TZID=Europe/Ljubljana:20230109T080000
DTEND;TZID=Europe/Ljubljana:20230109T100000
DTSTAMP:20260419T191225Z
UID:fmf-AFLABS-URNIK:premaknjeno-srecanje:37797
ATTENDEE:1. letnik (Fizika, 2. stopnja)
CATEGORIES:Entry,Standard
COLOR:darkgreen
DESCRIPTION:Predmet: Fotonika I (FIZ-M1)\, Vaje (V)\nLetniki: 1. letnik (F
 izika\, 2. stopnja)\nIzvajalci: Igor Vaskivskyi\nProstor: P.01
LOCATION:P.01
ORGANIZER:Igor Vaskivskyi
RELATED-TO:fmf-AFLABS-URNIK:srecanje:7650
X-WR-TIMEZONE:Europe/Ljubljana
END:VEVENT
BEGIN:VEVENT
SUMMARY:Fotonika I (FIZ-M1)\, Vaje (V)
DTSTART;TZID=Europe/Ljubljana:20230116T080000
DTEND;TZID=Europe/Ljubljana:20230116T100000
DTSTAMP:20260419T191225Z
UID:fmf-AFLABS-URNIK:premaknjeno-srecanje:37798
ATTENDEE:1. letnik (Fizika, 2. stopnja)
CATEGORIES:Entry,Standard
COLOR:darkgreen
DESCRIPTION:Predmet: Fotonika I (FIZ-M1)\, Vaje (V)\nLetniki: 1. letnik (F
 izika\, 2. stopnja)\nIzvajalci: Igor Vaskivskyi\nProstor: P.01
LOCATION:P.01
ORGANIZER:Igor Vaskivskyi
RELATED-TO:fmf-AFLABS-URNIK:srecanje:7650
X-WR-TIMEZONE:Europe/Ljubljana
END:VEVENT
BEGIN:VEVENT
SUMMARY:Fizikalni praktikum III (FIZ-2)\, Laboratorijske vaje (L)\, [6]
DTSTART;TZID=Europe/Ljubljana:20221007T110000
DTEND;TZID=Europe/Ljubljana:20221007T140000
DTSTAMP:20260419T191225Z
UID:fmf-AFLABS-URNIK:premaknjeno-srecanje:36174
ATTENDEE:2. letnik (Fizika, 1. stopnja)
CATEGORIES:Entry,Standard
COLOR:darkgreen
DESCRIPTION:Predmet: Fizikalni praktikum III (FIZ-2)\, Laboratorijske vaje
  (L)\, [6]\nLetniki: 2. letnik (Fizika\, 1. stopnja)\nIzvajalci: Igor Vask
 ivskyi\nProstor: Praktikum 2
LOCATION:Praktikum 2
ORGANIZER:Igor Vaskivskyi
RELATED-TO:fmf-AFLABS-URNIK:srecanje:7641
X-WR-TIMEZONE:Europe/Ljubljana
END:VEVENT
BEGIN:VEVENT
SUMMARY:Fizikalni praktikum III (FIZ-2)\, Laboratorijske vaje (L)\, [6]
DTSTART;TZID=Europe/Ljubljana:20221014T110000
DTEND;TZID=Europe/Ljubljana:20221014T140000
DTSTAMP:20260419T191225Z
UID:fmf-AFLABS-URNIK:premaknjeno-srecanje:36175
ATTENDEE:2. letnik (Fizika, 1. stopnja)
CATEGORIES:Entry,Standard
COLOR:darkgreen
DESCRIPTION:Predmet: Fizikalni praktikum III (FIZ-2)\, Laboratorijske vaje
  (L)\, [6]\nLetniki: 2. letnik (Fizika\, 1. stopnja)\nIzvajalci: Igor Vask
 ivskyi\nProstor: Praktikum 2
LOCATION:Praktikum 2
ORGANIZER:Igor Vaskivskyi
RELATED-TO:fmf-AFLABS-URNIK:srecanje:7641
X-WR-TIMEZONE:Europe/Ljubljana
END:VEVENT
BEGIN:VEVENT
SUMMARY:Fizikalni praktikum III (FIZ-2)\, Laboratorijske vaje (L)\, [6]
DTSTART;TZID=Europe/Ljubljana:20221021T110000
DTEND;TZID=Europe/Ljubljana:20221021T140000
DTSTAMP:20260419T191225Z
UID:fmf-AFLABS-URNIK:premaknjeno-srecanje:36176
ATTENDEE:2. letnik (Fizika, 1. stopnja)
CATEGORIES:Entry,Standard
COLOR:darkgreen
DESCRIPTION:Predmet: Fizikalni praktikum III (FIZ-2)\, Laboratorijske vaje
  (L)\, [6]\nLetniki: 2. letnik (Fizika\, 1. stopnja)\nIzvajalci: Igor Vask
 ivskyi\nProstor: Praktikum 2
LOCATION:Praktikum 2
ORGANIZER:Igor Vaskivskyi
RELATED-TO:fmf-AFLABS-URNIK:srecanje:7641
X-WR-TIMEZONE:Europe/Ljubljana
END:VEVENT
BEGIN:VEVENT
SUMMARY:Fizikalni praktikum III (FIZ-2)\, Laboratorijske vaje (L)\, [6]
DTSTART;TZID=Europe/Ljubljana:20221028T110000
DTEND;TZID=Europe/Ljubljana:20221028T140000
DTSTAMP:20260419T191225Z
UID:fmf-AFLABS-URNIK:premaknjeno-srecanje:36177
ATTENDEE:2. letnik (Fizika, 1. stopnja)
CATEGORIES:Entry,Standard
COLOR:darkgreen
DESCRIPTION:Predmet: Fizikalni praktikum III (FIZ-2)\, Laboratorijske vaje
  (L)\, [6]\nLetniki: 2. letnik (Fizika\, 1. stopnja)\nIzvajalci: Igor Vask
 ivskyi\nProstor: Praktikum 2
LOCATION:Praktikum 2
ORGANIZER:Igor Vaskivskyi
RELATED-TO:fmf-AFLABS-URNIK:srecanje:7641
X-WR-TIMEZONE:Europe/Ljubljana
END:VEVENT
BEGIN:VEVENT
SUMMARY:Fizikalni praktikum III (FIZ-2)\, Laboratorijske vaje (L)\, [6]
DTSTART;TZID=Europe/Ljubljana:20221104T110000
DTEND;TZID=Europe/Ljubljana:20221104T140000
DTSTAMP:20260419T191225Z
UID:fmf-AFLABS-URNIK:premaknjeno-srecanje:36178
ATTENDEE:2. letnik (Fizika, 1. stopnja)
CATEGORIES:Entry,Standard
COLOR:darkgreen
DESCRIPTION:Predmet: Fizikalni praktikum III (FIZ-2)\, Laboratorijske vaje
  (L)\, [6]\nLetniki: 2. letnik (Fizika\, 1. stopnja)\nIzvajalci: Igor Vask
 ivskyi\nProstor: Praktikum 2
LOCATION:Praktikum 2
ORGANIZER:Igor Vaskivskyi
RELATED-TO:fmf-AFLABS-URNIK:srecanje:7641
X-WR-TIMEZONE:Europe/Ljubljana
END:VEVENT
BEGIN:VEVENT
SUMMARY:Fizikalni praktikum III (FIZ-2)\, Laboratorijske vaje (L)\, [6]
DTSTART;TZID=Europe/Ljubljana:20221111T110000
DTEND;TZID=Europe/Ljubljana:20221111T140000
DTSTAMP:20260419T191225Z
UID:fmf-AFLABS-URNIK:premaknjeno-srecanje:36179
ATTENDEE:2. letnik (Fizika, 1. stopnja)
CATEGORIES:Entry,Standard
COLOR:darkgreen
DESCRIPTION:Predmet: Fizikalni praktikum III (FIZ-2)\, Laboratorijske vaje
  (L)\, [6]\nLetniki: 2. letnik (Fizika\, 1. stopnja)\nIzvajalci: Igor Vask
 ivskyi\nProstor: Praktikum 2
LOCATION:Praktikum 2
ORGANIZER:Igor Vaskivskyi
RELATED-TO:fmf-AFLABS-URNIK:srecanje:7641
X-WR-TIMEZONE:Europe/Ljubljana
END:VEVENT
BEGIN:VEVENT
SUMMARY:Fizikalni praktikum III (FIZ-2)\, Laboratorijske vaje (L)\, [6]
DTSTART;TZID=Europe/Ljubljana:20221118T110000
DTEND;TZID=Europe/Ljubljana:20221118T140000
DTSTAMP:20260419T191225Z
UID:fmf-AFLABS-URNIK:premaknjeno-srecanje:36180
ATTENDEE:2. letnik (Fizika, 1. stopnja)
CATEGORIES:Entry,Standard
COLOR:darkgreen
DESCRIPTION:Predmet: Fizikalni praktikum III (FIZ-2)\, Laboratorijske vaje
  (L)\, [6]\nLetniki: 2. letnik (Fizika\, 1. stopnja)\nIzvajalci: Igor Vask
 ivskyi\nProstor: Praktikum 2
LOCATION:Praktikum 2
ORGANIZER:Igor Vaskivskyi
RELATED-TO:fmf-AFLABS-URNIK:srecanje:7641
X-WR-TIMEZONE:Europe/Ljubljana
END:VEVENT
BEGIN:VEVENT
SUMMARY:Fizikalni praktikum III (FIZ-2)\, Laboratorijske vaje (L)\, [6]
DTSTART;TZID=Europe/Ljubljana:20221125T110000
DTEND;TZID=Europe/Ljubljana:20221125T140000
DTSTAMP:20260419T191225Z
UID:fmf-AFLABS-URNIK:premaknjeno-srecanje:36181
ATTENDEE:2. letnik (Fizika, 1. stopnja)
CATEGORIES:Entry,Standard
COLOR:darkgreen
DESCRIPTION:Predmet: Fizikalni praktikum III (FIZ-2)\, Laboratorijske vaje
  (L)\, [6]\nLetniki: 2. letnik (Fizika\, 1. stopnja)\nIzvajalci: Igor Vask
 ivskyi\nProstor: Praktikum 2
LOCATION:Praktikum 2
ORGANIZER:Igor Vaskivskyi
RELATED-TO:fmf-AFLABS-URNIK:srecanje:7641
X-WR-TIMEZONE:Europe/Ljubljana
END:VEVENT
BEGIN:VEVENT
SUMMARY:Fizikalni praktikum III (FIZ-2)\, Laboratorijske vaje (L)\, [6]
DTSTART;TZID=Europe/Ljubljana:20221202T110000
DTEND;TZID=Europe/Ljubljana:20221202T140000
DTSTAMP:20260419T191225Z
UID:fmf-AFLABS-URNIK:premaknjeno-srecanje:36182
ATTENDEE:2. letnik (Fizika, 1. stopnja)
CATEGORIES:Entry,Standard
COLOR:darkgreen
DESCRIPTION:Predmet: Fizikalni praktikum III (FIZ-2)\, Laboratorijske vaje
  (L)\, [6]\nLetniki: 2. letnik (Fizika\, 1. stopnja)\nIzvajalci: Igor Vask
 ivskyi\nProstor: Praktikum 2
LOCATION:Praktikum 2
ORGANIZER:Igor Vaskivskyi
RELATED-TO:fmf-AFLABS-URNIK:srecanje:7641
X-WR-TIMEZONE:Europe/Ljubljana
END:VEVENT
BEGIN:VEVENT
SUMMARY:Fizikalni praktikum III (FIZ-2)\, Laboratorijske vaje (L)\, [6]
DTSTART;TZID=Europe/Ljubljana:20221209T110000
DTEND;TZID=Europe/Ljubljana:20221209T140000
DTSTAMP:20260419T191225Z
UID:fmf-AFLABS-URNIK:premaknjeno-srecanje:36183
ATTENDEE:2. letnik (Fizika, 1. stopnja)
CATEGORIES:Entry,Standard
COLOR:darkgreen
DESCRIPTION:Predmet: Fizikalni praktikum III (FIZ-2)\, Laboratorijske vaje
  (L)\, [6]\nLetniki: 2. letnik (Fizika\, 1. stopnja)\nIzvajalci: Igor Vask
 ivskyi\nProstor: Praktikum 2
LOCATION:Praktikum 2
ORGANIZER:Igor Vaskivskyi
RELATED-TO:fmf-AFLABS-URNIK:srecanje:7641
X-WR-TIMEZONE:Europe/Ljubljana
END:VEVENT
BEGIN:VEVENT
SUMMARY:Fizikalni praktikum III (FIZ-2)\, Laboratorijske vaje (L)\, [6]
DTSTART;TZID=Europe/Ljubljana:20221216T110000
DTEND;TZID=Europe/Ljubljana:20221216T140000
DTSTAMP:20260419T191225Z
UID:fmf-AFLABS-URNIK:premaknjeno-srecanje:36184
ATTENDEE:2. letnik (Fizika, 1. stopnja)
CATEGORIES:Entry,Standard
COLOR:darkgreen
DESCRIPTION:Predmet: Fizikalni praktikum III (FIZ-2)\, Laboratorijske vaje
  (L)\, [6]\nLetniki: 2. letnik (Fizika\, 1. stopnja)\nIzvajalci: Igor Vask
 ivskyi\nProstor: Praktikum 2
LOCATION:Praktikum 2
ORGANIZER:Igor Vaskivskyi
RELATED-TO:fmf-AFLABS-URNIK:srecanje:7641
X-WR-TIMEZONE:Europe/Ljubljana
END:VEVENT
BEGIN:VEVENT
SUMMARY:Fizikalni praktikum III (FIZ-2)\, Laboratorijske vaje (L)\, [6]
DTSTART;TZID=Europe/Ljubljana:20221223T110000
DTEND;TZID=Europe/Ljubljana:20221223T140000
DTSTAMP:20260419T191225Z
UID:fmf-AFLABS-URNIK:premaknjeno-srecanje:36185
ATTENDEE:2. letnik (Fizika, 1. stopnja)
CATEGORIES:Entry,Standard
COLOR:darkgreen
DESCRIPTION:Predmet: Fizikalni praktikum III (FIZ-2)\, Laboratorijske vaje
  (L)\, [6]\nLetniki: 2. letnik (Fizika\, 1. stopnja)\nIzvajalci: Igor Vask
 ivskyi\nProstor: Praktikum 2
LOCATION:Praktikum 2
ORGANIZER:Igor Vaskivskyi
RELATED-TO:fmf-AFLABS-URNIK:srecanje:7641
X-WR-TIMEZONE:Europe/Ljubljana
END:VEVENT
BEGIN:VEVENT
SUMMARY:Fizikalni praktikum III (FIZ-2)\, Laboratorijske vaje (L)\, [6]
DTSTART;TZID=Europe/Ljubljana:20221230T110000
DTEND;TZID=Europe/Ljubljana:20221230T140000
DTSTAMP:20260419T191225Z
UID:fmf-AFLABS-URNIK:premaknjeno-srecanje:36186
ATTENDEE:2. letnik (Fizika, 1. stopnja)
CATEGORIES:Entry,Standard
COLOR:darkgreen
DESCRIPTION:Predmet: Fizikalni praktikum III (FIZ-2)\, Laboratorijske vaje
  (L)\, [6]\nLetniki: 2. letnik (Fizika\, 1. stopnja)\nIzvajalci: Igor Vask
 ivskyi\nProstor: Praktikum 2
LOCATION:Praktikum 2
ORGANIZER:Igor Vaskivskyi
RELATED-TO:fmf-AFLABS-URNIK:srecanje:7641
X-WR-TIMEZONE:Europe/Ljubljana
END:VEVENT
BEGIN:VEVENT
SUMMARY:Fizikalni praktikum III (FIZ-2)\, Laboratorijske vaje (L)\, [6]
DTSTART;TZID=Europe/Ljubljana:20230106T110000
DTEND;TZID=Europe/Ljubljana:20230106T140000
DTSTAMP:20260419T191225Z
UID:fmf-AFLABS-URNIK:premaknjeno-srecanje:36187
ATTENDEE:2. letnik (Fizika, 1. stopnja)
CATEGORIES:Entry,Standard
COLOR:darkgreen
DESCRIPTION:Predmet: Fizikalni praktikum III (FIZ-2)\, Laboratorijske vaje
  (L)\, [6]\nLetniki: 2. letnik (Fizika\, 1. stopnja)\nIzvajalci: Igor Vask
 ivskyi\nProstor: Praktikum 2
LOCATION:Praktikum 2
ORGANIZER:Igor Vaskivskyi
RELATED-TO:fmf-AFLABS-URNIK:srecanje:7641
X-WR-TIMEZONE:Europe/Ljubljana
END:VEVENT
BEGIN:VEVENT
SUMMARY:Fizikalni praktikum III (FIZ-2)\, Laboratorijske vaje (L)\, [6]
DTSTART;TZID=Europe/Ljubljana:20230113T110000
DTEND;TZID=Europe/Ljubljana:20230113T140000
DTSTAMP:20260419T191225Z
UID:fmf-AFLABS-URNIK:premaknjeno-srecanje:36188
ATTENDEE:2. letnik (Fizika, 1. stopnja)
CATEGORIES:Entry,Standard
COLOR:darkgreen
DESCRIPTION:Predmet: Fizikalni praktikum III (FIZ-2)\, Laboratorijske vaje
  (L)\, [6]\nLetniki: 2. letnik (Fizika\, 1. stopnja)\nIzvajalci: Igor Vask
 ivskyi\nProstor: Praktikum 2
LOCATION:Praktikum 2
ORGANIZER:Igor Vaskivskyi
RELATED-TO:fmf-AFLABS-URNIK:srecanje:7641
X-WR-TIMEZONE:Europe/Ljubljana
END:VEVENT
END:VCALENDAR
