BEGIN:VCALENDAR
VERSION:2.0
PRODID:-//AFLabs urnik izvoz - fmf//aflabs.si//SI
DTSTAMP:20260425T171622Z
NAME:UL FMF urnik
REFRESH-INTERVAL:PT1H
SOURCE:https://urnik.fmf.uni-lj.si/teacher/68?day=2019-06-24&export=1
URL:https://urnik.fmf.uni-lj.si/teacher/68?day=2019-06-24&export=1
X-PUBLISHED-TTL:PT1H
X-WR-CALNAME:UL FMF urnik
X-WR-TIMEZONE:Europe/Ljubljana
BEGIN:VTIMEZONE
TZID:Europe/Ljubljana
BEGIN:DAYLIGHT
DTSTART:20260329T020000
RDATE:20260329T020000
RDATE:20270328T020000
TZNAME:CEST
TZOFFSETFROM:+0100
TZOFFSETTO:+0200
END:DAYLIGHT
BEGIN:STANDARD
DTSTART:20261025T030000
RDATE:20261025T030000
RDATE:20271031T030000
TZNAME:CET
TZOFFSETFROM:+0200
TZOFFSETTO:+0100
END:STANDARD
END:VTIMEZONE
BEGIN:VEVENT
SUMMARY:Analiza 2 (FM-1)\, Vaje (V)\, [1]
DTSTART;TZID=Europe/Ljubljana:20190521T140000
DTEND;TZID=Europe/Ljubljana:20190521T160000
DTSTAMP:20260425T171622Z
UID:fmf-AFLABS-URNIK:premaknjeno-srecanje:6864
ATTENDEE:1. letnik (FM)
CATEGORIES:Entry,Standard
COLOR:darkgreen
DESCRIPTION:Predmet: Analiza 2 (FM-1)\, Vaje (V)\, [1]\nLetniki: 1. letnik
  (FM)\nIzvajalci: Marko Kandić\nProstor: 2.01
LOCATION:2.01
ORGANIZER:Marko Kandić
RELATED-TO:fmf-AFLABS-URNIK:srecanje:2529
X-WR-TIMEZONE:Europe/Ljubljana
END:VEVENT
BEGIN:VEVENT
SUMMARY:Analiza 2 (FM-1)\, Vaje (V)\, [1]
DTSTART;TZID=Europe/Ljubljana:20190528T140000
DTEND;TZID=Europe/Ljubljana:20190528T160000
DTSTAMP:20260425T171622Z
UID:fmf-AFLABS-URNIK:premaknjeno-srecanje:6865
ATTENDEE:1. letnik (FM)
CATEGORIES:Entry,Standard
COLOR:darkgreen
DESCRIPTION:Predmet: Analiza 2 (FM-1)\, Vaje (V)\, [1]\nLetniki: 1. letnik
  (FM)\nIzvajalci: Marko Kandić\nProstor: 2.01
LOCATION:2.01
ORGANIZER:Marko Kandić
RELATED-TO:fmf-AFLABS-URNIK:srecanje:2529
X-WR-TIMEZONE:Europe/Ljubljana
END:VEVENT
BEGIN:VEVENT
SUMMARY:Proseminar (FM-1)\, Vaje (V)
DTSTART;TZID=Europe/Ljubljana:20190521T110000
DTEND;TZID=Europe/Ljubljana:20190521T120000
DTSTAMP:20260425T171622Z
UID:fmf-AFLABS-URNIK:premaknjeno-srecanje:88271
ATTENDEE:1. letnik (FM)
CATEGORIES:Entry,Standard
COLOR:darkgreen
DESCRIPTION:Predmet: Proseminar (FM-1)\, Vaje (V)\nLetniki: 1. letnik (FM)
 \nIzvajalci: Marko Kandić\nProstor: 2.01
LOCATION:2.01
ORGANIZER:Marko Kandić
RELATED-TO:fmf-AFLABS-URNIK:srecanje:2907
X-WR-TIMEZONE:Europe/Ljubljana
END:VEVENT
BEGIN:VEVENT
SUMMARY:Proseminar (FM-1)\, Vaje (V)
DTSTART;TZID=Europe/Ljubljana:20190528T110000
DTEND;TZID=Europe/Ljubljana:20190528T120000
DTSTAMP:20260425T171622Z
UID:fmf-AFLABS-URNIK:premaknjeno-srecanje:88272
ATTENDEE:1. letnik (FM)
CATEGORIES:Entry,Standard
COLOR:darkgreen
DESCRIPTION:Predmet: Proseminar (FM-1)\, Vaje (V)\nLetniki: 1. letnik (FM)
 \nIzvajalci: Marko Kandić\nProstor: 2.01
LOCATION:2.01
ORGANIZER:Marko Kandić
RELATED-TO:fmf-AFLABS-URNIK:srecanje:2907
X-WR-TIMEZONE:Europe/Ljubljana
END:VEVENT
BEGIN:VEVENT
SUMMARY:Analiza 2 (FM-1)\, Vaje (V)\, [1]
DTSTART;TZID=Europe/Ljubljana:20190522T080000
DTEND;TZID=Europe/Ljubljana:20190522T100000
DTSTAMP:20260425T171622Z
UID:fmf-AFLABS-URNIK:premaknjeno-srecanje:6895
ATTENDEE:1. letnik (FM)
CATEGORIES:Entry,Standard
COLOR:darkgreen
DESCRIPTION:Predmet: Analiza 2 (FM-1)\, Vaje (V)\, [1]\nLetniki: 1. letnik
  (FM)\nIzvajalci: Marko Kandić\nProstor: P.02
LOCATION:P.02
ORGANIZER:Marko Kandić
RELATED-TO:fmf-AFLABS-URNIK:srecanje:2530
X-WR-TIMEZONE:Europe/Ljubljana
END:VEVENT
BEGIN:VEVENT
SUMMARY:Analiza 2 (FM-1)\, Vaje (V)\, [1]
DTSTART;TZID=Europe/Ljubljana:20190529T080000
DTEND;TZID=Europe/Ljubljana:20190529T100000
DTSTAMP:20260425T171622Z
UID:fmf-AFLABS-URNIK:premaknjeno-srecanje:6896
ATTENDEE:1. letnik (FM)
CATEGORIES:Entry,Standard
COLOR:darkgreen
DESCRIPTION:Predmet: Analiza 2 (FM-1)\, Vaje (V)\, [1]\nLetniki: 1. letnik
  (FM)\nIzvajalci: Marko Kandić\nProstor: P.02
LOCATION:P.02
ORGANIZER:Marko Kandić
RELATED-TO:fmf-AFLABS-URNIK:srecanje:2530
X-WR-TIMEZONE:Europe/Ljubljana
END:VEVENT
BEGIN:VEVENT
SUMMARY:RG ()\, Ostalo (O)
DTSTART;TZID=Europe/Ljubljana:20190524T120000
DTEND;TZID=Europe/Ljubljana:20190524T140000
DTSTAMP:20260425T171622Z
UID:fmf-AFLABS-URNIK:premaknjeno-srecanje:90606
CATEGORIES:Entry,Standard
COLOR:darkgreen
DESCRIPTION:Predmet: RG ()\, Ostalo (O)\nLetniki: \nIzvajalci: Marko Kandi
 ć\, Aleš Vavpetič\nProstor: None
ORGANIZER:Marko Kandić, Aleš Vavpetič
RELATED-TO:fmf-AFLABS-URNIK:srecanje:3211
X-WR-TIMEZONE:Europe/Ljubljana
END:VEVENT
BEGIN:VEVENT
SUMMARY:RG ()\, Ostalo (O)
DTSTART;TZID=Europe/Ljubljana:20190531T120000
DTEND;TZID=Europe/Ljubljana:20190531T140000
DTSTAMP:20260425T171622Z
UID:fmf-AFLABS-URNIK:premaknjeno-srecanje:90607
CATEGORIES:Entry,Standard
COLOR:darkgreen
DESCRIPTION:Predmet: RG ()\, Ostalo (O)\nLetniki: \nIzvajalci: Marko Kandi
 ć\, Aleš Vavpetič\nProstor: None
ORGANIZER:Marko Kandić, Aleš Vavpetič
RELATED-TO:fmf-AFLABS-URNIK:srecanje:3211
X-WR-TIMEZONE:Europe/Ljubljana
END:VEVENT
BEGIN:VEVENT
SUMMARY:Rezervacija
DTSTART;TZID=Europe/Ljubljana:20190604T100000
DTEND;TZID=Europe/Ljubljana:20190604T120000
DTSTAMP:20260425T171622Z
UID:fmf-AFLABS-URNIK:rezervacija:3364
CATEGORIES:Reservation
COLOR:royalblue
DESCRIPTION:Predmeti: \nLetniki: \nIzvajalci: Blaž Jelenc\, Marko Kandić
 \nProstori: 2.01\, 2.05
LOCATION:2.01\, 2.05
ORGANIZER:Blaž Jelenc, Marko Kandić
X-WR-TIMEZONE:Europe/Ljubljana
END:VEVENT
BEGIN:VEVENT
SUMMARY:Rezervacija
DTSTART;TZID=Europe/Ljubljana:20190605T160000
DTEND;TZID=Europe/Ljubljana:20190605T180000
DTSTAMP:20260425T171622Z
UID:fmf-AFLABS-URNIK:rezervacija:3394
CATEGORIES:Reservation
COLOR:royalblue
DESCRIPTION:Predmeti: \nLetniki: \nIzvajalci: Blaž Jelenc\, Marko Kandić
 \nProstori: 2.01\, 2.05
LOCATION:2.01\, 2.05
ORGANIZER:Blaž Jelenc, Marko Kandić
X-WR-TIMEZONE:Europe/Ljubljana
END:VEVENT
BEGIN:VEVENT
SUMMARY:Rezervacija
DTSTART;TZID=Europe/Ljubljana:20190613T120000
DTEND;TZID=Europe/Ljubljana:20190613T150000
DTSTAMP:20260425T171622Z
UID:fmf-AFLABS-URNIK:rezervacija:3496
CATEGORIES:Reservation
COLOR:royalblue
DESCRIPTION:Predmeti: \nLetniki: \nIzvajalci: Marko Kandić\nProstori: 2.0
 5
LOCATION:2.05
ORGANIZER:Marko Kandić
X-WR-TIMEZONE:Europe/Ljubljana
END:VEVENT
BEGIN:VEVENT
SUMMARY:Rezervacija
DTSTART;TZID=Europe/Ljubljana:20190614T100000
DTEND;TZID=Europe/Ljubljana:20190614T140000
DTSTAMP:20260425T171622Z
UID:fmf-AFLABS-URNIK:rezervacija:3519
CATEGORIES:Reservation
COLOR:royalblue
DESCRIPTION:Predmeti: \nLetniki: \nIzvajalci: Marko Kandić\nProstori: 2.0
 4
LOCATION:2.04
ORGANIZER:Marko Kandić
X-WR-TIMEZONE:Europe/Ljubljana
END:VEVENT
BEGIN:VEVENT
SUMMARY:Rezervacija
DTSTART;TZID=Europe/Ljubljana:20190617T080000
DTEND;TZID=Europe/Ljubljana:20190617T100000
DTSTAMP:20260425T171622Z
UID:fmf-AFLABS-URNIK:rezervacija:3531
CATEGORIES:Reservation
COLOR:royalblue
DESCRIPTION:Predmeti: \nLetniki: \nIzvajalci: Blaž Jelenc\, Marko Kandić
 \nProstori: 2.01\, 2.05
LOCATION:2.01\, 2.05
ORGANIZER:Blaž Jelenc, Marko Kandić
X-WR-TIMEZONE:Europe/Ljubljana
END:VEVENT
BEGIN:VEVENT
SUMMARY:Rezervacija
DTSTART;TZID=Europe/Ljubljana:20190627T100000
DTEND;TZID=Europe/Ljubljana:20190627T120000
DTSTAMP:20260425T171622Z
UID:fmf-AFLABS-URNIK:rezervacija:3746
CATEGORIES:Reservation
COLOR:royalblue
DESCRIPTION:Predmeti: \nLetniki: \nIzvajalci: Marko Kandić\nProstori: 2.0
 1
LOCATION:2.01
ORGANIZER:Marko Kandić
X-WR-TIMEZONE:Europe/Ljubljana
END:VEVENT
BEGIN:VEVENT
SUMMARY:Rezervacija
DTSTART;TZID=Europe/Ljubljana:20190627T130000
DTEND;TZID=Europe/Ljubljana:20190627T140000
DTSTAMP:20260425T171622Z
UID:fmf-AFLABS-URNIK:rezervacija:3756
CATEGORIES:Reservation
COLOR:royalblue
DESCRIPTION:Predmeti: \nLetniki: \nIzvajalci: Marko Kandić\nProstori: 2.0
 1
LOCATION:2.01
ORGANIZER:Marko Kandić
X-WR-TIMEZONE:Europe/Ljubljana
END:VEVENT
END:VCALENDAR
