BEGIN:VCALENDAR
VERSION:2.0
PRODID:-//AFLabs urnik izvoz - fmf//aflabs.si//SI
DTSTAMP:20260421T015405Z
NAME:UL FMF urnik
REFRESH-INTERVAL:PT1H
SOURCE:https://urnik.fmf.uni-lj.si/teacher/68?day=2021-02-01&export=1
URL:https://urnik.fmf.uni-lj.si/teacher/68?day=2021-02-01&export=1
X-PUBLISHED-TTL:PT1H
X-WR-CALNAME:UL FMF urnik
X-WR-TIMEZONE:Europe/Ljubljana
BEGIN:VTIMEZONE
TZID:Europe/Ljubljana
BEGIN:DAYLIGHT
DTSTART:20260329T020000
RDATE:20260329T020000
RDATE:20270328T020000
TZNAME:CEST
TZOFFSETFROM:+0100
TZOFFSETTO:+0200
END:DAYLIGHT
BEGIN:STANDARD
DTSTART:20261025T030000
RDATE:20261025T030000
RDATE:20271031T030000
TZNAME:CET
TZOFFSETFROM:+0200
TZOFFSETTO:+0100
END:STANDARD
END:VTIMEZONE
BEGIN:VEVENT
SUMMARY:Analiza 1 (FM-1)\, Vaje (V)\, [1]
DTSTART;TZID=Europe/Ljubljana:20201228T100000
DTEND;TZID=Europe/Ljubljana:20201228T120000
DTSTAMP:20260421T015405Z
UID:fmf-AFLABS-URNIK:premaknjeno-srecanje:5106
ATTENDEE:1. letnik (FM)
CATEGORIES:Entry,Standard
COLOR:darkgreen
DESCRIPTION:Predmet: Analiza 1 (FM-1)\, Vaje (V)\, [1]\nLetniki: 1. letnik
  (FM)\nIzvajalci: Gregor Cigler\, Marko Kandić\nProstor: 2.01
LOCATION:2.01
ORGANIZER:Gregor Cigler, Marko Kandić
RELATED-TO:fmf-AFLABS-URNIK:srecanje:4671
X-WR-TIMEZONE:Europe/Ljubljana
END:VEVENT
BEGIN:VEVENT
SUMMARY:Analiza 1 (FM-1)\, Vaje (V)\, [1]
DTSTART;TZID=Europe/Ljubljana:20210104T100000
DTEND;TZID=Europe/Ljubljana:20210104T120000
DTSTAMP:20260421T015405Z
UID:fmf-AFLABS-URNIK:premaknjeno-srecanje:5107
ATTENDEE:1. letnik (FM)
CATEGORIES:Entry,Standard
COLOR:darkgreen
DESCRIPTION:Predmet: Analiza 1 (FM-1)\, Vaje (V)\, [1]\nLetniki: 1. letnik
  (FM)\nIzvajalci: Gregor Cigler\, Marko Kandić\nProstor: 2.01
LOCATION:2.01
ORGANIZER:Gregor Cigler, Marko Kandić
RELATED-TO:fmf-AFLABS-URNIK:srecanje:4671
X-WR-TIMEZONE:Europe/Ljubljana
END:VEVENT
BEGIN:VEVENT
SUMMARY:Analiza 1 (FM-1)\, Vaje (V)\, [1]
DTSTART;TZID=Europe/Ljubljana:20210111T100000
DTEND;TZID=Europe/Ljubljana:20210111T120000
DTSTAMP:20260421T015405Z
UID:fmf-AFLABS-URNIK:premaknjeno-srecanje:5108
ATTENDEE:1. letnik (FM)
CATEGORIES:Entry,Standard
COLOR:darkgreen
DESCRIPTION:Predmet: Analiza 1 (FM-1)\, Vaje (V)\, [1]\nLetniki: 1. letnik
  (FM)\nIzvajalci: Gregor Cigler\, Marko Kandić\nProstor: 2.01
LOCATION:2.01
ORGANIZER:Gregor Cigler, Marko Kandić
RELATED-TO:fmf-AFLABS-URNIK:srecanje:4671
X-WR-TIMEZONE:Europe/Ljubljana
END:VEVENT
BEGIN:VEVENT
SUMMARY:Analiza 1 (FM-1)\, Vaje (V)\, [2]
DTSTART;TZID=Europe/Ljubljana:20201228T100000
DTEND;TZID=Europe/Ljubljana:20201228T120000
DTSTAMP:20260421T015405Z
UID:fmf-AFLABS-URNIK:premaknjeno-srecanje:5744
ATTENDEE:1. letnik (FM)
CATEGORIES:Entry,Standard
COLOR:darkgreen
DESCRIPTION:Predmet: Analiza 1 (FM-1)\, Vaje (V)\, [2]\nLetniki: 1. letnik
  (FM)\nIzvajalci: Gregor Cigler\, Marko Kandić\nProstor: Na daljavo
LOCATION:Na daljavo
ORGANIZER:Gregor Cigler, Marko Kandić
RELATED-TO:fmf-AFLABS-URNIK:srecanje:5295
X-WR-TIMEZONE:Europe/Ljubljana
END:VEVENT
BEGIN:VEVENT
SUMMARY:Analiza 1 (FM-1)\, Vaje (V)\, [2]
DTSTART;TZID=Europe/Ljubljana:20210104T100000
DTEND;TZID=Europe/Ljubljana:20210104T120000
DTSTAMP:20260421T015405Z
UID:fmf-AFLABS-URNIK:premaknjeno-srecanje:5745
ATTENDEE:1. letnik (FM)
CATEGORIES:Entry,Standard
COLOR:darkgreen
DESCRIPTION:Predmet: Analiza 1 (FM-1)\, Vaje (V)\, [2]\nLetniki: 1. letnik
  (FM)\nIzvajalci: Gregor Cigler\, Marko Kandić\nProstor: Na daljavo
LOCATION:Na daljavo
ORGANIZER:Gregor Cigler, Marko Kandić
RELATED-TO:fmf-AFLABS-URNIK:srecanje:5295
X-WR-TIMEZONE:Europe/Ljubljana
END:VEVENT
BEGIN:VEVENT
SUMMARY:Analiza 1 (FM-1)\, Vaje (V)\, [2]
DTSTART;TZID=Europe/Ljubljana:20210111T100000
DTEND;TZID=Europe/Ljubljana:20210111T120000
DTSTAMP:20260421T015405Z
UID:fmf-AFLABS-URNIK:premaknjeno-srecanje:5746
ATTENDEE:1. letnik (FM)
CATEGORIES:Entry,Standard
COLOR:darkgreen
DESCRIPTION:Predmet: Analiza 1 (FM-1)\, Vaje (V)\, [2]\nLetniki: 1. letnik
  (FM)\nIzvajalci: Gregor Cigler\, Marko Kandić\nProstor: Na daljavo
LOCATION:Na daljavo
ORGANIZER:Gregor Cigler, Marko Kandić
RELATED-TO:fmf-AFLABS-URNIK:srecanje:5295
X-WR-TIMEZONE:Europe/Ljubljana
END:VEVENT
BEGIN:VEVENT
SUMMARY:Analiza 3 (IŠRM-2)\, Vaje (V)
DTSTART;TZID=Europe/Ljubljana:20201229T100000
DTEND;TZID=Europe/Ljubljana:20201229T120000
DTSTAMP:20260421T015405Z
UID:fmf-AFLABS-URNIK:premaknjeno-srecanje:8595
ATTENDEE:2. letnik (IŠRM)
CATEGORIES:Entry,Standard
COLOR:darkgreen
DESCRIPTION:Predmet: Analiza 3 (IŠRM-2)\, Vaje (V)\nLetniki: 2. letnik (I
 ŠRM)\nIzvajalci: Marko Kandić\nProstor: 2.03
LOCATION:2.03
ORGANIZER:Marko Kandić
RELATED-TO:fmf-AFLABS-URNIK:srecanje:4687
X-WR-TIMEZONE:Europe/Ljubljana
END:VEVENT
BEGIN:VEVENT
SUMMARY:Analiza 3 (IŠRM-2)\, Vaje (V)
DTSTART;TZID=Europe/Ljubljana:20210105T100000
DTEND;TZID=Europe/Ljubljana:20210105T120000
DTSTAMP:20260421T015405Z
UID:fmf-AFLABS-URNIK:premaknjeno-srecanje:8596
ATTENDEE:2. letnik (IŠRM)
CATEGORIES:Entry,Standard
COLOR:darkgreen
DESCRIPTION:Predmet: Analiza 3 (IŠRM-2)\, Vaje (V)\nLetniki: 2. letnik (I
 ŠRM)\nIzvajalci: Marko Kandić\nProstor: 2.03
LOCATION:2.03
ORGANIZER:Marko Kandić
RELATED-TO:fmf-AFLABS-URNIK:srecanje:4687
X-WR-TIMEZONE:Europe/Ljubljana
END:VEVENT
BEGIN:VEVENT
SUMMARY:Analiza 3 (IŠRM-2)\, Vaje (V)
DTSTART;TZID=Europe/Ljubljana:20210112T100000
DTEND;TZID=Europe/Ljubljana:20210112T120000
DTSTAMP:20260421T015405Z
UID:fmf-AFLABS-URNIK:premaknjeno-srecanje:8597
ATTENDEE:2. letnik (IŠRM)
CATEGORIES:Entry,Standard
COLOR:darkgreen
DESCRIPTION:Predmet: Analiza 3 (IŠRM-2)\, Vaje (V)\nLetniki: 2. letnik (I
 ŠRM)\nIzvajalci: Marko Kandić\nProstor: 2.03
LOCATION:2.03
ORGANIZER:Marko Kandić
RELATED-TO:fmf-AFLABS-URNIK:srecanje:4687
X-WR-TIMEZONE:Europe/Ljubljana
END:VEVENT
BEGIN:VEVENT
SUMMARY:Komuniciranje v matematiki (APM-2)\, Seminar (S)
DTSTART;TZID=Europe/Ljubljana:20201229T120000
DTEND;TZID=Europe/Ljubljana:20201229T140000
DTSTAMP:20260421T015405Z
UID:fmf-AFLABS-URNIK:premaknjeno-srecanje:54912
ATTENDEE:2. letnik (APM)
CATEGORIES:Entry,Standard
COLOR:darkgreen
DESCRIPTION:Predmet: Komuniciranje v matematiki (APM-2)\, Seminar (S)\nLet
 niki: 2. letnik (APM)\nIzvajalci: Marko Kandić\nProstor: 2.02
LOCATION:2.02
ORGANIZER:Marko Kandić
RELATED-TO:fmf-AFLABS-URNIK:srecanje:5304
X-WR-TIMEZONE:Europe/Ljubljana
END:VEVENT
BEGIN:VEVENT
SUMMARY:Komuniciranje v matematiki (APM-2)\, Seminar (S)
DTSTART;TZID=Europe/Ljubljana:20210105T120000
DTEND;TZID=Europe/Ljubljana:20210105T140000
DTSTAMP:20260421T015405Z
UID:fmf-AFLABS-URNIK:premaknjeno-srecanje:54913
ATTENDEE:2. letnik (APM)
CATEGORIES:Entry,Standard
COLOR:darkgreen
DESCRIPTION:Predmet: Komuniciranje v matematiki (APM-2)\, Seminar (S)\nLet
 niki: 2. letnik (APM)\nIzvajalci: Marko Kandić\nProstor: 2.02
LOCATION:2.02
ORGANIZER:Marko Kandić
RELATED-TO:fmf-AFLABS-URNIK:srecanje:5304
X-WR-TIMEZONE:Europe/Ljubljana
END:VEVENT
BEGIN:VEVENT
SUMMARY:Komuniciranje v matematiki (APM-2)\, Seminar (S)
DTSTART;TZID=Europe/Ljubljana:20210112T120000
DTEND;TZID=Europe/Ljubljana:20210112T140000
DTSTAMP:20260421T015405Z
UID:fmf-AFLABS-URNIK:premaknjeno-srecanje:54914
ATTENDEE:2. letnik (APM)
CATEGORIES:Entry,Standard
COLOR:darkgreen
DESCRIPTION:Predmet: Komuniciranje v matematiki (APM-2)\, Seminar (S)\nLet
 niki: 2. letnik (APM)\nIzvajalci: Marko Kandić\nProstor: 2.02
LOCATION:2.02
ORGANIZER:Marko Kandić
RELATED-TO:fmf-AFLABS-URNIK:srecanje:5304
X-WR-TIMEZONE:Europe/Ljubljana
END:VEVENT
BEGIN:VEVENT
SUMMARY:Analiza 1 (FM-1)\, Vaje (V)\, [1]
DTSTART;TZID=Europe/Ljubljana:20201231T100000
DTEND;TZID=Europe/Ljubljana:20201231T120000
DTSTAMP:20260421T015405Z
UID:fmf-AFLABS-URNIK:premaknjeno-srecanje:5434
ATTENDEE:1. letnik (FM)
CATEGORIES:Entry,Standard
COLOR:darkgreen
DESCRIPTION:Predmet: Analiza 1 (FM-1)\, Vaje (V)\, [1]\nLetniki: 1. letnik
  (FM)\nIzvajalci: Gregor Cigler\, Marko Kandić\nProstor: 2.01
LOCATION:2.01
ORGANIZER:Gregor Cigler, Marko Kandić
RELATED-TO:fmf-AFLABS-URNIK:srecanje:5296
X-WR-TIMEZONE:Europe/Ljubljana
END:VEVENT
BEGIN:VEVENT
SUMMARY:Analiza 1 (FM-1)\, Vaje (V)\, [1]
DTSTART;TZID=Europe/Ljubljana:20210107T100000
DTEND;TZID=Europe/Ljubljana:20210107T120000
DTSTAMP:20260421T015405Z
UID:fmf-AFLABS-URNIK:premaknjeno-srecanje:5435
ATTENDEE:1. letnik (FM)
CATEGORIES:Entry,Standard
COLOR:darkgreen
DESCRIPTION:Predmet: Analiza 1 (FM-1)\, Vaje (V)\, [1]\nLetniki: 1. letnik
  (FM)\nIzvajalci: Gregor Cigler\, Marko Kandić\nProstor: 2.01
LOCATION:2.01
ORGANIZER:Gregor Cigler, Marko Kandić
RELATED-TO:fmf-AFLABS-URNIK:srecanje:5296
X-WR-TIMEZONE:Europe/Ljubljana
END:VEVENT
BEGIN:VEVENT
SUMMARY:Analiza 1 (FM-1)\, Vaje (V)\, [1]
DTSTART;TZID=Europe/Ljubljana:20210114T100000
DTEND;TZID=Europe/Ljubljana:20210114T120000
DTSTAMP:20260421T015405Z
UID:fmf-AFLABS-URNIK:premaknjeno-srecanje:5436
ATTENDEE:1. letnik (FM)
CATEGORIES:Entry,Standard
COLOR:darkgreen
DESCRIPTION:Predmet: Analiza 1 (FM-1)\, Vaje (V)\, [1]\nLetniki: 1. letnik
  (FM)\nIzvajalci: Gregor Cigler\, Marko Kandić\nProstor: 2.01
LOCATION:2.01
ORGANIZER:Gregor Cigler, Marko Kandić
RELATED-TO:fmf-AFLABS-URNIK:srecanje:5296
X-WR-TIMEZONE:Europe/Ljubljana
END:VEVENT
BEGIN:VEVENT
SUMMARY:Analiza 1 (FM-1)\, Vaje (V)\, [2]
DTSTART;TZID=Europe/Ljubljana:20201231T100000
DTEND;TZID=Europe/Ljubljana:20201231T120000
DTSTAMP:20260421T015405Z
UID:fmf-AFLABS-URNIK:premaknjeno-srecanje:6029
ATTENDEE:1. letnik (FM)
CATEGORIES:Entry,Standard
COLOR:darkgreen
DESCRIPTION:Predmet: Analiza 1 (FM-1)\, Vaje (V)\, [2]\nLetniki: 1. letnik
  (FM)\nIzvajalci: Gregor Cigler\, Marko Kandić\nProstor: Na daljavo
LOCATION:Na daljavo
ORGANIZER:Gregor Cigler, Marko Kandić
RELATED-TO:fmf-AFLABS-URNIK:srecanje:4672
X-WR-TIMEZONE:Europe/Ljubljana
END:VEVENT
BEGIN:VEVENT
SUMMARY:Analiza 1 (FM-1)\, Vaje (V)\, [2]
DTSTART;TZID=Europe/Ljubljana:20210107T100000
DTEND;TZID=Europe/Ljubljana:20210107T120000
DTSTAMP:20260421T015405Z
UID:fmf-AFLABS-URNIK:premaknjeno-srecanje:6030
ATTENDEE:1. letnik (FM)
CATEGORIES:Entry,Standard
COLOR:darkgreen
DESCRIPTION:Predmet: Analiza 1 (FM-1)\, Vaje (V)\, [2]\nLetniki: 1. letnik
  (FM)\nIzvajalci: Gregor Cigler\, Marko Kandić\nProstor: Na daljavo
LOCATION:Na daljavo
ORGANIZER:Gregor Cigler, Marko Kandić
RELATED-TO:fmf-AFLABS-URNIK:srecanje:4672
X-WR-TIMEZONE:Europe/Ljubljana
END:VEVENT
BEGIN:VEVENT
SUMMARY:Analiza 1 (FM-1)\, Vaje (V)\, [2]
DTSTART;TZID=Europe/Ljubljana:20210114T100000
DTEND;TZID=Europe/Ljubljana:20210114T120000
DTSTAMP:20260421T015405Z
UID:fmf-AFLABS-URNIK:premaknjeno-srecanje:6031
ATTENDEE:1. letnik (FM)
CATEGORIES:Entry,Standard
COLOR:darkgreen
DESCRIPTION:Predmet: Analiza 1 (FM-1)\, Vaje (V)\, [2]\nLetniki: 1. letnik
  (FM)\nIzvajalci: Gregor Cigler\, Marko Kandić\nProstor: Na daljavo
LOCATION:Na daljavo
ORGANIZER:Gregor Cigler, Marko Kandić
RELATED-TO:fmf-AFLABS-URNIK:srecanje:4672
X-WR-TIMEZONE:Europe/Ljubljana
END:VEVENT
BEGIN:VEVENT
SUMMARY:None\, Ostalo (O)
DTSTART;TZID=Europe/Ljubljana:20210101T120000
DTEND;TZID=Europe/Ljubljana:20210101T140000
DTSTAMP:20260421T015405Z
UID:fmf-AFLABS-URNIK:premaknjeno-srecanje:269
CATEGORIES:Entry,Standard
COLOR:darkgreen
DESCRIPTION:Predmet: None\, Ostalo (O)\nLetniki: /\nIzvajalci: Marko Kandi
 ć\nProstor: RG
LOCATION:RG
ORGANIZER:Marko Kandić
RELATED-TO:fmf-AFLABS-URNIK:srecanje:4649
X-WR-TIMEZONE:Europe/Ljubljana
END:VEVENT
BEGIN:VEVENT
SUMMARY:None\, Ostalo (O)
DTSTART;TZID=Europe/Ljubljana:20210108T120000
DTEND;TZID=Europe/Ljubljana:20210108T140000
DTSTAMP:20260421T015405Z
UID:fmf-AFLABS-URNIK:premaknjeno-srecanje:270
CATEGORIES:Entry,Standard
COLOR:darkgreen
DESCRIPTION:Predmet: None\, Ostalo (O)\nLetniki: /\nIzvajalci: Marko Kandi
 ć\nProstor: RG
LOCATION:RG
ORGANIZER:Marko Kandić
RELATED-TO:fmf-AFLABS-URNIK:srecanje:4649
X-WR-TIMEZONE:Europe/Ljubljana
END:VEVENT
BEGIN:VEVENT
SUMMARY:None\, Ostalo (O)
DTSTART;TZID=Europe/Ljubljana:20210115T120000
DTEND;TZID=Europe/Ljubljana:20210115T140000
DTSTAMP:20260421T015405Z
UID:fmf-AFLABS-URNIK:premaknjeno-srecanje:271
CATEGORIES:Entry,Standard
COLOR:darkgreen
DESCRIPTION:Predmet: None\, Ostalo (O)\nLetniki: /\nIzvajalci: Marko Kandi
 ć\nProstor: RG
LOCATION:RG
ORGANIZER:Marko Kandić
RELATED-TO:fmf-AFLABS-URNIK:srecanje:4649
X-WR-TIMEZONE:Europe/Ljubljana
END:VEVENT
BEGIN:VEVENT
SUMMARY:Analiza 2 (FM-1)\, Vaje (V)\, [1]
DTSTART;TZID=Europe/Ljubljana:20210215T090000
DTEND;TZID=Europe/Ljubljana:20210215T110000
DTSTAMP:20260421T015405Z
UID:fmf-AFLABS-URNIK:premaknjeno-srecanje:6772
ATTENDEE:1. letnik (FM)
CATEGORIES:Entry,Standard
COLOR:darkgreen
DESCRIPTION:Predmet: Analiza 2 (FM-1)\, Vaje (V)\, [1]\nLetniki: 1. letnik
  (FM)\nIzvajalci: Marko Kandić\nProstor: 2.01
LOCATION:2.01
ORGANIZER:Marko Kandić
RELATED-TO:fmf-AFLABS-URNIK:srecanje:5459
X-WR-TIMEZONE:Europe/Ljubljana
END:VEVENT
BEGIN:VEVENT
SUMMARY:Analiza 2 (FM-1)\, Vaje (V)\, [1]
DTSTART;TZID=Europe/Ljubljana:20210222T090000
DTEND;TZID=Europe/Ljubljana:20210222T110000
DTSTAMP:20260421T015405Z
UID:fmf-AFLABS-URNIK:premaknjeno-srecanje:6773
ATTENDEE:1. letnik (FM)
CATEGORIES:Entry,Standard
COLOR:darkgreen
DESCRIPTION:Predmet: Analiza 2 (FM-1)\, Vaje (V)\, [1]\nLetniki: 1. letnik
  (FM)\nIzvajalci: Marko Kandić\nProstor: 2.01
LOCATION:2.01
ORGANIZER:Marko Kandić
RELATED-TO:fmf-AFLABS-URNIK:srecanje:5459
X-WR-TIMEZONE:Europe/Ljubljana
END:VEVENT
BEGIN:VEVENT
SUMMARY:Analiza 2 (FM-1)\, Vaje (V)\, [1]
DTSTART;TZID=Europe/Ljubljana:20210301T090000
DTEND;TZID=Europe/Ljubljana:20210301T110000
DTSTAMP:20260421T015405Z
UID:fmf-AFLABS-URNIK:premaknjeno-srecanje:6774
ATTENDEE:1. letnik (FM)
CATEGORIES:Entry,Standard
COLOR:darkgreen
DESCRIPTION:Predmet: Analiza 2 (FM-1)\, Vaje (V)\, [1]\nLetniki: 1. letnik
  (FM)\nIzvajalci: Marko Kandić\nProstor: 2.01
LOCATION:2.01
ORGANIZER:Marko Kandić
RELATED-TO:fmf-AFLABS-URNIK:srecanje:5459
X-WR-TIMEZONE:Europe/Ljubljana
END:VEVENT
BEGIN:VEVENT
SUMMARY:Analiza 2 (FM-1)\, Vaje (V)\, [1]
DTSTART;TZID=Europe/Ljubljana:20210308T090000
DTEND;TZID=Europe/Ljubljana:20210308T110000
DTSTAMP:20260421T015405Z
UID:fmf-AFLABS-URNIK:premaknjeno-srecanje:6775
ATTENDEE:1. letnik (FM)
CATEGORIES:Entry,Standard
COLOR:darkgreen
DESCRIPTION:Predmet: Analiza 2 (FM-1)\, Vaje (V)\, [1]\nLetniki: 1. letnik
  (FM)\nIzvajalci: Marko Kandić\nProstor: 2.01
LOCATION:2.01
ORGANIZER:Marko Kandić
RELATED-TO:fmf-AFLABS-URNIK:srecanje:5459
X-WR-TIMEZONE:Europe/Ljubljana
END:VEVENT
BEGIN:VEVENT
SUMMARY:Analiza 2 (FM-1)\, Vaje (V)\, [1]
DTSTART;TZID=Europe/Ljubljana:20210217T080000
DTEND;TZID=Europe/Ljubljana:20210217T100000
DTSTAMP:20260421T015405Z
UID:fmf-AFLABS-URNIK:premaknjeno-srecanje:6897
ATTENDEE:1. letnik (FM)
CATEGORIES:Entry,Standard
COLOR:darkgreen
DESCRIPTION:Predmet: Analiza 2 (FM-1)\, Vaje (V)\, [1]\nLetniki: 1. letnik
  (FM)\nIzvajalci: Marko Kandić\nProstor: Na daljavo
LOCATION:Na daljavo
ORGANIZER:Marko Kandić
RELATED-TO:fmf-AFLABS-URNIK:srecanje:5460
X-WR-TIMEZONE:Europe/Ljubljana
END:VEVENT
BEGIN:VEVENT
SUMMARY:Analiza 2 (FM-1)\, Vaje (V)\, [1]
DTSTART;TZID=Europe/Ljubljana:20210224T080000
DTEND;TZID=Europe/Ljubljana:20210224T100000
DTSTAMP:20260421T015405Z
UID:fmf-AFLABS-URNIK:premaknjeno-srecanje:6898
ATTENDEE:1. letnik (FM)
CATEGORIES:Entry,Standard
COLOR:darkgreen
DESCRIPTION:Predmet: Analiza 2 (FM-1)\, Vaje (V)\, [1]\nLetniki: 1. letnik
  (FM)\nIzvajalci: Marko Kandić\nProstor: Na daljavo
LOCATION:Na daljavo
ORGANIZER:Marko Kandić
RELATED-TO:fmf-AFLABS-URNIK:srecanje:5460
X-WR-TIMEZONE:Europe/Ljubljana
END:VEVENT
BEGIN:VEVENT
SUMMARY:Analiza 2 (FM-1)\, Vaje (V)\, [1]
DTSTART;TZID=Europe/Ljubljana:20210303T080000
DTEND;TZID=Europe/Ljubljana:20210303T100000
DTSTAMP:20260421T015405Z
UID:fmf-AFLABS-URNIK:premaknjeno-srecanje:6899
ATTENDEE:1. letnik (FM)
CATEGORIES:Entry,Standard
COLOR:darkgreen
DESCRIPTION:Predmet: Analiza 2 (FM-1)\, Vaje (V)\, [1]\nLetniki: 1. letnik
  (FM)\nIzvajalci: Marko Kandić\nProstor: Na daljavo
LOCATION:Na daljavo
ORGANIZER:Marko Kandić
RELATED-TO:fmf-AFLABS-URNIK:srecanje:5460
X-WR-TIMEZONE:Europe/Ljubljana
END:VEVENT
BEGIN:VEVENT
SUMMARY:Matematika IV (FIZ-2)\, Predavanja (P)
DTSTART;TZID=Europe/Ljubljana:20210217T100000
DTEND;TZID=Europe/Ljubljana:20210217T120000
DTSTAMP:20260421T015405Z
UID:fmf-AFLABS-URNIK:premaknjeno-srecanje:66621
ATTENDEE:2. letnik (Fizika, 1. stopnja)
CATEGORIES:Entry,Standard
COLOR:darkgreen
DESCRIPTION:Predmet: Matematika IV (FIZ-2)\, Predavanja (P)\nLetniki: 2. l
 etnik (Fizika\, 1. stopnja)\nIzvajalci: Marko Kandić\nProstor: F2
LOCATION:F2
ORGANIZER:Marko Kandić
RELATED-TO:fmf-AFLABS-URNIK:srecanje:5717
X-WR-TIMEZONE:Europe/Ljubljana
END:VEVENT
BEGIN:VEVENT
SUMMARY:Matematika IV (FIZ-2)\, Predavanja (P)
DTSTART;TZID=Europe/Ljubljana:20210224T100000
DTEND;TZID=Europe/Ljubljana:20210224T120000
DTSTAMP:20260421T015405Z
UID:fmf-AFLABS-URNIK:premaknjeno-srecanje:66622
ATTENDEE:2. letnik (Fizika, 1. stopnja)
CATEGORIES:Entry,Standard
COLOR:darkgreen
DESCRIPTION:Predmet: Matematika IV (FIZ-2)\, Predavanja (P)\nLetniki: 2. l
 etnik (Fizika\, 1. stopnja)\nIzvajalci: Marko Kandić\nProstor: F2
LOCATION:F2
ORGANIZER:Marko Kandić
RELATED-TO:fmf-AFLABS-URNIK:srecanje:5717
X-WR-TIMEZONE:Europe/Ljubljana
END:VEVENT
BEGIN:VEVENT
SUMMARY:Matematika IV (FIZ-2)\, Predavanja (P)
DTSTART;TZID=Europe/Ljubljana:20210303T100000
DTEND;TZID=Europe/Ljubljana:20210303T120000
DTSTAMP:20260421T015405Z
UID:fmf-AFLABS-URNIK:premaknjeno-srecanje:66623
ATTENDEE:2. letnik (Fizika, 1. stopnja)
CATEGORIES:Entry,Standard
COLOR:darkgreen
DESCRIPTION:Predmet: Matematika IV (FIZ-2)\, Predavanja (P)\nLetniki: 2. l
 etnik (Fizika\, 1. stopnja)\nIzvajalci: Marko Kandić\nProstor: F2
LOCATION:F2
ORGANIZER:Marko Kandić
RELATED-TO:fmf-AFLABS-URNIK:srecanje:5717
X-WR-TIMEZONE:Europe/Ljubljana
END:VEVENT
BEGIN:VEVENT
SUMMARY:Algebra 1 (FM-1)\, Vaje (V)\, [2]
DTSTART;TZID=Europe/Ljubljana:20210218T100000
DTEND;TZID=Europe/Ljubljana:20210218T120000
DTSTAMP:20260421T015405Z
UID:fmf-AFLABS-URNIK:premaknjeno-srecanje:2685
ATTENDEE:1. letnik (FM)
CATEGORIES:Entry,Standard
COLOR:darkgreen
DESCRIPTION:Predmet: Algebra 1 (FM-1)\, Vaje (V)\, [2]\nLetniki: 1. letnik
  (FM)\nIzvajalci: Marko Kandić\nProstor: 2.01
LOCATION:2.01
ORGANIZER:Marko Kandić
RELATED-TO:fmf-AFLABS-URNIK:srecanje:5442
X-WR-TIMEZONE:Europe/Ljubljana
END:VEVENT
BEGIN:VEVENT
SUMMARY:Algebra 1 (FM-1)\, Vaje (V)\, [2]
DTSTART;TZID=Europe/Ljubljana:20210225T100000
DTEND;TZID=Europe/Ljubljana:20210225T120000
DTSTAMP:20260421T015405Z
UID:fmf-AFLABS-URNIK:premaknjeno-srecanje:2686
ATTENDEE:1. letnik (FM)
CATEGORIES:Entry,Standard
COLOR:darkgreen
DESCRIPTION:Predmet: Algebra 1 (FM-1)\, Vaje (V)\, [2]\nLetniki: 1. letnik
  (FM)\nIzvajalci: Marko Kandić\nProstor: 2.01
LOCATION:2.01
ORGANIZER:Marko Kandić
RELATED-TO:fmf-AFLABS-URNIK:srecanje:5442
X-WR-TIMEZONE:Europe/Ljubljana
END:VEVENT
BEGIN:VEVENT
SUMMARY:Algebra 1 (FM-1)\, Vaje (V)\, [2]
DTSTART;TZID=Europe/Ljubljana:20210304T100000
DTEND;TZID=Europe/Ljubljana:20210304T120000
DTSTAMP:20260421T015405Z
UID:fmf-AFLABS-URNIK:premaknjeno-srecanje:2687
ATTENDEE:1. letnik (FM)
CATEGORIES:Entry,Standard
COLOR:darkgreen
DESCRIPTION:Predmet: Algebra 1 (FM-1)\, Vaje (V)\, [2]\nLetniki: 1. letnik
  (FM)\nIzvajalci: Marko Kandić\nProstor: 2.01
LOCATION:2.01
ORGANIZER:Marko Kandić
RELATED-TO:fmf-AFLABS-URNIK:srecanje:5442
X-WR-TIMEZONE:Europe/Ljubljana
END:VEVENT
BEGIN:VEVENT
SUMMARY:Matematika IV (FIZ-2)\, Predavanja (P)
DTSTART;TZID=Europe/Ljubljana:20210218T080000
DTEND;TZID=Europe/Ljubljana:20210218T100000
DTSTAMP:20260421T015405Z
UID:fmf-AFLABS-URNIK:premaknjeno-srecanje:66682
ATTENDEE:2. letnik (Fizika, 1. stopnja)
CATEGORIES:Entry,Standard
COLOR:darkgreen
DESCRIPTION:Predmet: Matematika IV (FIZ-2)\, Predavanja (P)\nLetniki: 2. l
 etnik (Fizika\, 1. stopnja)\nIzvajalci: Marko Kandić\nProstor: F1
LOCATION:F1
ORGANIZER:Marko Kandić
RELATED-TO:fmf-AFLABS-URNIK:srecanje:5716
X-WR-TIMEZONE:Europe/Ljubljana
END:VEVENT
BEGIN:VEVENT
SUMMARY:Matematika IV (FIZ-2)\, Predavanja (P)
DTSTART;TZID=Europe/Ljubljana:20210225T080000
DTEND;TZID=Europe/Ljubljana:20210225T100000
DTSTAMP:20260421T015405Z
UID:fmf-AFLABS-URNIK:premaknjeno-srecanje:66683
ATTENDEE:2. letnik (Fizika, 1. stopnja)
CATEGORIES:Entry,Standard
COLOR:darkgreen
DESCRIPTION:Predmet: Matematika IV (FIZ-2)\, Predavanja (P)\nLetniki: 2. l
 etnik (Fizika\, 1. stopnja)\nIzvajalci: Marko Kandić\nProstor: F1
LOCATION:F1
ORGANIZER:Marko Kandić
RELATED-TO:fmf-AFLABS-URNIK:srecanje:5716
X-WR-TIMEZONE:Europe/Ljubljana
END:VEVENT
BEGIN:VEVENT
SUMMARY:Matematika IV (FIZ-2)\, Predavanja (P)
DTSTART;TZID=Europe/Ljubljana:20210304T080000
DTEND;TZID=Europe/Ljubljana:20210304T100000
DTSTAMP:20260421T015405Z
UID:fmf-AFLABS-URNIK:premaknjeno-srecanje:66684
ATTENDEE:2. letnik (Fizika, 1. stopnja)
CATEGORIES:Entry,Standard
COLOR:darkgreen
DESCRIPTION:Predmet: Matematika IV (FIZ-2)\, Predavanja (P)\nLetniki: 2. l
 etnik (Fizika\, 1. stopnja)\nIzvajalci: Marko Kandić\nProstor: F1
LOCATION:F1
ORGANIZER:Marko Kandić
RELATED-TO:fmf-AFLABS-URNIK:srecanje:5716
X-WR-TIMEZONE:Europe/Ljubljana
END:VEVENT
BEGIN:VEVENT
SUMMARY:RG ()\, Ostalo (O)
DTSTART;TZID=Europe/Ljubljana:20210219T120000
DTEND;TZID=Europe/Ljubljana:20210219T140000
DTSTAMP:20260421T015405Z
UID:fmf-AFLABS-URNIK:premaknjeno-srecanje:90608
CATEGORIES:Entry,Standard
COLOR:darkgreen
DESCRIPTION:Predmet: RG ()\, Ostalo (O)\nLetniki: \nIzvajalci: Marko Kandi
 ć\, Aleš Vavpetič\nProstor: None
ORGANIZER:Marko Kandić, Aleš Vavpetič
RELATED-TO:fmf-AFLABS-URNIK:srecanje:5845
X-WR-TIMEZONE:Europe/Ljubljana
END:VEVENT
BEGIN:VEVENT
SUMMARY:RG ()\, Ostalo (O)
DTSTART;TZID=Europe/Ljubljana:20210226T120000
DTEND;TZID=Europe/Ljubljana:20210226T140000
DTSTAMP:20260421T015405Z
UID:fmf-AFLABS-URNIK:premaknjeno-srecanje:90609
CATEGORIES:Entry,Standard
COLOR:darkgreen
DESCRIPTION:Predmet: RG ()\, Ostalo (O)\nLetniki: \nIzvajalci: Marko Kandi
 ć\, Aleš Vavpetič\nProstor: None
ORGANIZER:Marko Kandić, Aleš Vavpetič
RELATED-TO:fmf-AFLABS-URNIK:srecanje:5845
X-WR-TIMEZONE:Europe/Ljubljana
END:VEVENT
BEGIN:VEVENT
SUMMARY:RG ()\, Ostalo (O)
DTSTART;TZID=Europe/Ljubljana:20210305T120000
DTEND;TZID=Europe/Ljubljana:20210305T140000
DTSTAMP:20260421T015405Z
UID:fmf-AFLABS-URNIK:premaknjeno-srecanje:90610
CATEGORIES:Entry,Standard
COLOR:darkgreen
DESCRIPTION:Predmet: RG ()\, Ostalo (O)\nLetniki: \nIzvajalci: Marko Kandi
 ć\, Aleš Vavpetič\nProstor: None
ORGANIZER:Marko Kandić, Aleš Vavpetič
RELATED-TO:fmf-AFLABS-URNIK:srecanje:5845
X-WR-TIMEZONE:Europe/Ljubljana
END:VEVENT
END:VCALENDAR
