BEGIN:VCALENDAR
VERSION:2.0
PRODID:-//AFLabs urnik izvoz - fmf//aflabs.si//SI
DTSTAMP:20260420T051057Z
NAME:UL FMF urnik
REFRESH-INTERVAL:PT1H
SOURCE:https://urnik.fmf.uni-lj.si/teacher/68?day=2021-06-21&export=1
URL:https://urnik.fmf.uni-lj.si/teacher/68?day=2021-06-21&export=1
X-PUBLISHED-TTL:PT1H
X-WR-CALNAME:UL FMF urnik
X-WR-TIMEZONE:Europe/Ljubljana
BEGIN:VTIMEZONE
TZID:Europe/Ljubljana
BEGIN:DAYLIGHT
DTSTART:20260329T020000
RDATE:20260329T020000
RDATE:20270328T020000
TZNAME:CEST
TZOFFSETFROM:+0100
TZOFFSETTO:+0200
END:DAYLIGHT
BEGIN:STANDARD
DTSTART:20261025T030000
RDATE:20261025T030000
RDATE:20271031T030000
TZNAME:CET
TZOFFSETFROM:+0200
TZOFFSETTO:+0100
END:STANDARD
END:VTIMEZONE
BEGIN:VEVENT
SUMMARY:Analiza 2 (FM-1)\, Vaje (V)\, [1]
DTSTART;TZID=Europe/Ljubljana:20210517T090000
DTEND;TZID=Europe/Ljubljana:20210517T110000
DTSTAMP:20260420T051057Z
UID:fmf-AFLABS-URNIK:premaknjeno-srecanje:6785
ATTENDEE:1. letnik (FM)
CATEGORIES:Entry,Standard
COLOR:darkgreen
DESCRIPTION:Predmet: Analiza 2 (FM-1)\, Vaje (V)\, [1]\nLetniki: 1. letnik
  (FM)\nIzvajalci: Marko Kandić\nProstor: 2.01
LOCATION:2.01
ORGANIZER:Marko Kandić
RELATED-TO:fmf-AFLABS-URNIK:srecanje:5459
X-WR-TIMEZONE:Europe/Ljubljana
END:VEVENT
BEGIN:VEVENT
SUMMARY:Analiza 2 (FM-1)\, Vaje (V)\, [1]
DTSTART;TZID=Europe/Ljubljana:20210524T090000
DTEND;TZID=Europe/Ljubljana:20210524T110000
DTSTAMP:20260420T051057Z
UID:fmf-AFLABS-URNIK:premaknjeno-srecanje:6786
ATTENDEE:1. letnik (FM)
CATEGORIES:Entry,Standard
COLOR:darkgreen
DESCRIPTION:Predmet: Analiza 2 (FM-1)\, Vaje (V)\, [1]\nLetniki: 1. letnik
  (FM)\nIzvajalci: Marko Kandić\nProstor: 2.01
LOCATION:2.01
ORGANIZER:Marko Kandić
RELATED-TO:fmf-AFLABS-URNIK:srecanje:5459
X-WR-TIMEZONE:Europe/Ljubljana
END:VEVENT
BEGIN:VEVENT
SUMMARY:Analiza 2 (FM-1)\, Vaje (V)\, [1]
DTSTART;TZID=Europe/Ljubljana:20210531T090000
DTEND;TZID=Europe/Ljubljana:20210531T110000
DTSTAMP:20260420T051057Z
UID:fmf-AFLABS-URNIK:premaknjeno-srecanje:6787
ATTENDEE:1. letnik (FM)
CATEGORIES:Entry,Standard
COLOR:darkgreen
DESCRIPTION:Predmet: Analiza 2 (FM-1)\, Vaje (V)\, [1]\nLetniki: 1. letnik
  (FM)\nIzvajalci: Marko Kandić\nProstor: 2.01
LOCATION:2.01
ORGANIZER:Marko Kandić
RELATED-TO:fmf-AFLABS-URNIK:srecanje:5459
X-WR-TIMEZONE:Europe/Ljubljana
END:VEVENT
BEGIN:VEVENT
SUMMARY:Analiza 2 (FM-1)\, Vaje (V)\, [1]
DTSTART;TZID=Europe/Ljubljana:20210519T080000
DTEND;TZID=Europe/Ljubljana:20210519T100000
DTSTAMP:20260420T051057Z
UID:fmf-AFLABS-URNIK:premaknjeno-srecanje:6910
ATTENDEE:1. letnik (FM)
CATEGORIES:Entry,Standard
COLOR:darkgreen
DESCRIPTION:Predmet: Analiza 2 (FM-1)\, Vaje (V)\, [1]\nLetniki: 1. letnik
  (FM)\nIzvajalci: Marko Kandić\nProstor: Na daljavo
LOCATION:Na daljavo
ORGANIZER:Marko Kandić
RELATED-TO:fmf-AFLABS-URNIK:srecanje:5460
X-WR-TIMEZONE:Europe/Ljubljana
END:VEVENT
BEGIN:VEVENT
SUMMARY:Analiza 2 (FM-1)\, Vaje (V)\, [1]
DTSTART;TZID=Europe/Ljubljana:20210526T080000
DTEND;TZID=Europe/Ljubljana:20210526T100000
DTSTAMP:20260420T051057Z
UID:fmf-AFLABS-URNIK:premaknjeno-srecanje:6911
ATTENDEE:1. letnik (FM)
CATEGORIES:Entry,Standard
COLOR:darkgreen
DESCRIPTION:Predmet: Analiza 2 (FM-1)\, Vaje (V)\, [1]\nLetniki: 1. letnik
  (FM)\nIzvajalci: Marko Kandić\nProstor: Na daljavo
LOCATION:Na daljavo
ORGANIZER:Marko Kandić
RELATED-TO:fmf-AFLABS-URNIK:srecanje:5460
X-WR-TIMEZONE:Europe/Ljubljana
END:VEVENT
BEGIN:VEVENT
SUMMARY:Matematika IV (FIZ-2)\, Predavanja (P)
DTSTART;TZID=Europe/Ljubljana:20210519T100000
DTEND;TZID=Europe/Ljubljana:20210519T120000
DTSTAMP:20260420T051057Z
UID:fmf-AFLABS-URNIK:premaknjeno-srecanje:66634
ATTENDEE:2. letnik (Fizika, 1. stopnja)
CATEGORIES:Entry,Standard
COLOR:darkgreen
DESCRIPTION:Predmet: Matematika IV (FIZ-2)\, Predavanja (P)\nLetniki: 2. l
 etnik (Fizika\, 1. stopnja)\nIzvajalci: Marko Kandić\nProstor: F2
LOCATION:F2
ORGANIZER:Marko Kandić
RELATED-TO:fmf-AFLABS-URNIK:srecanje:5717
X-WR-TIMEZONE:Europe/Ljubljana
END:VEVENT
BEGIN:VEVENT
SUMMARY:Matematika IV (FIZ-2)\, Predavanja (P)
DTSTART;TZID=Europe/Ljubljana:20210526T100000
DTEND;TZID=Europe/Ljubljana:20210526T120000
DTSTAMP:20260420T051057Z
UID:fmf-AFLABS-URNIK:premaknjeno-srecanje:66635
ATTENDEE:2. letnik (Fizika, 1. stopnja)
CATEGORIES:Entry,Standard
COLOR:darkgreen
DESCRIPTION:Predmet: Matematika IV (FIZ-2)\, Predavanja (P)\nLetniki: 2. l
 etnik (Fizika\, 1. stopnja)\nIzvajalci: Marko Kandić\nProstor: F2
LOCATION:F2
ORGANIZER:Marko Kandić
RELATED-TO:fmf-AFLABS-URNIK:srecanje:5717
X-WR-TIMEZONE:Europe/Ljubljana
END:VEVENT
BEGIN:VEVENT
SUMMARY:Algebra 1 (FM-1)\, Vaje (V)\, [2]
DTSTART;TZID=Europe/Ljubljana:20210520T100000
DTEND;TZID=Europe/Ljubljana:20210520T120000
DTSTAMP:20260420T051057Z
UID:fmf-AFLABS-URNIK:premaknjeno-srecanje:2698
ATTENDEE:1. letnik (FM)
CATEGORIES:Entry,Standard
COLOR:darkgreen
DESCRIPTION:Predmet: Algebra 1 (FM-1)\, Vaje (V)\, [2]\nLetniki: 1. letnik
  (FM)\nIzvajalci: Marko Kandić\nProstor: 2.01
LOCATION:2.01
ORGANIZER:Marko Kandić
RELATED-TO:fmf-AFLABS-URNIK:srecanje:5442
X-WR-TIMEZONE:Europe/Ljubljana
END:VEVENT
BEGIN:VEVENT
SUMMARY:Algebra 1 (FM-1)\, Vaje (V)\, [2]
DTSTART;TZID=Europe/Ljubljana:20210527T100000
DTEND;TZID=Europe/Ljubljana:20210527T120000
DTSTAMP:20260420T051057Z
UID:fmf-AFLABS-URNIK:premaknjeno-srecanje:2699
ATTENDEE:1. letnik (FM)
CATEGORIES:Entry,Standard
COLOR:darkgreen
DESCRIPTION:Predmet: Algebra 1 (FM-1)\, Vaje (V)\, [2]\nLetniki: 1. letnik
  (FM)\nIzvajalci: Marko Kandić\nProstor: 2.01
LOCATION:2.01
ORGANIZER:Marko Kandić
RELATED-TO:fmf-AFLABS-URNIK:srecanje:5442
X-WR-TIMEZONE:Europe/Ljubljana
END:VEVENT
BEGIN:VEVENT
SUMMARY:Matematika IV (FIZ-2)\, Predavanja (P)
DTSTART;TZID=Europe/Ljubljana:20210520T080000
DTEND;TZID=Europe/Ljubljana:20210520T100000
DTSTAMP:20260420T051057Z
UID:fmf-AFLABS-URNIK:premaknjeno-srecanje:66695
ATTENDEE:2. letnik (Fizika, 1. stopnja)
CATEGORIES:Entry,Standard
COLOR:darkgreen
DESCRIPTION:Predmet: Matematika IV (FIZ-2)\, Predavanja (P)\nLetniki: 2. l
 etnik (Fizika\, 1. stopnja)\nIzvajalci: Marko Kandić\nProstor: F1
LOCATION:F1
ORGANIZER:Marko Kandić
RELATED-TO:fmf-AFLABS-URNIK:srecanje:5716
X-WR-TIMEZONE:Europe/Ljubljana
END:VEVENT
BEGIN:VEVENT
SUMMARY:Matematika IV (FIZ-2)\, Predavanja (P)
DTSTART;TZID=Europe/Ljubljana:20210527T080000
DTEND;TZID=Europe/Ljubljana:20210527T100000
DTSTAMP:20260420T051057Z
UID:fmf-AFLABS-URNIK:premaknjeno-srecanje:66696
ATTENDEE:2. letnik (Fizika, 1. stopnja)
CATEGORIES:Entry,Standard
COLOR:darkgreen
DESCRIPTION:Predmet: Matematika IV (FIZ-2)\, Predavanja (P)\nLetniki: 2. l
 etnik (Fizika\, 1. stopnja)\nIzvajalci: Marko Kandić\nProstor: F1
LOCATION:F1
ORGANIZER:Marko Kandić
RELATED-TO:fmf-AFLABS-URNIK:srecanje:5716
X-WR-TIMEZONE:Europe/Ljubljana
END:VEVENT
BEGIN:VEVENT
SUMMARY:RG ()\, Ostalo (O)
DTSTART;TZID=Europe/Ljubljana:20210521T120000
DTEND;TZID=Europe/Ljubljana:20210521T140000
DTSTAMP:20260420T051057Z
UID:fmf-AFLABS-URNIK:premaknjeno-srecanje:90621
CATEGORIES:Entry,Standard
COLOR:darkgreen
DESCRIPTION:Predmet: RG ()\, Ostalo (O)\nLetniki: \nIzvajalci: Marko Kandi
 ć\, Aleš Vavpetič\nProstor: None
ORGANIZER:Marko Kandić, Aleš Vavpetič
RELATED-TO:fmf-AFLABS-URNIK:srecanje:5845
X-WR-TIMEZONE:Europe/Ljubljana
END:VEVENT
BEGIN:VEVENT
SUMMARY:RG ()\, Ostalo (O)
DTSTART;TZID=Europe/Ljubljana:20210528T120000
DTEND;TZID=Europe/Ljubljana:20210528T140000
DTSTAMP:20260420T051057Z
UID:fmf-AFLABS-URNIK:premaknjeno-srecanje:90622
CATEGORIES:Entry,Standard
COLOR:darkgreen
DESCRIPTION:Predmet: RG ()\, Ostalo (O)\nLetniki: \nIzvajalci: Marko Kandi
 ć\, Aleš Vavpetič\nProstor: None
ORGANIZER:Marko Kandić, Aleš Vavpetič
RELATED-TO:fmf-AFLABS-URNIK:srecanje:5845
X-WR-TIMEZONE:Europe/Ljubljana
END:VEVENT
BEGIN:VEVENT
SUMMARY:Rezervacija
DTSTART;TZID=Europe/Ljubljana:20210519T160000
DTEND;TZID=Europe/Ljubljana:20210519T180000
DTSTAMP:20260420T051057Z
UID:fmf-AFLABS-URNIK:rezervacija:6646
CATEGORIES:Reservation
COLOR:royalblue
DESCRIPTION:Predmeti: \nLetniki: \nIzvajalci: Marko Kandić\, Aleš Vavpet
 ič\nProstori: 2.01\, 2.05
LOCATION:2.01\, 2.05
ORGANIZER:Marko Kandić, Aleš Vavpetič
X-WR-TIMEZONE:Europe/Ljubljana
END:VEVENT
BEGIN:VEVENT
SUMMARY:Rezervacija
DTSTART;TZID=Europe/Ljubljana:20210521T170000
DTEND;TZID=Europe/Ljubljana:20210521T200000
DTSTAMP:20260420T051057Z
UID:fmf-AFLABS-URNIK:rezervacija:6653
ATTENDEE:2. letnik (Fizika, 1. stopnja)
CATEGORIES:Reservation
COLOR:royalblue
DESCRIPTION:Predmeti: Matematika IV (FIZ-2)\nLetniki: 2. letnik (Fizika\, 
 1. stopnja)\nIzvajalci: Mojca Avbelj Korošec\, Marko Kandić\nProstori: 2
 .01
LOCATION:2.01
ORGANIZER:Mojca Avbelj Korošec, Marko Kandić
X-WR-TIMEZONE:Europe/Ljubljana
END:VEVENT
BEGIN:VEVENT
SUMMARY:Rezervacija
DTSTART;TZID=Europe/Ljubljana:20210521T170000
DTEND;TZID=Europe/Ljubljana:20210521T200000
DTSTAMP:20260420T051057Z
UID:fmf-AFLABS-URNIK:rezervacija:6654
ATTENDEE:2. letnik (Fizika, 1. stopnja)
CATEGORIES:Reservation
COLOR:royalblue
DESCRIPTION:Predmeti: Matematika IV (FIZ-2)\nLetniki: 2. letnik (Fizika\, 
 1. stopnja)\nIzvajalci: Mojca Avbelj Korošec\, Marko Kandić\nProstori: 2
 .05
LOCATION:2.05
ORGANIZER:Mojca Avbelj Korošec, Marko Kandić
X-WR-TIMEZONE:Europe/Ljubljana
END:VEVENT
BEGIN:VEVENT
SUMMARY:Rezervacija
DTSTART;TZID=Europe/Ljubljana:20210526T160000
DTEND;TZID=Europe/Ljubljana:20210526T180000
DTSTAMP:20260420T051057Z
UID:fmf-AFLABS-URNIK:rezervacija:6671
CATEGORIES:Reservation
COLOR:royalblue
DESCRIPTION:Predmeti: \nLetniki: \nIzvajalci: Gregor Cigler\, Marko Kandi
 ć\nProstori: 2.01\, 2.05
LOCATION:2.01\, 2.05
ORGANIZER:Gregor Cigler, Marko Kandić
X-WR-TIMEZONE:Europe/Ljubljana
END:VEVENT
BEGIN:VEVENT
SUMMARY:Rezervacija
DTSTART;TZID=Europe/Ljubljana:20210604T120000
DTEND;TZID=Europe/Ljubljana:20210604T150000
DTSTAMP:20260420T051057Z
UID:fmf-AFLABS-URNIK:rezervacija:6748
CATEGORIES:Reservation
COLOR:royalblue
DESCRIPTION:Predmeti: \nLetniki: \nIzvajalci: Gregor Cigler\, Marko Kandi
 ć\, Sašo Strle\nProstori: 2.01\, 2.05
LOCATION:2.01\, 2.05
ORGANIZER:Gregor Cigler, Marko Kandić, Sašo Strle
X-WR-TIMEZONE:Europe/Ljubljana
END:VEVENT
BEGIN:VEVENT
SUMMARY:Rezervacija
DTSTART;TZID=Europe/Ljubljana:20210614T130000
DTEND;TZID=Europe/Ljubljana:20210614T160000
DTSTAMP:20260420T051057Z
UID:fmf-AFLABS-URNIK:rezervacija:6870
CATEGORIES:Reservation
COLOR:royalblue
DESCRIPTION:Predmeti: \nLetniki: \nIzvajalci: Marko Kandić\, Aleš Vavpet
 ič\nProstori: 2.01\, 2.05
LOCATION:2.01\, 2.05
ORGANIZER:Marko Kandić, Aleš Vavpetič
X-WR-TIMEZONE:Europe/Ljubljana
END:VEVENT
BEGIN:VEVENT
SUMMARY:Rezervacija
DTSTART;TZID=Europe/Ljubljana:20210616T140000
DTEND;TZID=Europe/Ljubljana:20210616T160000
DTSTAMP:20260420T051057Z
UID:fmf-AFLABS-URNIK:rezervacija:6919
CATEGORIES:Reservation
COLOR:royalblue
DESCRIPTION:Predmeti: \nLetniki: \nIzvajalci: Marko Kandić\nProstori: 3.0
 5
LOCATION:3.05
ORGANIZER:Marko Kandić
X-WR-TIMEZONE:Europe/Ljubljana
END:VEVENT
BEGIN:VEVENT
SUMMARY:Rezervacija
DTSTART;TZID=Europe/Ljubljana:20210621T110000
DTEND;TZID=Europe/Ljubljana:20210621T130000
DTSTAMP:20260420T051057Z
UID:fmf-AFLABS-URNIK:rezervacija:6986
CATEGORIES:Reservation
COLOR:royalblue
DESCRIPTION:Predmeti: \nLetniki: \nIzvajalci: Marko Kandić\nProstori: VFP
LOCATION:VFP
ORGANIZER:Marko Kandić
X-WR-TIMEZONE:Europe/Ljubljana
END:VEVENT
BEGIN:VEVENT
SUMMARY:Rezervacija
DTSTART;TZID=Europe/Ljubljana:20210624T120000
DTEND;TZID=Europe/Ljubljana:20210624T150000
DTSTAMP:20260420T051057Z
UID:fmf-AFLABS-URNIK:rezervacija:7059
CATEGORIES:Reservation
COLOR:royalblue
DESCRIPTION:Predmeti: \nLetniki: \nIzvajalci: Gregor Cigler\, Marko Kandi
 ć\nProstori: 2.01\, 2.05
LOCATION:2.01\, 2.05
ORGANIZER:Gregor Cigler, Marko Kandić
X-WR-TIMEZONE:Europe/Ljubljana
END:VEVENT
BEGIN:VEVENT
SUMMARY:Rezervacija
DTSTART;TZID=Europe/Ljubljana:20210628T150000
DTEND;TZID=Europe/Ljubljana:20210628T170000
DTSTAMP:20260420T051057Z
UID:fmf-AFLABS-URNIK:rezervacija:7085
CATEGORIES:Reservation
COLOR:royalblue
DESCRIPTION:Predmeti: \nLetniki: \nIzvajalci: Marko Kandić\nProstori: VFP
LOCATION:VFP
ORGANIZER:Marko Kandić
X-WR-TIMEZONE:Europe/Ljubljana
END:VEVENT
BEGIN:VEVENT
SUMMARY:Rezervacija
DTSTART;TZID=Europe/Ljubljana:20210705T100000
DTEND;TZID=Europe/Ljubljana:20210705T120000
DTSTAMP:20260420T051057Z
UID:fmf-AFLABS-URNIK:rezervacija:7228
CATEGORIES:Reservation
COLOR:royalblue
DESCRIPTION:Predmeti: \nLetniki: \nIzvajalci: Marko Kandić\nProstori: 3.0
 4
LOCATION:3.04
ORGANIZER:Marko Kandić
X-WR-TIMEZONE:Europe/Ljubljana
END:VEVENT
END:VCALENDAR
