BEGIN:VCALENDAR
VERSION:2.0
PRODID:-//AFLabs urnik izvoz - fmf//aflabs.si//SI
DTSTAMP:20260419T160247Z
NAME:UL FMF urnik
REFRESH-INTERVAL:PT1H
SOURCE:https://urnik.fmf.uni-lj.si/teacher/68?day=2025-04-07&export=1
URL:https://urnik.fmf.uni-lj.si/teacher/68?day=2025-04-07&export=1
X-PUBLISHED-TTL:PT1H
X-WR-CALNAME:UL FMF urnik
X-WR-TIMEZONE:Europe/Ljubljana
BEGIN:VTIMEZONE
TZID:Europe/Ljubljana
BEGIN:DAYLIGHT
DTSTART:20260329T020000
RDATE:20260329T020000
RDATE:20270328T020000
TZNAME:CEST
TZOFFSETFROM:+0100
TZOFFSETTO:+0200
END:DAYLIGHT
BEGIN:STANDARD
DTSTART:20261025T030000
RDATE:20261025T030000
RDATE:20271031T030000
TZNAME:CET
TZOFFSETFROM:+0200
TZOFFSETTO:+0100
END:STANDARD
END:VTIMEZONE
BEGIN:VEVENT
SUMMARY:Izbrana poglavja iz analize (MAT-D)\, Predavanja (P)
DTSTART;TZID=Europe/Ljubljana:20250218T140000
DTEND;TZID=Europe/Ljubljana:20250218T160000
DTSTAMP:20260419T160247Z
UID:fmf-AFLABS-URNIK:premaknjeno-srecanje:210584
ATTENDEE:doktorski študij (M)
CATEGORIES:Entry,Standard
COLOR:darkgreen
DESCRIPTION:Predmet: Izbrana poglavja iz analize (MAT-D)\, Predavanja (P)\
 nLetniki: doktorski študij (M)\nIzvajalci: Marko Kandić\nProstor: 3.06
LOCATION:3.06
ORGANIZER:Marko Kandić
RELATED-TO:fmf-AFLABS-URNIK:srecanje:15407
X-WR-TIMEZONE:Europe/Ljubljana
END:VEVENT
BEGIN:VEVENT
SUMMARY:Izbrana poglavja iz analize (MAT-D)\, Predavanja (P)
DTSTART;TZID=Europe/Ljubljana:20250225T140000
DTEND;TZID=Europe/Ljubljana:20250225T160000
DTSTAMP:20260419T160247Z
UID:fmf-AFLABS-URNIK:premaknjeno-srecanje:210585
ATTENDEE:doktorski študij (M)
CATEGORIES:Entry,Standard
COLOR:darkgreen
DESCRIPTION:Predmet: Izbrana poglavja iz analize (MAT-D)\, Predavanja (P)\
 nLetniki: doktorski študij (M)\nIzvajalci: Marko Kandić\nProstor: 3.06
LOCATION:3.06
ORGANIZER:Marko Kandić
RELATED-TO:fmf-AFLABS-URNIK:srecanje:15407
X-WR-TIMEZONE:Europe/Ljubljana
END:VEVENT
BEGIN:VEVENT
SUMMARY:Izbrana poglavja iz analize (MAT-D)\, Predavanja (P)
DTSTART;TZID=Europe/Ljubljana:20250304T140000
DTEND;TZID=Europe/Ljubljana:20250304T160000
DTSTAMP:20260419T160247Z
UID:fmf-AFLABS-URNIK:premaknjeno-srecanje:210586
ATTENDEE:doktorski študij (M)
CATEGORIES:Entry,Standard
COLOR:darkgreen
DESCRIPTION:Predmet: Izbrana poglavja iz analize (MAT-D)\, Predavanja (P)\
 nLetniki: doktorski študij (M)\nIzvajalci: Marko Kandić\nProstor: 3.06
LOCATION:3.06
ORGANIZER:Marko Kandić
RELATED-TO:fmf-AFLABS-URNIK:srecanje:15407
X-WR-TIMEZONE:Europe/Ljubljana
END:VEVENT
BEGIN:VEVENT
SUMMARY:Izbrana poglavja iz analize (MAT-D)\, Predavanja (P)
DTSTART;TZID=Europe/Ljubljana:20250311T140000
DTEND;TZID=Europe/Ljubljana:20250311T160000
DTSTAMP:20260419T160247Z
UID:fmf-AFLABS-URNIK:premaknjeno-srecanje:210587
ATTENDEE:doktorski študij (M)
CATEGORIES:Entry,Standard
COLOR:darkgreen
DESCRIPTION:Predmet: Izbrana poglavja iz analize (MAT-D)\, Predavanja (P)\
 nLetniki: doktorski študij (M)\nIzvajalci: Marko Kandić\nProstor: 3.06
LOCATION:3.06
ORGANIZER:Marko Kandić
RELATED-TO:fmf-AFLABS-URNIK:srecanje:15407
X-WR-TIMEZONE:Europe/Ljubljana
END:VEVENT
BEGIN:VEVENT
SUMMARY:Izbrana poglavja iz analize (MAT-D)\, Predavanja (P)
DTSTART;TZID=Europe/Ljubljana:20250318T140000
DTEND;TZID=Europe/Ljubljana:20250318T160000
DTSTAMP:20260419T160247Z
UID:fmf-AFLABS-URNIK:premaknjeno-srecanje:210588
ATTENDEE:doktorski študij (M)
CATEGORIES:Entry,Standard
COLOR:darkgreen
DESCRIPTION:Predmet: Izbrana poglavja iz analize (MAT-D)\, Predavanja (P)\
 nLetniki: doktorski študij (M)\nIzvajalci: Marko Kandić\nProstor: 3.06
LOCATION:3.06
ORGANIZER:Marko Kandić
RELATED-TO:fmf-AFLABS-URNIK:srecanje:15407
X-WR-TIMEZONE:Europe/Ljubljana
END:VEVENT
BEGIN:VEVENT
SUMMARY:Izbrana poglavja iz analize (MAT-D)\, Predavanja (P)
DTSTART;TZID=Europe/Ljubljana:20250325T140000
DTEND;TZID=Europe/Ljubljana:20250325T160000
DTSTAMP:20260419T160247Z
UID:fmf-AFLABS-URNIK:premaknjeno-srecanje:210589
ATTENDEE:doktorski študij (M)
CATEGORIES:Entry,Standard
COLOR:darkgreen
DESCRIPTION:Predmet: Izbrana poglavja iz analize (MAT-D)\, Predavanja (P)\
 nLetniki: doktorski študij (M)\nIzvajalci: Marko Kandić\nProstor: 3.06
LOCATION:3.06
ORGANIZER:Marko Kandić
RELATED-TO:fmf-AFLABS-URNIK:srecanje:15407
X-WR-TIMEZONE:Europe/Ljubljana
END:VEVENT
BEGIN:VEVENT
SUMMARY:Izbrana poglavja iz analize (MAT-D)\, Predavanja (P)
DTSTART;TZID=Europe/Ljubljana:20250401T140000
DTEND;TZID=Europe/Ljubljana:20250401T160000
DTSTAMP:20260419T160247Z
UID:fmf-AFLABS-URNIK:premaknjeno-srecanje:210590
ATTENDEE:doktorski študij (M)
CATEGORIES:Entry,Standard
COLOR:darkgreen
DESCRIPTION:Predmet: Izbrana poglavja iz analize (MAT-D)\, Predavanja (P)\
 nLetniki: doktorski študij (M)\nIzvajalci: Marko Kandić\nProstor: 3.06
LOCATION:3.06
ORGANIZER:Marko Kandić
RELATED-TO:fmf-AFLABS-URNIK:srecanje:15407
X-WR-TIMEZONE:Europe/Ljubljana
END:VEVENT
BEGIN:VEVENT
SUMMARY:Izbrana poglavja iz analize (MAT-D)\, Predavanja (P)
DTSTART;TZID=Europe/Ljubljana:20250408T140000
DTEND;TZID=Europe/Ljubljana:20250408T160000
DTSTAMP:20260419T160247Z
UID:fmf-AFLABS-URNIK:premaknjeno-srecanje:210591
ATTENDEE:doktorski študij (M)
CATEGORIES:Entry,Standard
COLOR:darkgreen
DESCRIPTION:Predmet: Izbrana poglavja iz analize (MAT-D)\, Predavanja (P)\
 nLetniki: doktorski študij (M)\nIzvajalci: Marko Kandić\nProstor: 3.06
LOCATION:3.06
ORGANIZER:Marko Kandić
RELATED-TO:fmf-AFLABS-URNIK:srecanje:15407
X-WR-TIMEZONE:Europe/Ljubljana
END:VEVENT
BEGIN:VEVENT
SUMMARY:Izbrana poglavja iz analize (MAT-D)\, Predavanja (P)
DTSTART;TZID=Europe/Ljubljana:20250415T140000
DTEND;TZID=Europe/Ljubljana:20250415T160000
DTSTAMP:20260419T160247Z
UID:fmf-AFLABS-URNIK:premaknjeno-srecanje:210592
ATTENDEE:doktorski študij (M)
CATEGORIES:Entry,Standard
COLOR:darkgreen
DESCRIPTION:Predmet: Izbrana poglavja iz analize (MAT-D)\, Predavanja (P)\
 nLetniki: doktorski študij (M)\nIzvajalci: Marko Kandić\nProstor: 3.06
LOCATION:3.06
ORGANIZER:Marko Kandić
RELATED-TO:fmf-AFLABS-URNIK:srecanje:15407
X-WR-TIMEZONE:Europe/Ljubljana
END:VEVENT
BEGIN:VEVENT
SUMMARY:Izbrana poglavja iz analize (MAT-D)\, Predavanja (P)
DTSTART;TZID=Europe/Ljubljana:20250422T140000
DTEND;TZID=Europe/Ljubljana:20250422T160000
DTSTAMP:20260419T160247Z
UID:fmf-AFLABS-URNIK:premaknjeno-srecanje:210593
ATTENDEE:doktorski študij (M)
CATEGORIES:Entry,Standard
COLOR:darkgreen
DESCRIPTION:Predmet: Izbrana poglavja iz analize (MAT-D)\, Predavanja (P)\
 nLetniki: doktorski študij (M)\nIzvajalci: Marko Kandić\nProstor: 3.06
LOCATION:3.06
ORGANIZER:Marko Kandić
RELATED-TO:fmf-AFLABS-URNIK:srecanje:15407
X-WR-TIMEZONE:Europe/Ljubljana
END:VEVENT
BEGIN:VEVENT
SUMMARY:Izbrana poglavja iz analize (MAT-D)\, Predavanja (P)
DTSTART;TZID=Europe/Ljubljana:20250429T140000
DTEND;TZID=Europe/Ljubljana:20250429T160000
DTSTAMP:20260419T160247Z
UID:fmf-AFLABS-URNIK:premaknjeno-srecanje:210594
ATTENDEE:doktorski študij (M)
CATEGORIES:Entry,Standard
COLOR:darkgreen
DESCRIPTION:Predmet: Izbrana poglavja iz analize (MAT-D)\, Predavanja (P)\
 nLetniki: doktorski študij (M)\nIzvajalci: Marko Kandić\nProstor: 3.06
LOCATION:3.06
ORGANIZER:Marko Kandić
RELATED-TO:fmf-AFLABS-URNIK:srecanje:15407
X-WR-TIMEZONE:Europe/Ljubljana
END:VEVENT
BEGIN:VEVENT
SUMMARY:Izbrana poglavja iz analize (MAT-D)\, Predavanja (P)
DTSTART;TZID=Europe/Ljubljana:20250506T140000
DTEND;TZID=Europe/Ljubljana:20250506T160000
DTSTAMP:20260419T160247Z
UID:fmf-AFLABS-URNIK:premaknjeno-srecanje:210595
ATTENDEE:doktorski študij (M)
CATEGORIES:Entry,Standard
COLOR:darkgreen
DESCRIPTION:Predmet: Izbrana poglavja iz analize (MAT-D)\, Predavanja (P)\
 nLetniki: doktorski študij (M)\nIzvajalci: Marko Kandić\nProstor: 3.06
LOCATION:3.06
ORGANIZER:Marko Kandić
RELATED-TO:fmf-AFLABS-URNIK:srecanje:15407
X-WR-TIMEZONE:Europe/Ljubljana
END:VEVENT
BEGIN:VEVENT
SUMMARY:Izbrana poglavja iz analize (MAT-D)\, Predavanja (P)
DTSTART;TZID=Europe/Ljubljana:20250513T140000
DTEND;TZID=Europe/Ljubljana:20250513T160000
DTSTAMP:20260419T160247Z
UID:fmf-AFLABS-URNIK:premaknjeno-srecanje:210596
ATTENDEE:doktorski študij (M)
CATEGORIES:Entry,Standard
COLOR:darkgreen
DESCRIPTION:Predmet: Izbrana poglavja iz analize (MAT-D)\, Predavanja (P)\
 nLetniki: doktorski študij (M)\nIzvajalci: Marko Kandić\nProstor: 3.06
LOCATION:3.06
ORGANIZER:Marko Kandić
RELATED-TO:fmf-AFLABS-URNIK:srecanje:15407
X-WR-TIMEZONE:Europe/Ljubljana
END:VEVENT
BEGIN:VEVENT
SUMMARY:Izbrana poglavja iz analize (MAT-D)\, Predavanja (P)
DTSTART;TZID=Europe/Ljubljana:20250520T140000
DTEND;TZID=Europe/Ljubljana:20250520T160000
DTSTAMP:20260419T160247Z
UID:fmf-AFLABS-URNIK:premaknjeno-srecanje:210597
ATTENDEE:doktorski študij (M)
CATEGORIES:Entry,Standard
COLOR:darkgreen
DESCRIPTION:Predmet: Izbrana poglavja iz analize (MAT-D)\, Predavanja (P)\
 nLetniki: doktorski študij (M)\nIzvajalci: Marko Kandić\nProstor: 3.06
LOCATION:3.06
ORGANIZER:Marko Kandić
RELATED-TO:fmf-AFLABS-URNIK:srecanje:15407
X-WR-TIMEZONE:Europe/Ljubljana
END:VEVENT
BEGIN:VEVENT
SUMMARY:Izbrana poglavja iz analize (MAT-D)\, Predavanja (P)
DTSTART;TZID=Europe/Ljubljana:20250527T140000
DTEND;TZID=Europe/Ljubljana:20250527T160000
DTSTAMP:20260419T160247Z
UID:fmf-AFLABS-URNIK:premaknjeno-srecanje:210598
ATTENDEE:doktorski študij (M)
CATEGORIES:Entry,Standard
COLOR:darkgreen
DESCRIPTION:Predmet: Izbrana poglavja iz analize (MAT-D)\, Predavanja (P)\
 nLetniki: doktorski študij (M)\nIzvajalci: Marko Kandić\nProstor: 3.06
LOCATION:3.06
ORGANIZER:Marko Kandić
RELATED-TO:fmf-AFLABS-URNIK:srecanje:15407
X-WR-TIMEZONE:Europe/Ljubljana
END:VEVENT
BEGIN:VEVENT
SUMMARY:Izbrana poglavja iz analize (MAT-D)\, Predavanja (P)
DTSTART;TZID=Europe/Ljubljana:20250603T140000
DTEND;TZID=Europe/Ljubljana:20250603T160000
DTSTAMP:20260419T160247Z
UID:fmf-AFLABS-URNIK:premaknjeno-srecanje:210599
ATTENDEE:doktorski študij (M)
CATEGORIES:Entry,Standard
COLOR:darkgreen
DESCRIPTION:Predmet: Izbrana poglavja iz analize (MAT-D)\, Predavanja (P)\
 nLetniki: doktorski študij (M)\nIzvajalci: Marko Kandić\nProstor: 3.06
LOCATION:3.06
ORGANIZER:Marko Kandić
RELATED-TO:fmf-AFLABS-URNIK:srecanje:15407
X-WR-TIMEZONE:Europe/Ljubljana
END:VEVENT
BEGIN:VEVENT
SUMMARY:RG ()\, Ostalo (O)
DTSTART;TZID=Europe/Ljubljana:20250221T120000
DTEND;TZID=Europe/Ljubljana:20250221T140000
DTSTAMP:20260419T160247Z
UID:fmf-AFLABS-URNIK:premaknjeno-srecanje:205512
CATEGORIES:Entry,Standard
COLOR:darkgreen
DESCRIPTION:Predmet: RG ()\, Ostalo (O)\nLetniki: \nIzvajalci: Marko Kandi
 ć\, Aleš Vavpetič\nProstor: None
ORGANIZER:Marko Kandić, Aleš Vavpetič
RELATED-TO:fmf-AFLABS-URNIK:srecanje:15157
X-WR-TIMEZONE:Europe/Ljubljana
END:VEVENT
BEGIN:VEVENT
SUMMARY:RG ()\, Ostalo (O)
DTSTART;TZID=Europe/Ljubljana:20250228T120000
DTEND;TZID=Europe/Ljubljana:20250228T140000
DTSTAMP:20260419T160247Z
UID:fmf-AFLABS-URNIK:premaknjeno-srecanje:205513
CATEGORIES:Entry,Standard
COLOR:darkgreen
DESCRIPTION:Predmet: RG ()\, Ostalo (O)\nLetniki: \nIzvajalci: Marko Kandi
 ć\, Aleš Vavpetič\nProstor: None
ORGANIZER:Marko Kandić, Aleš Vavpetič
RELATED-TO:fmf-AFLABS-URNIK:srecanje:15157
X-WR-TIMEZONE:Europe/Ljubljana
END:VEVENT
BEGIN:VEVENT
SUMMARY:RG ()\, Ostalo (O)
DTSTART;TZID=Europe/Ljubljana:20250307T120000
DTEND;TZID=Europe/Ljubljana:20250307T140000
DTSTAMP:20260419T160247Z
UID:fmf-AFLABS-URNIK:premaknjeno-srecanje:205514
CATEGORIES:Entry,Standard
COLOR:darkgreen
DESCRIPTION:Predmet: RG ()\, Ostalo (O)\nLetniki: \nIzvajalci: Marko Kandi
 ć\, Aleš Vavpetič\nProstor: None
ORGANIZER:Marko Kandić, Aleš Vavpetič
RELATED-TO:fmf-AFLABS-URNIK:srecanje:15157
X-WR-TIMEZONE:Europe/Ljubljana
END:VEVENT
BEGIN:VEVENT
SUMMARY:RG ()\, Ostalo (O)
DTSTART;TZID=Europe/Ljubljana:20250314T120000
DTEND;TZID=Europe/Ljubljana:20250314T140000
DTSTAMP:20260419T160247Z
UID:fmf-AFLABS-URNIK:premaknjeno-srecanje:205515
CATEGORIES:Entry,Standard
COLOR:darkgreen
DESCRIPTION:Predmet: RG ()\, Ostalo (O)\nLetniki: \nIzvajalci: Marko Kandi
 ć\, Aleš Vavpetič\nProstor: None
ORGANIZER:Marko Kandić, Aleš Vavpetič
RELATED-TO:fmf-AFLABS-URNIK:srecanje:15157
X-WR-TIMEZONE:Europe/Ljubljana
END:VEVENT
BEGIN:VEVENT
SUMMARY:RG ()\, Ostalo (O)
DTSTART;TZID=Europe/Ljubljana:20250321T120000
DTEND;TZID=Europe/Ljubljana:20250321T140000
DTSTAMP:20260419T160247Z
UID:fmf-AFLABS-URNIK:premaknjeno-srecanje:205516
CATEGORIES:Entry,Standard
COLOR:darkgreen
DESCRIPTION:Predmet: RG ()\, Ostalo (O)\nLetniki: \nIzvajalci: Marko Kandi
 ć\, Aleš Vavpetič\nProstor: None
ORGANIZER:Marko Kandić, Aleš Vavpetič
RELATED-TO:fmf-AFLABS-URNIK:srecanje:15157
X-WR-TIMEZONE:Europe/Ljubljana
END:VEVENT
BEGIN:VEVENT
SUMMARY:RG ()\, Ostalo (O)
DTSTART;TZID=Europe/Ljubljana:20250328T120000
DTEND;TZID=Europe/Ljubljana:20250328T140000
DTSTAMP:20260419T160247Z
UID:fmf-AFLABS-URNIK:premaknjeno-srecanje:205517
CATEGORIES:Entry,Standard
COLOR:darkgreen
DESCRIPTION:Predmet: RG ()\, Ostalo (O)\nLetniki: \nIzvajalci: Marko Kandi
 ć\, Aleš Vavpetič\nProstor: None
ORGANIZER:Marko Kandić, Aleš Vavpetič
RELATED-TO:fmf-AFLABS-URNIK:srecanje:15157
X-WR-TIMEZONE:Europe/Ljubljana
END:VEVENT
BEGIN:VEVENT
SUMMARY:RG ()\, Ostalo (O)
DTSTART;TZID=Europe/Ljubljana:20250404T120000
DTEND;TZID=Europe/Ljubljana:20250404T140000
DTSTAMP:20260419T160247Z
UID:fmf-AFLABS-URNIK:premaknjeno-srecanje:205518
CATEGORIES:Entry,Standard
COLOR:darkgreen
DESCRIPTION:Predmet: RG ()\, Ostalo (O)\nLetniki: \nIzvajalci: Marko Kandi
 ć\, Aleš Vavpetič\nProstor: None
ORGANIZER:Marko Kandić, Aleš Vavpetič
RELATED-TO:fmf-AFLABS-URNIK:srecanje:15157
X-WR-TIMEZONE:Europe/Ljubljana
END:VEVENT
BEGIN:VEVENT
SUMMARY:RG ()\, Ostalo (O)
DTSTART;TZID=Europe/Ljubljana:20250411T120000
DTEND;TZID=Europe/Ljubljana:20250411T140000
DTSTAMP:20260419T160247Z
UID:fmf-AFLABS-URNIK:premaknjeno-srecanje:205519
CATEGORIES:Entry,Standard
COLOR:darkgreen
DESCRIPTION:Predmet: RG ()\, Ostalo (O)\nLetniki: \nIzvajalci: Marko Kandi
 ć\, Aleš Vavpetič\nProstor: None
ORGANIZER:Marko Kandić, Aleš Vavpetič
RELATED-TO:fmf-AFLABS-URNIK:srecanje:15157
X-WR-TIMEZONE:Europe/Ljubljana
END:VEVENT
BEGIN:VEVENT
SUMMARY:RG ()\, Ostalo (O)
DTSTART;TZID=Europe/Ljubljana:20250418T120000
DTEND;TZID=Europe/Ljubljana:20250418T140000
DTSTAMP:20260419T160247Z
UID:fmf-AFLABS-URNIK:premaknjeno-srecanje:205520
CATEGORIES:Entry,Standard
COLOR:darkgreen
DESCRIPTION:Predmet: RG ()\, Ostalo (O)\nLetniki: \nIzvajalci: Marko Kandi
 ć\, Aleš Vavpetič\nProstor: None
ORGANIZER:Marko Kandić, Aleš Vavpetič
RELATED-TO:fmf-AFLABS-URNIK:srecanje:15157
X-WR-TIMEZONE:Europe/Ljubljana
END:VEVENT
BEGIN:VEVENT
SUMMARY:RG ()\, Ostalo (O)
DTSTART;TZID=Europe/Ljubljana:20250425T120000
DTEND;TZID=Europe/Ljubljana:20250425T140000
DTSTAMP:20260419T160247Z
UID:fmf-AFLABS-URNIK:premaknjeno-srecanje:205521
CATEGORIES:Entry,Standard
COLOR:darkgreen
DESCRIPTION:Predmet: RG ()\, Ostalo (O)\nLetniki: \nIzvajalci: Marko Kandi
 ć\, Aleš Vavpetič\nProstor: None
ORGANIZER:Marko Kandić, Aleš Vavpetič
RELATED-TO:fmf-AFLABS-URNIK:srecanje:15157
X-WR-TIMEZONE:Europe/Ljubljana
END:VEVENT
BEGIN:VEVENT
SUMMARY:RG ()\, Ostalo (O)
DTSTART;TZID=Europe/Ljubljana:20250502T120000
DTEND;TZID=Europe/Ljubljana:20250502T140000
DTSTAMP:20260419T160247Z
UID:fmf-AFLABS-URNIK:premaknjeno-srecanje:205522
CATEGORIES:Entry,Standard
COLOR:darkgreen
DESCRIPTION:Predmet: RG ()\, Ostalo (O)\nLetniki: \nIzvajalci: Marko Kandi
 ć\, Aleš Vavpetič\nProstor: None
ORGANIZER:Marko Kandić, Aleš Vavpetič
RELATED-TO:fmf-AFLABS-URNIK:srecanje:15157
X-WR-TIMEZONE:Europe/Ljubljana
END:VEVENT
BEGIN:VEVENT
SUMMARY:RG ()\, Ostalo (O)
DTSTART;TZID=Europe/Ljubljana:20250509T120000
DTEND;TZID=Europe/Ljubljana:20250509T140000
DTSTAMP:20260419T160247Z
UID:fmf-AFLABS-URNIK:premaknjeno-srecanje:205523
CATEGORIES:Entry,Standard
COLOR:darkgreen
DESCRIPTION:Predmet: RG ()\, Ostalo (O)\nLetniki: \nIzvajalci: Marko Kandi
 ć\, Aleš Vavpetič\nProstor: None
ORGANIZER:Marko Kandić, Aleš Vavpetič
RELATED-TO:fmf-AFLABS-URNIK:srecanje:15157
X-WR-TIMEZONE:Europe/Ljubljana
END:VEVENT
BEGIN:VEVENT
SUMMARY:RG ()\, Ostalo (O)
DTSTART;TZID=Europe/Ljubljana:20250516T120000
DTEND;TZID=Europe/Ljubljana:20250516T140000
DTSTAMP:20260419T160247Z
UID:fmf-AFLABS-URNIK:premaknjeno-srecanje:205524
CATEGORIES:Entry,Standard
COLOR:darkgreen
DESCRIPTION:Predmet: RG ()\, Ostalo (O)\nLetniki: \nIzvajalci: Marko Kandi
 ć\, Aleš Vavpetič\nProstor: None
ORGANIZER:Marko Kandić, Aleš Vavpetič
RELATED-TO:fmf-AFLABS-URNIK:srecanje:15157
X-WR-TIMEZONE:Europe/Ljubljana
END:VEVENT
BEGIN:VEVENT
SUMMARY:RG ()\, Ostalo (O)
DTSTART;TZID=Europe/Ljubljana:20250523T120000
DTEND;TZID=Europe/Ljubljana:20250523T140000
DTSTAMP:20260419T160247Z
UID:fmf-AFLABS-URNIK:premaknjeno-srecanje:205525
CATEGORIES:Entry,Standard
COLOR:darkgreen
DESCRIPTION:Predmet: RG ()\, Ostalo (O)\nLetniki: \nIzvajalci: Marko Kandi
 ć\, Aleš Vavpetič\nProstor: None
ORGANIZER:Marko Kandić, Aleš Vavpetič
RELATED-TO:fmf-AFLABS-URNIK:srecanje:15157
X-WR-TIMEZONE:Europe/Ljubljana
END:VEVENT
BEGIN:VEVENT
SUMMARY:RG ()\, Ostalo (O)
DTSTART;TZID=Europe/Ljubljana:20250530T120000
DTEND;TZID=Europe/Ljubljana:20250530T140000
DTSTAMP:20260419T160247Z
UID:fmf-AFLABS-URNIK:premaknjeno-srecanje:205526
CATEGORIES:Entry,Standard
COLOR:darkgreen
DESCRIPTION:Predmet: RG ()\, Ostalo (O)\nLetniki: \nIzvajalci: Marko Kandi
 ć\, Aleš Vavpetič\nProstor: None
ORGANIZER:Marko Kandić, Aleš Vavpetič
RELATED-TO:fmf-AFLABS-URNIK:srecanje:15157
X-WR-TIMEZONE:Europe/Ljubljana
END:VEVENT
BEGIN:VEVENT
SUMMARY:RG ()\, Ostalo (O)
DTSTART;TZID=Europe/Ljubljana:20250606T120000
DTEND;TZID=Europe/Ljubljana:20250606T140000
DTSTAMP:20260419T160247Z
UID:fmf-AFLABS-URNIK:premaknjeno-srecanje:205527
CATEGORIES:Entry,Standard
COLOR:darkgreen
DESCRIPTION:Predmet: RG ()\, Ostalo (O)\nLetniki: \nIzvajalci: Marko Kandi
 ć\, Aleš Vavpetič\nProstor: None
ORGANIZER:Marko Kandić, Aleš Vavpetič
RELATED-TO:fmf-AFLABS-URNIK:srecanje:15157
X-WR-TIMEZONE:Europe/Ljubljana
END:VEVENT
BEGIN:VEVENT
SUMMARY:Preddoktorski izpit
DTSTART;TZID=Europe/Ljubljana:20250319T150000
DTEND;TZID=Europe/Ljubljana:20250319T180000
DTSTAMP:20260419T160247Z
UID:fmf-AFLABS-URNIK:rezervacija:20769
CATEGORIES:Reservation
COLOR:royalblue
DESCRIPTION:Predmeti: \nLetniki: \nIzvajalci: Marko Kandić\nProstori: 2.0
 5
LOCATION:2.05
ORGANIZER:Marko Kandić
X-WR-TIMEZONE:Europe/Ljubljana
END:VEVENT
BEGIN:VEVENT
SUMMARY:Predavanja IPAN
DTSTART;TZID=Europe/Ljubljana:20250401T160000
DTEND;TZID=Europe/Ljubljana:20250401T170000
DTSTAMP:20260419T160247Z
UID:fmf-AFLABS-URNIK:rezervacija:21949
ATTENDEE:doktorski študij (M)
CATEGORIES:Reservation
COLOR:royalblue
DESCRIPTION:Predmeti: Izbrana poglavja iz analize (MAT-D)\nLetniki: doktor
 ski študij (M)\nIzvajalci: Marko Kandić\nProstori: 2.04
LOCATION:2.04
ORGANIZER:Marko Kandić
X-WR-TIMEZONE:Europe/Ljubljana
END:VEVENT
BEGIN:VEVENT
SUMMARY:Predavanja IPAN
DTSTART;TZID=Europe/Ljubljana:20250408T160000
DTEND;TZID=Europe/Ljubljana:20250408T170000
DTSTAMP:20260419T160247Z
UID:fmf-AFLABS-URNIK:rezervacija:21950
ATTENDEE:doktorski študij (M)
CATEGORIES:Reservation
COLOR:royalblue
DESCRIPTION:Predmeti: Izbrana poglavja iz analize (MAT-D)\nLetniki: doktor
 ski študij (M)\nIzvajalci: Marko Kandić\nProstori: 2.04
LOCATION:2.04
ORGANIZER:Marko Kandić
X-WR-TIMEZONE:Europe/Ljubljana
END:VEVENT
END:VCALENDAR
