BEGIN:VCALENDAR
VERSION:2.0
PRODID:-//AFLabs urnik izvoz - fmf//aflabs.si//SI
DTSTAMP:20260424T115131Z
NAME:UL FMF urnik
REFRESH-INTERVAL:PT1H
SOURCE:https://urnik.fmf.uni-lj.si/teacher/694?day=2020-02-10&export=1
URL:https://urnik.fmf.uni-lj.si/teacher/694?day=2020-02-10&export=1
X-PUBLISHED-TTL:PT1H
X-WR-CALNAME:UL FMF urnik
X-WR-TIMEZONE:Europe/Ljubljana
BEGIN:VTIMEZONE
TZID:Europe/Ljubljana
BEGIN:DAYLIGHT
DTSTART:20260329T020000
RDATE:20260329T020000
RDATE:20270328T020000
TZNAME:CEST
TZOFFSETFROM:+0100
TZOFFSETTO:+0200
END:DAYLIGHT
BEGIN:STANDARD
DTSTART:20261025T030000
RDATE:20261025T030000
RDATE:20271031T030000
TZNAME:CET
TZOFFSETFROM:+0200
TZOFFSETTO:+0100
END:STANDARD
END:VTIMEZONE
BEGIN:VEVENT
SUMMARY:Programiranje 2 (FM-3\, MAT-2)\, Predavanja (P)
DTSTART;TZID=Europe/Ljubljana:20200217T080000
DTEND;TZID=Europe/Ljubljana:20200217T100000
DTSTAMP:20260424T115131Z
UID:fmf-AFLABS-URNIK:premaknjeno-srecanje:86697
ATTENDEE:2. letnik (M)
ATTENDEE:3. letnik (FM)
CATEGORIES:Entry,Standard
COLOR:darkgreen
DESCRIPTION:Predmet: Programiranje 2 (FM-3\, MAT-2)\, Predavanja (P)\nLetn
 iki: 3. letnik (FM)\, 2. letnik (M)\nIzvajalci: Alexander Keith Simpson\nP
 rostor: 2.02
LOCATION:2.02
ORGANIZER:Alexander Keith Simpson
RELATED-TO:fmf-AFLABS-URNIK:srecanje:4374
X-WR-TIMEZONE:Europe/Ljubljana
END:VEVENT
BEGIN:VEVENT
SUMMARY:Programiranje 2 (FM-3\, MAT-2)\, Predavanja (P)
DTSTART;TZID=Europe/Ljubljana:20200224T080000
DTEND;TZID=Europe/Ljubljana:20200224T100000
DTSTAMP:20260424T115131Z
UID:fmf-AFLABS-URNIK:premaknjeno-srecanje:86698
ATTENDEE:2. letnik (M)
ATTENDEE:3. letnik (FM)
CATEGORIES:Entry,Standard
COLOR:darkgreen
DESCRIPTION:Predmet: Programiranje 2 (FM-3\, MAT-2)\, Predavanja (P)\nLetn
 iki: 3. letnik (FM)\, 2. letnik (M)\nIzvajalci: Alexander Keith Simpson\nP
 rostor: 2.02
LOCATION:2.02
ORGANIZER:Alexander Keith Simpson
RELATED-TO:fmf-AFLABS-URNIK:srecanje:4374
X-WR-TIMEZONE:Europe/Ljubljana
END:VEVENT
BEGIN:VEVENT
SUMMARY:Programiranje 2 (FM-3\, MAT-2)\, Predavanja (P)
DTSTART;TZID=Europe/Ljubljana:20200302T080000
DTEND;TZID=Europe/Ljubljana:20200302T100000
DTSTAMP:20260424T115131Z
UID:fmf-AFLABS-URNIK:premaknjeno-srecanje:86699
ATTENDEE:2. letnik (M)
ATTENDEE:3. letnik (FM)
CATEGORIES:Entry,Standard
COLOR:darkgreen
DESCRIPTION:Predmet: Programiranje 2 (FM-3\, MAT-2)\, Predavanja (P)\nLetn
 iki: 3. letnik (FM)\, 2. letnik (M)\nIzvajalci: Alexander Keith Simpson\nP
 rostor: 2.02
LOCATION:2.02
ORGANIZER:Alexander Keith Simpson
RELATED-TO:fmf-AFLABS-URNIK:srecanje:4374
X-WR-TIMEZONE:Europe/Ljubljana
END:VEVENT
BEGIN:VEVENT
SUMMARY:Programiranje 2 (FM-3\, MAT-2)\, Predavanja (P)
DTSTART;TZID=Europe/Ljubljana:20200309T080000
DTEND;TZID=Europe/Ljubljana:20200309T100000
DTSTAMP:20260424T115131Z
UID:fmf-AFLABS-URNIK:premaknjeno-srecanje:86700
ATTENDEE:2. letnik (M)
ATTENDEE:3. letnik (FM)
CATEGORIES:Entry,Standard
COLOR:darkgreen
DESCRIPTION:Predmet: Programiranje 2 (FM-3\, MAT-2)\, Predavanja (P)\nLetn
 iki: 3. letnik (FM)\, 2. letnik (M)\nIzvajalci: Alexander Keith Simpson\nP
 rostor: 2.02
LOCATION:2.02
ORGANIZER:Alexander Keith Simpson
RELATED-TO:fmf-AFLABS-URNIK:srecanje:4374
X-WR-TIMEZONE:Europe/Ljubljana
END:VEVENT
BEGIN:VEVENT
SUMMARY:Programiranje 2 (FM-3\, MAT-2)\, Predavanja (P)
DTSTART;TZID=Europe/Ljubljana:20200316T080000
DTEND;TZID=Europe/Ljubljana:20200316T100000
DTSTAMP:20260424T115131Z
UID:fmf-AFLABS-URNIK:premaknjeno-srecanje:86701
ATTENDEE:2. letnik (M)
ATTENDEE:3. letnik (FM)
CATEGORIES:Entry,Standard
COLOR:darkgreen
DESCRIPTION:Predmet: Programiranje 2 (FM-3\, MAT-2)\, Predavanja (P)\nLetn
 iki: 3. letnik (FM)\, 2. letnik (M)\nIzvajalci: Alexander Keith Simpson\nP
 rostor: 2.02
LOCATION:2.02
ORGANIZER:Alexander Keith Simpson
RELATED-TO:fmf-AFLABS-URNIK:srecanje:4374
X-WR-TIMEZONE:Europe/Ljubljana
END:VEVENT
BEGIN:VEVENT
SUMMARY:REZ FM ()\, Predavanja (P)
DTSTART;TZID=Europe/Ljubljana:20200217T080000
DTEND;TZID=Europe/Ljubljana:20200217T100000
DTSTAMP:20260424T115131Z
UID:fmf-AFLABS-URNIK:premaknjeno-srecanje:90075
CATEGORIES:Entry,Standard
COLOR:darkgreen
DESCRIPTION:Predmet: REZ FM ()\, Predavanja (P)\nLetniki: \nIzvajalci: Ale
 xander Keith Simpson\nProstor: 3.11
LOCATION:3.11
ORGANIZER:Alexander Keith Simpson
RELATED-TO:fmf-AFLABS-URNIK:srecanje:4628
X-WR-TIMEZONE:Europe/Ljubljana
END:VEVENT
BEGIN:VEVENT
SUMMARY:REZ FM ()\, Predavanja (P)
DTSTART;TZID=Europe/Ljubljana:20200224T080000
DTEND;TZID=Europe/Ljubljana:20200224T100000
DTSTAMP:20260424T115131Z
UID:fmf-AFLABS-URNIK:premaknjeno-srecanje:90076
CATEGORIES:Entry,Standard
COLOR:darkgreen
DESCRIPTION:Predmet: REZ FM ()\, Predavanja (P)\nLetniki: \nIzvajalci: Ale
 xander Keith Simpson\nProstor: 3.11
LOCATION:3.11
ORGANIZER:Alexander Keith Simpson
RELATED-TO:fmf-AFLABS-URNIK:srecanje:4628
X-WR-TIMEZONE:Europe/Ljubljana
END:VEVENT
BEGIN:VEVENT
SUMMARY:REZ FM ()\, Predavanja (P)
DTSTART;TZID=Europe/Ljubljana:20200302T080000
DTEND;TZID=Europe/Ljubljana:20200302T100000
DTSTAMP:20260424T115131Z
UID:fmf-AFLABS-URNIK:premaknjeno-srecanje:90077
CATEGORIES:Entry,Standard
COLOR:darkgreen
DESCRIPTION:Predmet: REZ FM ()\, Predavanja (P)\nLetniki: \nIzvajalci: Ale
 xander Keith Simpson\nProstor: 3.11
LOCATION:3.11
ORGANIZER:Alexander Keith Simpson
RELATED-TO:fmf-AFLABS-URNIK:srecanje:4628
X-WR-TIMEZONE:Europe/Ljubljana
END:VEVENT
BEGIN:VEVENT
SUMMARY:REZ FM ()\, Predavanja (P)
DTSTART;TZID=Europe/Ljubljana:20200309T080000
DTEND;TZID=Europe/Ljubljana:20200309T100000
DTSTAMP:20260424T115131Z
UID:fmf-AFLABS-URNIK:premaknjeno-srecanje:90078
CATEGORIES:Entry,Standard
COLOR:darkgreen
DESCRIPTION:Predmet: REZ FM ()\, Predavanja (P)\nLetniki: \nIzvajalci: Ale
 xander Keith Simpson\nProstor: 3.11
LOCATION:3.11
ORGANIZER:Alexander Keith Simpson
RELATED-TO:fmf-AFLABS-URNIK:srecanje:4628
X-WR-TIMEZONE:Europe/Ljubljana
END:VEVENT
BEGIN:VEVENT
SUMMARY:REZ FM ()\, Predavanja (P)
DTSTART;TZID=Europe/Ljubljana:20200316T080000
DTEND;TZID=Europe/Ljubljana:20200316T100000
DTSTAMP:20260424T115131Z
UID:fmf-AFLABS-URNIK:premaknjeno-srecanje:90079
CATEGORIES:Entry,Standard
COLOR:darkgreen
DESCRIPTION:Predmet: REZ FM ()\, Predavanja (P)\nLetniki: \nIzvajalci: Ale
 xander Keith Simpson\nProstor: 3.11
LOCATION:3.11
ORGANIZER:Alexander Keith Simpson
RELATED-TO:fmf-AFLABS-URNIK:srecanje:4628
X-WR-TIMEZONE:Europe/Ljubljana
END:VEVENT
BEGIN:VEVENT
SUMMARY:Izbrana poglavja iz računalniške matematike / Teorija kategorij 
 (FM-M\, IŠRM-M\, MAT-M\, PM-5)\, Predavanja (P)
DTSTART;TZID=Europe/Ljubljana:20200219T120000
DTEND;TZID=Europe/Ljubljana:20200219T150000
DTSTAMP:20260424T115131Z
UID:fmf-AFLABS-URNIK:premaknjeno-srecanje:44081
ATTENDEE:5. letnik (PM)
ATTENDEE:magistrski študij (FM)
ATTENDEE:magistrski študij (IŠRM)
ATTENDEE:magistrski študij (M)
CATEGORIES:Entry,Standard
COLOR:darkgreen
DESCRIPTION:Predmet: Izbrana poglavja iz računalniške matematike / Teori
 ja kategorij (FM-M\, IŠRM-M\, MAT-M\, PM-5)\, Predavanja (P)\nLetniki: ma
 gistrski študij (FM)\, magistrski študij (IŠRM)\, magistrski študij (M
 )\, 5. letnik (PM)\nIzvajalci: Alexander Keith Simpson\nProstor: 3.07
LOCATION:3.07
ORGANIZER:Alexander Keith Simpson
RELATED-TO:fmf-AFLABS-URNIK:srecanje:4279
X-WR-TIMEZONE:Europe/Ljubljana
END:VEVENT
BEGIN:VEVENT
SUMMARY:Izbrana poglavja iz računalniške matematike / Teorija kategorij 
 (FM-M\, IŠRM-M\, MAT-M\, PM-5)\, Predavanja (P)
DTSTART;TZID=Europe/Ljubljana:20200226T120000
DTEND;TZID=Europe/Ljubljana:20200226T150000
DTSTAMP:20260424T115131Z
UID:fmf-AFLABS-URNIK:premaknjeno-srecanje:44082
ATTENDEE:5. letnik (PM)
ATTENDEE:magistrski študij (FM)
ATTENDEE:magistrski študij (IŠRM)
ATTENDEE:magistrski študij (M)
CATEGORIES:Entry,Standard
COLOR:darkgreen
DESCRIPTION:Predmet: Izbrana poglavja iz računalniške matematike / Teori
 ja kategorij (FM-M\, IŠRM-M\, MAT-M\, PM-5)\, Predavanja (P)\nLetniki: ma
 gistrski študij (FM)\, magistrski študij (IŠRM)\, magistrski študij (M
 )\, 5. letnik (PM)\nIzvajalci: Alexander Keith Simpson\nProstor: 3.07
LOCATION:3.07
ORGANIZER:Alexander Keith Simpson
RELATED-TO:fmf-AFLABS-URNIK:srecanje:4279
X-WR-TIMEZONE:Europe/Ljubljana
END:VEVENT
BEGIN:VEVENT
SUMMARY:Izbrana poglavja iz računalniške matematike / Teorija kategorij 
 (FM-M\, IŠRM-M\, MAT-M\, PM-5)\, Predavanja (P)
DTSTART;TZID=Europe/Ljubljana:20200304T120000
DTEND;TZID=Europe/Ljubljana:20200304T150000
DTSTAMP:20260424T115131Z
UID:fmf-AFLABS-URNIK:premaknjeno-srecanje:44083
ATTENDEE:5. letnik (PM)
ATTENDEE:magistrski študij (FM)
ATTENDEE:magistrski študij (IŠRM)
ATTENDEE:magistrski študij (M)
CATEGORIES:Entry,Standard
COLOR:darkgreen
DESCRIPTION:Predmet: Izbrana poglavja iz računalniške matematike / Teori
 ja kategorij (FM-M\, IŠRM-M\, MAT-M\, PM-5)\, Predavanja (P)\nLetniki: ma
 gistrski študij (FM)\, magistrski študij (IŠRM)\, magistrski študij (M
 )\, 5. letnik (PM)\nIzvajalci: Alexander Keith Simpson\nProstor: 3.07
LOCATION:3.07
ORGANIZER:Alexander Keith Simpson
RELATED-TO:fmf-AFLABS-URNIK:srecanje:4279
X-WR-TIMEZONE:Europe/Ljubljana
END:VEVENT
BEGIN:VEVENT
SUMMARY:Izbrana poglavja iz računalniške matematike / Teorija kategorij 
 (FM-M\, IŠRM-M\, MAT-M\, PM-5)\, Predavanja (P)
DTSTART;TZID=Europe/Ljubljana:20200311T120000
DTEND;TZID=Europe/Ljubljana:20200311T150000
DTSTAMP:20260424T115131Z
UID:fmf-AFLABS-URNIK:premaknjeno-srecanje:44084
ATTENDEE:5. letnik (PM)
ATTENDEE:magistrski študij (FM)
ATTENDEE:magistrski študij (IŠRM)
ATTENDEE:magistrski študij (M)
CATEGORIES:Entry,Standard
COLOR:darkgreen
DESCRIPTION:Predmet: Izbrana poglavja iz računalniške matematike / Teori
 ja kategorij (FM-M\, IŠRM-M\, MAT-M\, PM-5)\, Predavanja (P)\nLetniki: ma
 gistrski študij (FM)\, magistrski študij (IŠRM)\, magistrski študij (M
 )\, 5. letnik (PM)\nIzvajalci: Alexander Keith Simpson\nProstor: 3.07
LOCATION:3.07
ORGANIZER:Alexander Keith Simpson
RELATED-TO:fmf-AFLABS-URNIK:srecanje:4279
X-WR-TIMEZONE:Europe/Ljubljana
END:VEVENT
BEGIN:VEVENT
SUMMARY:REZ FM ()\, Vaje (V)
DTSTART;TZID=Europe/Ljubljana:20200219T160000
DTEND;TZID=Europe/Ljubljana:20200219T180000
DTSTAMP:20260424T115131Z
UID:fmf-AFLABS-URNIK:premaknjeno-srecanje:90359
CATEGORIES:Entry,Standard
COLOR:darkgreen
DESCRIPTION:Predmet: REZ FM ()\, Vaje (V)\nLetniki: \nIzvajalci: Alexander
  Keith Simpson\nProstor: 3.10
LOCATION:3.10
ORGANIZER:Alexander Keith Simpson
RELATED-TO:fmf-AFLABS-URNIK:srecanje:4609
X-WR-TIMEZONE:Europe/Ljubljana
END:VEVENT
BEGIN:VEVENT
SUMMARY:REZ FM ()\, Vaje (V)
DTSTART;TZID=Europe/Ljubljana:20200226T160000
DTEND;TZID=Europe/Ljubljana:20200226T180000
DTSTAMP:20260424T115131Z
UID:fmf-AFLABS-URNIK:premaknjeno-srecanje:90360
CATEGORIES:Entry,Standard
COLOR:darkgreen
DESCRIPTION:Predmet: REZ FM ()\, Vaje (V)\nLetniki: \nIzvajalci: Alexander
  Keith Simpson\nProstor: 3.10
LOCATION:3.10
ORGANIZER:Alexander Keith Simpson
RELATED-TO:fmf-AFLABS-URNIK:srecanje:4609
X-WR-TIMEZONE:Europe/Ljubljana
END:VEVENT
BEGIN:VEVENT
SUMMARY:REZ FM ()\, Vaje (V)
DTSTART;TZID=Europe/Ljubljana:20200304T160000
DTEND;TZID=Europe/Ljubljana:20200304T180000
DTSTAMP:20260424T115131Z
UID:fmf-AFLABS-URNIK:premaknjeno-srecanje:90361
CATEGORIES:Entry,Standard
COLOR:darkgreen
DESCRIPTION:Predmet: REZ FM ()\, Vaje (V)\nLetniki: \nIzvajalci: Alexander
  Keith Simpson\nProstor: 3.10
LOCATION:3.10
ORGANIZER:Alexander Keith Simpson
RELATED-TO:fmf-AFLABS-URNIK:srecanje:4609
X-WR-TIMEZONE:Europe/Ljubljana
END:VEVENT
BEGIN:VEVENT
SUMMARY:REZ FM ()\, Vaje (V)
DTSTART;TZID=Europe/Ljubljana:20200311T160000
DTEND;TZID=Europe/Ljubljana:20200311T180000
DTSTAMP:20260424T115131Z
UID:fmf-AFLABS-URNIK:premaknjeno-srecanje:90362
CATEGORIES:Entry,Standard
COLOR:darkgreen
DESCRIPTION:Predmet: REZ FM ()\, Vaje (V)\nLetniki: \nIzvajalci: Alexander
  Keith Simpson\nProstor: 3.10
LOCATION:3.10
ORGANIZER:Alexander Keith Simpson
RELATED-TO:fmf-AFLABS-URNIK:srecanje:4609
X-WR-TIMEZONE:Europe/Ljubljana
END:VEVENT
BEGIN:VEVENT
SUMMARY:REZ FM ()\, Vaje (V)
DTSTART;TZID=Europe/Ljubljana:20200220T140000
DTEND;TZID=Europe/Ljubljana:20200220T160000
DTSTAMP:20260424T115131Z
UID:fmf-AFLABS-URNIK:premaknjeno-srecanje:90437
CATEGORIES:Entry,Standard
COLOR:darkgreen
DESCRIPTION:Predmet: REZ FM ()\, Vaje (V)\nLetniki: \nIzvajalci: Alexander
  Keith Simpson\nProstor: 3.10
LOCATION:3.10
ORGANIZER:Alexander Keith Simpson
RELATED-TO:fmf-AFLABS-URNIK:srecanje:4630
X-WR-TIMEZONE:Europe/Ljubljana
END:VEVENT
BEGIN:VEVENT
SUMMARY:REZ FM ()\, Vaje (V)
DTSTART;TZID=Europe/Ljubljana:20200227T140000
DTEND;TZID=Europe/Ljubljana:20200227T160000
DTSTAMP:20260424T115131Z
UID:fmf-AFLABS-URNIK:premaknjeno-srecanje:90438
CATEGORIES:Entry,Standard
COLOR:darkgreen
DESCRIPTION:Predmet: REZ FM ()\, Vaje (V)\nLetniki: \nIzvajalci: Alexander
  Keith Simpson\nProstor: 3.10
LOCATION:3.10
ORGANIZER:Alexander Keith Simpson
RELATED-TO:fmf-AFLABS-URNIK:srecanje:4630
X-WR-TIMEZONE:Europe/Ljubljana
END:VEVENT
BEGIN:VEVENT
SUMMARY:REZ FM ()\, Vaje (V)
DTSTART;TZID=Europe/Ljubljana:20200305T140000
DTEND;TZID=Europe/Ljubljana:20200305T160000
DTSTAMP:20260424T115131Z
UID:fmf-AFLABS-URNIK:premaknjeno-srecanje:90439
CATEGORIES:Entry,Standard
COLOR:darkgreen
DESCRIPTION:Predmet: REZ FM ()\, Vaje (V)\nLetniki: \nIzvajalci: Alexander
  Keith Simpson\nProstor: 3.10
LOCATION:3.10
ORGANIZER:Alexander Keith Simpson
RELATED-TO:fmf-AFLABS-URNIK:srecanje:4630
X-WR-TIMEZONE:Europe/Ljubljana
END:VEVENT
BEGIN:VEVENT
SUMMARY:REZ FM ()\, Vaje (V)
DTSTART;TZID=Europe/Ljubljana:20200312T140000
DTEND;TZID=Europe/Ljubljana:20200312T160000
DTSTAMP:20260424T115131Z
UID:fmf-AFLABS-URNIK:premaknjeno-srecanje:90440
CATEGORIES:Entry,Standard
COLOR:darkgreen
DESCRIPTION:Predmet: REZ FM ()\, Vaje (V)\nLetniki: \nIzvajalci: Alexander
  Keith Simpson\nProstor: 3.10
LOCATION:3.10
ORGANIZER:Alexander Keith Simpson
RELATED-TO:fmf-AFLABS-URNIK:srecanje:4630
X-WR-TIMEZONE:Europe/Ljubljana
END:VEVENT
BEGIN:VEVENT
SUMMARY:Kardinalna aritmetika (FM-M\, MAT-M\, PM-5)\, Predavanja (P)
DTSTART;TZID=Europe/Ljubljana:20200221T110000
DTEND;TZID=Europe/Ljubljana:20200221T140000
DTSTAMP:20260424T115131Z
UID:fmf-AFLABS-URNIK:premaknjeno-srecanje:48677
ATTENDEE:5. letnik (PM)
ATTENDEE:magistrski študij (FM)
ATTENDEE:magistrski študij (M)
CATEGORIES:Entry,Standard
COLOR:darkgreen
DESCRIPTION:Predmet: Kardinalna aritmetika (FM-M\, MAT-M\, PM-5)\, Predava
 nja (P)\nLetniki: magistrski študij (FM)\, magistrski študij (M)\, 5. le
 tnik (PM)\nIzvajalci: Alexander Keith Simpson\nProstor: 3.06
LOCATION:3.06
ORGANIZER:Alexander Keith Simpson
RELATED-TO:fmf-AFLABS-URNIK:srecanje:4237
X-WR-TIMEZONE:Europe/Ljubljana
END:VEVENT
BEGIN:VEVENT
SUMMARY:Kardinalna aritmetika (FM-M\, MAT-M\, PM-5)\, Predavanja (P)
DTSTART;TZID=Europe/Ljubljana:20200228T110000
DTEND;TZID=Europe/Ljubljana:20200228T140000
DTSTAMP:20260424T115131Z
UID:fmf-AFLABS-URNIK:premaknjeno-srecanje:48678
ATTENDEE:5. letnik (PM)
ATTENDEE:magistrski študij (FM)
ATTENDEE:magistrski študij (M)
CATEGORIES:Entry,Standard
COLOR:darkgreen
DESCRIPTION:Predmet: Kardinalna aritmetika (FM-M\, MAT-M\, PM-5)\, Predava
 nja (P)\nLetniki: magistrski študij (FM)\, magistrski študij (M)\, 5. le
 tnik (PM)\nIzvajalci: Alexander Keith Simpson\nProstor: 3.06
LOCATION:3.06
ORGANIZER:Alexander Keith Simpson
RELATED-TO:fmf-AFLABS-URNIK:srecanje:4237
X-WR-TIMEZONE:Europe/Ljubljana
END:VEVENT
BEGIN:VEVENT
SUMMARY:Kardinalna aritmetika (FM-M\, MAT-M\, PM-5)\, Predavanja (P)
DTSTART;TZID=Europe/Ljubljana:20200306T110000
DTEND;TZID=Europe/Ljubljana:20200306T140000
DTSTAMP:20260424T115131Z
UID:fmf-AFLABS-URNIK:premaknjeno-srecanje:48679
ATTENDEE:5. letnik (PM)
ATTENDEE:magistrski študij (FM)
ATTENDEE:magistrski študij (M)
CATEGORIES:Entry,Standard
COLOR:darkgreen
DESCRIPTION:Predmet: Kardinalna aritmetika (FM-M\, MAT-M\, PM-5)\, Predava
 nja (P)\nLetniki: magistrski študij (FM)\, magistrski študij (M)\, 5. le
 tnik (PM)\nIzvajalci: Alexander Keith Simpson\nProstor: 3.06
LOCATION:3.06
ORGANIZER:Alexander Keith Simpson
RELATED-TO:fmf-AFLABS-URNIK:srecanje:4237
X-WR-TIMEZONE:Europe/Ljubljana
END:VEVENT
BEGIN:VEVENT
SUMMARY:Kardinalna aritmetika (FM-M\, MAT-M\, PM-5)\, Predavanja (P)
DTSTART;TZID=Europe/Ljubljana:20200313T110000
DTEND;TZID=Europe/Ljubljana:20200313T140000
DTSTAMP:20260424T115131Z
UID:fmf-AFLABS-URNIK:premaknjeno-srecanje:48680
ATTENDEE:5. letnik (PM)
ATTENDEE:magistrski študij (FM)
ATTENDEE:magistrski študij (M)
CATEGORIES:Entry,Standard
COLOR:darkgreen
DESCRIPTION:Predmet: Kardinalna aritmetika (FM-M\, MAT-M\, PM-5)\, Predava
 nja (P)\nLetniki: magistrski študij (FM)\, magistrski študij (M)\, 5. le
 tnik (PM)\nIzvajalci: Alexander Keith Simpson\nProstor: 3.06
LOCATION:3.06
ORGANIZER:Alexander Keith Simpson
RELATED-TO:fmf-AFLABS-URNIK:srecanje:4237
X-WR-TIMEZONE:Europe/Ljubljana
END:VEVENT
END:VCALENDAR
