BEGIN:VCALENDAR
VERSION:2.0
PRODID:-//AFLabs urnik izvoz - fmf//aflabs.si//SI
DTSTAMP:20260423T182711Z
NAME:UL FMF urnik
REFRESH-INTERVAL:PT1H
SOURCE:https://urnik.fmf.uni-lj.si/teacher/694?day=2020-07-13&export=1
URL:https://urnik.fmf.uni-lj.si/teacher/694?day=2020-07-13&export=1
X-PUBLISHED-TTL:PT1H
X-WR-CALNAME:UL FMF urnik
X-WR-TIMEZONE:Europe/Ljubljana
BEGIN:VTIMEZONE
TZID:Europe/Ljubljana
BEGIN:DAYLIGHT
DTSTART:20260329T020000
RDATE:20260329T020000
RDATE:20270328T020000
TZNAME:CEST
TZOFFSETFROM:+0100
TZOFFSETTO:+0200
END:DAYLIGHT
BEGIN:STANDARD
DTSTART:20261025T030000
RDATE:20261025T030000
RDATE:20271031T030000
TZNAME:CET
TZOFFSETFROM:+0200
TZOFFSETTO:+0100
END:STANDARD
END:VTIMEZONE
BEGIN:VEVENT
SUMMARY:Rezervacija
DTSTART;TZID=Europe/Ljubljana:20200609T100000
DTEND;TZID=Europe/Ljubljana:20200609T120000
DTSTAMP:20260423T182711Z
UID:fmf-AFLABS-URNIK:rezervacija:5446
CATEGORIES:Reservation
COLOR:royalblue
DESCRIPTION:Predmeti: \nLetniki: \nIzvajalci: Gregor Dolinar\, Alexander K
 eith Simpson\nProstori: 3.05
LOCATION:3.05
ORGANIZER:Gregor Dolinar, Alexander Keith Simpson
X-WR-TIMEZONE:Europe/Ljubljana
END:VEVENT
BEGIN:VEVENT
SUMMARY:Rezervacija
DTSTART;TZID=Europe/Ljubljana:20200610T090000
DTEND;TZID=Europe/Ljubljana:20200610T120000
DTSTAMP:20260423T182711Z
UID:fmf-AFLABS-URNIK:rezervacija:5455
CATEGORIES:Reservation
COLOR:royalblue
DESCRIPTION:Predmeti: \nLetniki: \nIzvajalci: Alexander Keith Simpson\, Ma
 tjaž Zaveršnik\nProstori: 3.10\, 3.11\, 3.12
LOCATION:3.10\, 3.11\, 3.12
ORGANIZER:Alexander Keith Simpson, Matjaž Zaveršnik
X-WR-TIMEZONE:Europe/Ljubljana
END:VEVENT
BEGIN:VEVENT
SUMMARY:Rezervacija
DTSTART;TZID=Europe/Ljubljana:20200617T090000
DTEND;TZID=Europe/Ljubljana:20200617T110000
DTSTAMP:20260423T182711Z
UID:fmf-AFLABS-URNIK:rezervacija:5545
CATEGORIES:Reservation
COLOR:royalblue
DESCRIPTION:Predmeti: \nLetniki: \nIzvajalci: Egbert Rijke\, Alexander Kei
 th Simpson\nProstori: 3.04\, 3.05
LOCATION:3.04\, 3.05
ORGANIZER:Egbert Rijke, Alexander Keith Simpson
X-WR-TIMEZONE:Europe/Ljubljana
END:VEVENT
BEGIN:VEVENT
SUMMARY:Rezervacija
DTSTART;TZID=Europe/Ljubljana:20200626T100000
DTEND;TZID=Europe/Ljubljana:20200626T140000
DTSTAMP:20260423T182711Z
UID:fmf-AFLABS-URNIK:rezervacija:5672
CATEGORIES:Reservation
COLOR:royalblue
DESCRIPTION:Predmeti: \nLetniki: \nIzvajalci: Alexander Keith Simpson\nPro
 stori: P.02
LOCATION:P.02
ORGANIZER:Alexander Keith Simpson
X-WR-TIMEZONE:Europe/Ljubljana
END:VEVENT
BEGIN:VEVENT
SUMMARY:Rezervacija
DTSTART;TZID=Europe/Ljubljana:20200630T100000
DTEND;TZID=Europe/Ljubljana:20200630T120000
DTSTAMP:20260423T182711Z
UID:fmf-AFLABS-URNIK:rezervacija:5719
CATEGORIES:Reservation
COLOR:royalblue
DESCRIPTION:Predmeti: \nLetniki: \nIzvajalci: Gregor Dolinar\, Alexander K
 eith Simpson\nProstori: 3.04
LOCATION:3.04
ORGANIZER:Gregor Dolinar, Alexander Keith Simpson
X-WR-TIMEZONE:Europe/Ljubljana
END:VEVENT
BEGIN:VEVENT
SUMMARY:Rezervacija
DTSTART;TZID=Europe/Ljubljana:20200702T100000
DTEND;TZID=Europe/Ljubljana:20200702T120000
DTSTAMP:20260423T182711Z
UID:fmf-AFLABS-URNIK:rezervacija:5753
CATEGORIES:Reservation
COLOR:royalblue
DESCRIPTION:Predmeti: \nLetniki: \nIzvajalci: Egbert Rijke\, Alexander Kei
 th Simpson\nProstori: 3.04
LOCATION:3.04
ORGANIZER:Egbert Rijke, Alexander Keith Simpson
X-WR-TIMEZONE:Europe/Ljubljana
END:VEVENT
END:VCALENDAR
