BEGIN:VCALENDAR
VERSION:2.0
PRODID:-//AFLabs urnik izvoz - fmf//aflabs.si//SI
DTSTAMP:20260424T055157Z
NAME:UL FMF urnik
REFRESH-INTERVAL:PT1H
SOURCE:https://urnik.fmf.uni-lj.si/teacher/694?day=2020-10-05&export=1
URL:https://urnik.fmf.uni-lj.si/teacher/694?day=2020-10-05&export=1
X-PUBLISHED-TTL:PT1H
X-WR-CALNAME:UL FMF urnik
X-WR-TIMEZONE:Europe/Ljubljana
BEGIN:VTIMEZONE
TZID:Europe/Ljubljana
BEGIN:DAYLIGHT
DTSTART:20260329T020000
RDATE:20260329T020000
RDATE:20270328T020000
TZNAME:CEST
TZOFFSETFROM:+0100
TZOFFSETTO:+0200
END:DAYLIGHT
BEGIN:STANDARD
DTSTART:20261025T030000
RDATE:20261025T030000
RDATE:20271031T030000
TZNAME:CET
TZOFFSETFROM:+0200
TZOFFSETTO:+0100
END:STANDARD
END:VTIMEZONE
BEGIN:VEVENT
SUMMARY:Matematično izražanje v angleščini (APM-1)\, Predavanja (P)
DTSTART;TZID=Europe/Ljubljana:20201007T100000
DTEND;TZID=Europe/Ljubljana:20201007T120000
DTSTAMP:20260424T055157Z
UID:fmf-AFLABS-URNIK:premaknjeno-srecanje:69429
ATTENDEE:1. letnik (APM)
CATEGORIES:Entry,Standard
COLOR:darkgreen
DESCRIPTION:Predmet: Matematično izražanje v angleščini (APM-1)\, Pred
 avanja (P)\nLetniki: 1. letnik (APM)\nIzvajalci: Alexander Keith Simpson\n
 Prostor: P.02
LOCATION:P.02
ORGANIZER:Alexander Keith Simpson
RELATED-TO:fmf-AFLABS-URNIK:srecanje:5003
X-WR-TIMEZONE:Europe/Ljubljana
END:VEVENT
BEGIN:VEVENT
SUMMARY:Matematično izražanje v angleščini (APM-1)\, Predavanja (P)
DTSTART;TZID=Europe/Ljubljana:20201014T100000
DTEND;TZID=Europe/Ljubljana:20201014T120000
DTSTAMP:20260424T055157Z
UID:fmf-AFLABS-URNIK:premaknjeno-srecanje:69430
ATTENDEE:1. letnik (APM)
CATEGORIES:Entry,Standard
COLOR:darkgreen
DESCRIPTION:Predmet: Matematično izražanje v angleščini (APM-1)\, Pred
 avanja (P)\nLetniki: 1. letnik (APM)\nIzvajalci: Alexander Keith Simpson\n
 Prostor: P.02
LOCATION:P.02
ORGANIZER:Alexander Keith Simpson
RELATED-TO:fmf-AFLABS-URNIK:srecanje:5003
X-WR-TIMEZONE:Europe/Ljubljana
END:VEVENT
BEGIN:VEVENT
SUMMARY:Matematično izražanje v angleščini (APM-1)\, Predavanja (P)
DTSTART;TZID=Europe/Ljubljana:20201021T100000
DTEND;TZID=Europe/Ljubljana:20201021T120000
DTSTAMP:20260424T055157Z
UID:fmf-AFLABS-URNIK:premaknjeno-srecanje:69431
ATTENDEE:1. letnik (APM)
CATEGORIES:Entry,Standard
COLOR:darkgreen
DESCRIPTION:Predmet: Matematično izražanje v angleščini (APM-1)\, Pred
 avanja (P)\nLetniki: 1. letnik (APM)\nIzvajalci: Alexander Keith Simpson\n
 Prostor: P.02
LOCATION:P.02
ORGANIZER:Alexander Keith Simpson
RELATED-TO:fmf-AFLABS-URNIK:srecanje:5003
X-WR-TIMEZONE:Europe/Ljubljana
END:VEVENT
BEGIN:VEVENT
SUMMARY:Matematično izražanje v angleščini (APM-1)\, Predavanja (P)
DTSTART;TZID=Europe/Ljubljana:20201028T100000
DTEND;TZID=Europe/Ljubljana:20201028T120000
DTSTAMP:20260424T055157Z
UID:fmf-AFLABS-URNIK:premaknjeno-srecanje:69432
ATTENDEE:1. letnik (APM)
CATEGORIES:Entry,Standard
COLOR:darkgreen
DESCRIPTION:Predmet: Matematično izražanje v angleščini (APM-1)\, Pred
 avanja (P)\nLetniki: 1. letnik (APM)\nIzvajalci: Alexander Keith Simpson\n
 Prostor: P.02
LOCATION:P.02
ORGANIZER:Alexander Keith Simpson
RELATED-TO:fmf-AFLABS-URNIK:srecanje:5003
X-WR-TIMEZONE:Europe/Ljubljana
END:VEVENT
BEGIN:VEVENT
SUMMARY:Matematično izražanje v angleščini (APM-1)\, Predavanja (P)
DTSTART;TZID=Europe/Ljubljana:20201104T100000
DTEND;TZID=Europe/Ljubljana:20201104T120000
DTSTAMP:20260424T055157Z
UID:fmf-AFLABS-URNIK:premaknjeno-srecanje:69433
ATTENDEE:1. letnik (APM)
CATEGORIES:Entry,Standard
COLOR:darkgreen
DESCRIPTION:Predmet: Matematično izražanje v angleščini (APM-1)\, Pred
 avanja (P)\nLetniki: 1. letnik (APM)\nIzvajalci: Alexander Keith Simpson\n
 Prostor: P.02
LOCATION:P.02
ORGANIZER:Alexander Keith Simpson
RELATED-TO:fmf-AFLABS-URNIK:srecanje:5003
X-WR-TIMEZONE:Europe/Ljubljana
END:VEVENT
BEGIN:VEVENT
SUMMARY:Matematično izražanje v angleščini (APM-1)\, Predavanja (P)
DTSTART;TZID=Europe/Ljubljana:20201111T100000
DTEND;TZID=Europe/Ljubljana:20201111T120000
DTSTAMP:20260424T055157Z
UID:fmf-AFLABS-URNIK:premaknjeno-srecanje:69434
ATTENDEE:1. letnik (APM)
CATEGORIES:Entry,Standard
COLOR:darkgreen
DESCRIPTION:Predmet: Matematično izražanje v angleščini (APM-1)\, Pred
 avanja (P)\nLetniki: 1. letnik (APM)\nIzvajalci: Alexander Keith Simpson\n
 Prostor: P.02
LOCATION:P.02
ORGANIZER:Alexander Keith Simpson
RELATED-TO:fmf-AFLABS-URNIK:srecanje:5003
X-WR-TIMEZONE:Europe/Ljubljana
END:VEVENT
BEGIN:VEVENT
SUMMARY:Matematično izražanje v angleščini (APM-1)\, Predavanja (P)
DTSTART;TZID=Europe/Ljubljana:20201118T100000
DTEND;TZID=Europe/Ljubljana:20201118T120000
DTSTAMP:20260424T055157Z
UID:fmf-AFLABS-URNIK:premaknjeno-srecanje:69435
ATTENDEE:1. letnik (APM)
CATEGORIES:Entry,Standard
COLOR:darkgreen
DESCRIPTION:Predmet: Matematično izražanje v angleščini (APM-1)\, Pred
 avanja (P)\nLetniki: 1. letnik (APM)\nIzvajalci: Alexander Keith Simpson\n
 Prostor: P.02
LOCATION:P.02
ORGANIZER:Alexander Keith Simpson
RELATED-TO:fmf-AFLABS-URNIK:srecanje:5003
X-WR-TIMEZONE:Europe/Ljubljana
END:VEVENT
BEGIN:VEVENT
SUMMARY:Matematično izražanje v angleščini (APM-1)\, Predavanja (P)
DTSTART;TZID=Europe/Ljubljana:20201125T100000
DTEND;TZID=Europe/Ljubljana:20201125T120000
DTSTAMP:20260424T055157Z
UID:fmf-AFLABS-URNIK:premaknjeno-srecanje:69436
ATTENDEE:1. letnik (APM)
CATEGORIES:Entry,Standard
COLOR:darkgreen
DESCRIPTION:Predmet: Matematično izražanje v angleščini (APM-1)\, Pred
 avanja (P)\nLetniki: 1. letnik (APM)\nIzvajalci: Alexander Keith Simpson\n
 Prostor: P.02
LOCATION:P.02
ORGANIZER:Alexander Keith Simpson
RELATED-TO:fmf-AFLABS-URNIK:srecanje:5003
X-WR-TIMEZONE:Europe/Ljubljana
END:VEVENT
BEGIN:VEVENT
SUMMARY:Matematično izražanje v angleščini (APM-1)\, Predavanja (P)
DTSTART;TZID=Europe/Ljubljana:20201202T100000
DTEND;TZID=Europe/Ljubljana:20201202T120000
DTSTAMP:20260424T055157Z
UID:fmf-AFLABS-URNIK:premaknjeno-srecanje:69437
ATTENDEE:1. letnik (APM)
CATEGORIES:Entry,Standard
COLOR:darkgreen
DESCRIPTION:Predmet: Matematično izražanje v angleščini (APM-1)\, Pred
 avanja (P)\nLetniki: 1. letnik (APM)\nIzvajalci: Alexander Keith Simpson\n
 Prostor: P.02
LOCATION:P.02
ORGANIZER:Alexander Keith Simpson
RELATED-TO:fmf-AFLABS-URNIK:srecanje:5003
X-WR-TIMEZONE:Europe/Ljubljana
END:VEVENT
BEGIN:VEVENT
SUMMARY:Matematično izražanje v angleščini (APM-1)\, Predavanja (P)
DTSTART;TZID=Europe/Ljubljana:20201209T100000
DTEND;TZID=Europe/Ljubljana:20201209T120000
DTSTAMP:20260424T055157Z
UID:fmf-AFLABS-URNIK:premaknjeno-srecanje:69438
ATTENDEE:1. letnik (APM)
CATEGORIES:Entry,Standard
COLOR:darkgreen
DESCRIPTION:Predmet: Matematično izražanje v angleščini (APM-1)\, Pred
 avanja (P)\nLetniki: 1. letnik (APM)\nIzvajalci: Alexander Keith Simpson\n
 Prostor: P.02
LOCATION:P.02
ORGANIZER:Alexander Keith Simpson
RELATED-TO:fmf-AFLABS-URNIK:srecanje:5003
X-WR-TIMEZONE:Europe/Ljubljana
END:VEVENT
BEGIN:VEVENT
SUMMARY:Matematično izražanje v angleščini (APM-1)\, Predavanja (P)
DTSTART;TZID=Europe/Ljubljana:20201216T100000
DTEND;TZID=Europe/Ljubljana:20201216T120000
DTSTAMP:20260424T055157Z
UID:fmf-AFLABS-URNIK:premaknjeno-srecanje:69439
ATTENDEE:1. letnik (APM)
CATEGORIES:Entry,Standard
COLOR:darkgreen
DESCRIPTION:Predmet: Matematično izražanje v angleščini (APM-1)\, Pred
 avanja (P)\nLetniki: 1. letnik (APM)\nIzvajalci: Alexander Keith Simpson\n
 Prostor: P.02
LOCATION:P.02
ORGANIZER:Alexander Keith Simpson
RELATED-TO:fmf-AFLABS-URNIK:srecanje:5003
X-WR-TIMEZONE:Europe/Ljubljana
END:VEVENT
BEGIN:VEVENT
SUMMARY:Matematično izražanje v angleščini (APM-1)\, Predavanja (P)
DTSTART;TZID=Europe/Ljubljana:20201223T100000
DTEND;TZID=Europe/Ljubljana:20201223T120000
DTSTAMP:20260424T055157Z
UID:fmf-AFLABS-URNIK:premaknjeno-srecanje:69440
ATTENDEE:1. letnik (APM)
CATEGORIES:Entry,Standard
COLOR:darkgreen
DESCRIPTION:Predmet: Matematično izražanje v angleščini (APM-1)\, Pred
 avanja (P)\nLetniki: 1. letnik (APM)\nIzvajalci: Alexander Keith Simpson\n
 Prostor: P.02
LOCATION:P.02
ORGANIZER:Alexander Keith Simpson
RELATED-TO:fmf-AFLABS-URNIK:srecanje:5003
X-WR-TIMEZONE:Europe/Ljubljana
END:VEVENT
BEGIN:VEVENT
SUMMARY:Matematično izražanje v angleščini (APM-1)\, Predavanja (P)
DTSTART;TZID=Europe/Ljubljana:20201230T100000
DTEND;TZID=Europe/Ljubljana:20201230T120000
DTSTAMP:20260424T055157Z
UID:fmf-AFLABS-URNIK:premaknjeno-srecanje:69441
ATTENDEE:1. letnik (APM)
CATEGORIES:Entry,Standard
COLOR:darkgreen
DESCRIPTION:Predmet: Matematično izražanje v angleščini (APM-1)\, Pred
 avanja (P)\nLetniki: 1. letnik (APM)\nIzvajalci: Alexander Keith Simpson\n
 Prostor: P.02
LOCATION:P.02
ORGANIZER:Alexander Keith Simpson
RELATED-TO:fmf-AFLABS-URNIK:srecanje:5003
X-WR-TIMEZONE:Europe/Ljubljana
END:VEVENT
BEGIN:VEVENT
SUMMARY:Matematično izražanje v angleščini (APM-1)\, Predavanja (P)
DTSTART;TZID=Europe/Ljubljana:20210106T100000
DTEND;TZID=Europe/Ljubljana:20210106T120000
DTSTAMP:20260424T055157Z
UID:fmf-AFLABS-URNIK:premaknjeno-srecanje:69442
ATTENDEE:1. letnik (APM)
CATEGORIES:Entry,Standard
COLOR:darkgreen
DESCRIPTION:Predmet: Matematično izražanje v angleščini (APM-1)\, Pred
 avanja (P)\nLetniki: 1. letnik (APM)\nIzvajalci: Alexander Keith Simpson\n
 Prostor: P.02
LOCATION:P.02
ORGANIZER:Alexander Keith Simpson
RELATED-TO:fmf-AFLABS-URNIK:srecanje:5003
X-WR-TIMEZONE:Europe/Ljubljana
END:VEVENT
BEGIN:VEVENT
SUMMARY:Matematično izražanje v angleščini (APM-1)\, Predavanja (P)
DTSTART;TZID=Europe/Ljubljana:20210113T100000
DTEND;TZID=Europe/Ljubljana:20210113T120000
DTSTAMP:20260424T055157Z
UID:fmf-AFLABS-URNIK:premaknjeno-srecanje:69443
ATTENDEE:1. letnik (APM)
CATEGORIES:Entry,Standard
COLOR:darkgreen
DESCRIPTION:Predmet: Matematično izražanje v angleščini (APM-1)\, Pred
 avanja (P)\nLetniki: 1. letnik (APM)\nIzvajalci: Alexander Keith Simpson\n
 Prostor: P.02
LOCATION:P.02
ORGANIZER:Alexander Keith Simpson
RELATED-TO:fmf-AFLABS-URNIK:srecanje:5003
X-WR-TIMEZONE:Europe/Ljubljana
END:VEVENT
BEGIN:VEVENT
SUMMARY:Teorija izračunljivosti (FM-M\, IŠRM-M\, MAT-M\, PM-5)\, Predava
 nja (P)
DTSTART;TZID=Europe/Ljubljana:20201007T140000
DTEND;TZID=Europe/Ljubljana:20201007T170000
DTSTAMP:20260424T055157Z
UID:fmf-AFLABS-URNIK:premaknjeno-srecanje:109397
ATTENDEE:5. letnik (PM)
ATTENDEE:magistrski študij (FM)
ATTENDEE:magistrski študij (IŠRM)
ATTENDEE:magistrski študij (M)
CATEGORIES:Entry,Standard
COLOR:darkgreen
DESCRIPTION:Predmet: Teorija izračunljivosti (FM-M\, IŠRM-M\, MAT-M\, PM
 -5)\, Predavanja (P)\nLetniki: magistrski študij (FM)\, magistrski študi
 j (IŠRM)\, magistrski študij (M)\, 5. letnik (PM)\nIzvajalci: Alexander 
 Keith Simpson\nProstor: 2.03
LOCATION:2.03
ORGANIZER:Alexander Keith Simpson
RELATED-TO:fmf-AFLABS-URNIK:srecanje:5219
X-WR-TIMEZONE:Europe/Ljubljana
END:VEVENT
BEGIN:VEVENT
SUMMARY:Teorija izračunljivosti (FM-M\, IŠRM-M\, MAT-M\, PM-5)\, Predava
 nja (P)
DTSTART;TZID=Europe/Ljubljana:20201014T140000
DTEND;TZID=Europe/Ljubljana:20201014T170000
DTSTAMP:20260424T055157Z
UID:fmf-AFLABS-URNIK:premaknjeno-srecanje:109398
ATTENDEE:5. letnik (PM)
ATTENDEE:magistrski študij (FM)
ATTENDEE:magistrski študij (IŠRM)
ATTENDEE:magistrski študij (M)
CATEGORIES:Entry,Standard
COLOR:darkgreen
DESCRIPTION:Predmet: Teorija izračunljivosti (FM-M\, IŠRM-M\, MAT-M\, PM
 -5)\, Predavanja (P)\nLetniki: magistrski študij (FM)\, magistrski študi
 j (IŠRM)\, magistrski študij (M)\, 5. letnik (PM)\nIzvajalci: Alexander 
 Keith Simpson\nProstor: 2.03
LOCATION:2.03
ORGANIZER:Alexander Keith Simpson
RELATED-TO:fmf-AFLABS-URNIK:srecanje:5219
X-WR-TIMEZONE:Europe/Ljubljana
END:VEVENT
BEGIN:VEVENT
SUMMARY:Teorija izračunljivosti (FM-M\, IŠRM-M\, MAT-M\, PM-5)\, Predava
 nja (P)
DTSTART;TZID=Europe/Ljubljana:20201021T140000
DTEND;TZID=Europe/Ljubljana:20201021T170000
DTSTAMP:20260424T055157Z
UID:fmf-AFLABS-URNIK:premaknjeno-srecanje:109399
ATTENDEE:5. letnik (PM)
ATTENDEE:magistrski študij (FM)
ATTENDEE:magistrski študij (IŠRM)
ATTENDEE:magistrski študij (M)
CATEGORIES:Entry,Standard
COLOR:darkgreen
DESCRIPTION:Predmet: Teorija izračunljivosti (FM-M\, IŠRM-M\, MAT-M\, PM
 -5)\, Predavanja (P)\nLetniki: magistrski študij (FM)\, magistrski študi
 j (IŠRM)\, magistrski študij (M)\, 5. letnik (PM)\nIzvajalci: Alexander 
 Keith Simpson\nProstor: 2.03
LOCATION:2.03
ORGANIZER:Alexander Keith Simpson
RELATED-TO:fmf-AFLABS-URNIK:srecanje:5219
X-WR-TIMEZONE:Europe/Ljubljana
END:VEVENT
BEGIN:VEVENT
SUMMARY:Teorija izračunljivosti (FM-M\, IŠRM-M\, MAT-M\, PM-5)\, Predava
 nja (P)
DTSTART;TZID=Europe/Ljubljana:20201028T140000
DTEND;TZID=Europe/Ljubljana:20201028T170000
DTSTAMP:20260424T055157Z
UID:fmf-AFLABS-URNIK:premaknjeno-srecanje:109400
ATTENDEE:5. letnik (PM)
ATTENDEE:magistrski študij (FM)
ATTENDEE:magistrski študij (IŠRM)
ATTENDEE:magistrski študij (M)
CATEGORIES:Entry,Standard
COLOR:darkgreen
DESCRIPTION:Predmet: Teorija izračunljivosti (FM-M\, IŠRM-M\, MAT-M\, PM
 -5)\, Predavanja (P)\nLetniki: magistrski študij (FM)\, magistrski študi
 j (IŠRM)\, magistrski študij (M)\, 5. letnik (PM)\nIzvajalci: Alexander 
 Keith Simpson\nProstor: 2.03
LOCATION:2.03
ORGANIZER:Alexander Keith Simpson
RELATED-TO:fmf-AFLABS-URNIK:srecanje:5219
X-WR-TIMEZONE:Europe/Ljubljana
END:VEVENT
BEGIN:VEVENT
SUMMARY:Teorija izračunljivosti (FM-M\, IŠRM-M\, MAT-M\, PM-5)\, Predava
 nja (P)
DTSTART;TZID=Europe/Ljubljana:20201104T140000
DTEND;TZID=Europe/Ljubljana:20201104T170000
DTSTAMP:20260424T055157Z
UID:fmf-AFLABS-URNIK:premaknjeno-srecanje:109401
ATTENDEE:5. letnik (PM)
ATTENDEE:magistrski študij (FM)
ATTENDEE:magistrski študij (IŠRM)
ATTENDEE:magistrski študij (M)
CATEGORIES:Entry,Standard
COLOR:darkgreen
DESCRIPTION:Predmet: Teorija izračunljivosti (FM-M\, IŠRM-M\, MAT-M\, PM
 -5)\, Predavanja (P)\nLetniki: magistrski študij (FM)\, magistrski študi
 j (IŠRM)\, magistrski študij (M)\, 5. letnik (PM)\nIzvajalci: Alexander 
 Keith Simpson\nProstor: 2.03
LOCATION:2.03
ORGANIZER:Alexander Keith Simpson
RELATED-TO:fmf-AFLABS-URNIK:srecanje:5219
X-WR-TIMEZONE:Europe/Ljubljana
END:VEVENT
BEGIN:VEVENT
SUMMARY:Teorija izračunljivosti (FM-M\, IŠRM-M\, MAT-M\, PM-5)\, Predava
 nja (P)
DTSTART;TZID=Europe/Ljubljana:20201111T140000
DTEND;TZID=Europe/Ljubljana:20201111T170000
DTSTAMP:20260424T055157Z
UID:fmf-AFLABS-URNIK:premaknjeno-srecanje:109402
ATTENDEE:5. letnik (PM)
ATTENDEE:magistrski študij (FM)
ATTENDEE:magistrski študij (IŠRM)
ATTENDEE:magistrski študij (M)
CATEGORIES:Entry,Standard
COLOR:darkgreen
DESCRIPTION:Predmet: Teorija izračunljivosti (FM-M\, IŠRM-M\, MAT-M\, PM
 -5)\, Predavanja (P)\nLetniki: magistrski študij (FM)\, magistrski študi
 j (IŠRM)\, magistrski študij (M)\, 5. letnik (PM)\nIzvajalci: Alexander 
 Keith Simpson\nProstor: 2.03
LOCATION:2.03
ORGANIZER:Alexander Keith Simpson
RELATED-TO:fmf-AFLABS-URNIK:srecanje:5219
X-WR-TIMEZONE:Europe/Ljubljana
END:VEVENT
BEGIN:VEVENT
SUMMARY:Teorija izračunljivosti (FM-M\, IŠRM-M\, MAT-M\, PM-5)\, Predava
 nja (P)
DTSTART;TZID=Europe/Ljubljana:20201118T140000
DTEND;TZID=Europe/Ljubljana:20201118T170000
DTSTAMP:20260424T055157Z
UID:fmf-AFLABS-URNIK:premaknjeno-srecanje:109403
ATTENDEE:5. letnik (PM)
ATTENDEE:magistrski študij (FM)
ATTENDEE:magistrski študij (IŠRM)
ATTENDEE:magistrski študij (M)
CATEGORIES:Entry,Standard
COLOR:darkgreen
DESCRIPTION:Predmet: Teorija izračunljivosti (FM-M\, IŠRM-M\, MAT-M\, PM
 -5)\, Predavanja (P)\nLetniki: magistrski študij (FM)\, magistrski študi
 j (IŠRM)\, magistrski študij (M)\, 5. letnik (PM)\nIzvajalci: Alexander 
 Keith Simpson\nProstor: 2.03
LOCATION:2.03
ORGANIZER:Alexander Keith Simpson
RELATED-TO:fmf-AFLABS-URNIK:srecanje:5219
X-WR-TIMEZONE:Europe/Ljubljana
END:VEVENT
BEGIN:VEVENT
SUMMARY:Teorija izračunljivosti (FM-M\, IŠRM-M\, MAT-M\, PM-5)\, Predava
 nja (P)
DTSTART;TZID=Europe/Ljubljana:20201125T140000
DTEND;TZID=Europe/Ljubljana:20201125T170000
DTSTAMP:20260424T055157Z
UID:fmf-AFLABS-URNIK:premaknjeno-srecanje:109404
ATTENDEE:5. letnik (PM)
ATTENDEE:magistrski študij (FM)
ATTENDEE:magistrski študij (IŠRM)
ATTENDEE:magistrski študij (M)
CATEGORIES:Entry,Standard
COLOR:darkgreen
DESCRIPTION:Predmet: Teorija izračunljivosti (FM-M\, IŠRM-M\, MAT-M\, PM
 -5)\, Predavanja (P)\nLetniki: magistrski študij (FM)\, magistrski študi
 j (IŠRM)\, magistrski študij (M)\, 5. letnik (PM)\nIzvajalci: Alexander 
 Keith Simpson\nProstor: 2.03
LOCATION:2.03
ORGANIZER:Alexander Keith Simpson
RELATED-TO:fmf-AFLABS-URNIK:srecanje:5219
X-WR-TIMEZONE:Europe/Ljubljana
END:VEVENT
BEGIN:VEVENT
SUMMARY:Teorija izračunljivosti (FM-M\, IŠRM-M\, MAT-M\, PM-5)\, Predava
 nja (P)
DTSTART;TZID=Europe/Ljubljana:20201202T140000
DTEND;TZID=Europe/Ljubljana:20201202T170000
DTSTAMP:20260424T055157Z
UID:fmf-AFLABS-URNIK:premaknjeno-srecanje:109405
ATTENDEE:5. letnik (PM)
ATTENDEE:magistrski študij (FM)
ATTENDEE:magistrski študij (IŠRM)
ATTENDEE:magistrski študij (M)
CATEGORIES:Entry,Standard
COLOR:darkgreen
DESCRIPTION:Predmet: Teorija izračunljivosti (FM-M\, IŠRM-M\, MAT-M\, PM
 -5)\, Predavanja (P)\nLetniki: magistrski študij (FM)\, magistrski študi
 j (IŠRM)\, magistrski študij (M)\, 5. letnik (PM)\nIzvajalci: Alexander 
 Keith Simpson\nProstor: 2.03
LOCATION:2.03
ORGANIZER:Alexander Keith Simpson
RELATED-TO:fmf-AFLABS-URNIK:srecanje:5219
X-WR-TIMEZONE:Europe/Ljubljana
END:VEVENT
BEGIN:VEVENT
SUMMARY:Teorija izračunljivosti (FM-M\, IŠRM-M\, MAT-M\, PM-5)\, Predava
 nja (P)
DTSTART;TZID=Europe/Ljubljana:20201209T140000
DTEND;TZID=Europe/Ljubljana:20201209T170000
DTSTAMP:20260424T055157Z
UID:fmf-AFLABS-URNIK:premaknjeno-srecanje:109406
ATTENDEE:5. letnik (PM)
ATTENDEE:magistrski študij (FM)
ATTENDEE:magistrski študij (IŠRM)
ATTENDEE:magistrski študij (M)
CATEGORIES:Entry,Standard
COLOR:darkgreen
DESCRIPTION:Predmet: Teorija izračunljivosti (FM-M\, IŠRM-M\, MAT-M\, PM
 -5)\, Predavanja (P)\nLetniki: magistrski študij (FM)\, magistrski študi
 j (IŠRM)\, magistrski študij (M)\, 5. letnik (PM)\nIzvajalci: Alexander 
 Keith Simpson\nProstor: 2.03
LOCATION:2.03
ORGANIZER:Alexander Keith Simpson
RELATED-TO:fmf-AFLABS-URNIK:srecanje:5219
X-WR-TIMEZONE:Europe/Ljubljana
END:VEVENT
BEGIN:VEVENT
SUMMARY:Teorija izračunljivosti (FM-M\, IŠRM-M\, MAT-M\, PM-5)\, Predava
 nja (P)
DTSTART;TZID=Europe/Ljubljana:20201216T140000
DTEND;TZID=Europe/Ljubljana:20201216T170000
DTSTAMP:20260424T055157Z
UID:fmf-AFLABS-URNIK:premaknjeno-srecanje:109407
ATTENDEE:5. letnik (PM)
ATTENDEE:magistrski študij (FM)
ATTENDEE:magistrski študij (IŠRM)
ATTENDEE:magistrski študij (M)
CATEGORIES:Entry,Standard
COLOR:darkgreen
DESCRIPTION:Predmet: Teorija izračunljivosti (FM-M\, IŠRM-M\, MAT-M\, PM
 -5)\, Predavanja (P)\nLetniki: magistrski študij (FM)\, magistrski študi
 j (IŠRM)\, magistrski študij (M)\, 5. letnik (PM)\nIzvajalci: Alexander 
 Keith Simpson\nProstor: 2.03
LOCATION:2.03
ORGANIZER:Alexander Keith Simpson
RELATED-TO:fmf-AFLABS-URNIK:srecanje:5219
X-WR-TIMEZONE:Europe/Ljubljana
END:VEVENT
BEGIN:VEVENT
SUMMARY:Teorija izračunljivosti (FM-M\, IŠRM-M\, MAT-M\, PM-5)\, Predava
 nja (P)
DTSTART;TZID=Europe/Ljubljana:20201223T140000
DTEND;TZID=Europe/Ljubljana:20201223T170000
DTSTAMP:20260424T055157Z
UID:fmf-AFLABS-URNIK:premaknjeno-srecanje:109408
ATTENDEE:5. letnik (PM)
ATTENDEE:magistrski študij (FM)
ATTENDEE:magistrski študij (IŠRM)
ATTENDEE:magistrski študij (M)
CATEGORIES:Entry,Standard
COLOR:darkgreen
DESCRIPTION:Predmet: Teorija izračunljivosti (FM-M\, IŠRM-M\, MAT-M\, PM
 -5)\, Predavanja (P)\nLetniki: magistrski študij (FM)\, magistrski študi
 j (IŠRM)\, magistrski študij (M)\, 5. letnik (PM)\nIzvajalci: Alexander 
 Keith Simpson\nProstor: 2.03
LOCATION:2.03
ORGANIZER:Alexander Keith Simpson
RELATED-TO:fmf-AFLABS-URNIK:srecanje:5219
X-WR-TIMEZONE:Europe/Ljubljana
END:VEVENT
BEGIN:VEVENT
SUMMARY:Teorija izračunljivosti (FM-M\, IŠRM-M\, MAT-M\, PM-5)\, Predava
 nja (P)
DTSTART;TZID=Europe/Ljubljana:20201230T140000
DTEND;TZID=Europe/Ljubljana:20201230T170000
DTSTAMP:20260424T055157Z
UID:fmf-AFLABS-URNIK:premaknjeno-srecanje:109409
ATTENDEE:5. letnik (PM)
ATTENDEE:magistrski študij (FM)
ATTENDEE:magistrski študij (IŠRM)
ATTENDEE:magistrski študij (M)
CATEGORIES:Entry,Standard
COLOR:darkgreen
DESCRIPTION:Predmet: Teorija izračunljivosti (FM-M\, IŠRM-M\, MAT-M\, PM
 -5)\, Predavanja (P)\nLetniki: magistrski študij (FM)\, magistrski študi
 j (IŠRM)\, magistrski študij (M)\, 5. letnik (PM)\nIzvajalci: Alexander 
 Keith Simpson\nProstor: 2.03
LOCATION:2.03
ORGANIZER:Alexander Keith Simpson
RELATED-TO:fmf-AFLABS-URNIK:srecanje:5219
X-WR-TIMEZONE:Europe/Ljubljana
END:VEVENT
BEGIN:VEVENT
SUMMARY:Teorija izračunljivosti (FM-M\, IŠRM-M\, MAT-M\, PM-5)\, Predava
 nja (P)
DTSTART;TZID=Europe/Ljubljana:20210106T140000
DTEND;TZID=Europe/Ljubljana:20210106T170000
DTSTAMP:20260424T055157Z
UID:fmf-AFLABS-URNIK:premaknjeno-srecanje:109410
ATTENDEE:5. letnik (PM)
ATTENDEE:magistrski študij (FM)
ATTENDEE:magistrski študij (IŠRM)
ATTENDEE:magistrski študij (M)
CATEGORIES:Entry,Standard
COLOR:darkgreen
DESCRIPTION:Predmet: Teorija izračunljivosti (FM-M\, IŠRM-M\, MAT-M\, PM
 -5)\, Predavanja (P)\nLetniki: magistrski študij (FM)\, magistrski študi
 j (IŠRM)\, magistrski študij (M)\, 5. letnik (PM)\nIzvajalci: Alexander 
 Keith Simpson\nProstor: 2.03
LOCATION:2.03
ORGANIZER:Alexander Keith Simpson
RELATED-TO:fmf-AFLABS-URNIK:srecanje:5219
X-WR-TIMEZONE:Europe/Ljubljana
END:VEVENT
BEGIN:VEVENT
SUMMARY:Teorija izračunljivosti (FM-M\, IŠRM-M\, MAT-M\, PM-5)\, Predava
 nja (P)
DTSTART;TZID=Europe/Ljubljana:20210113T140000
DTEND;TZID=Europe/Ljubljana:20210113T170000
DTSTAMP:20260424T055157Z
UID:fmf-AFLABS-URNIK:premaknjeno-srecanje:109411
ATTENDEE:5. letnik (PM)
ATTENDEE:magistrski študij (FM)
ATTENDEE:magistrski študij (IŠRM)
ATTENDEE:magistrski študij (M)
CATEGORIES:Entry,Standard
COLOR:darkgreen
DESCRIPTION:Predmet: Teorija izračunljivosti (FM-M\, IŠRM-M\, MAT-M\, PM
 -5)\, Predavanja (P)\nLetniki: magistrski študij (FM)\, magistrski študi
 j (IŠRM)\, magistrski študij (M)\, 5. letnik (PM)\nIzvajalci: Alexander 
 Keith Simpson\nProstor: 2.03
LOCATION:2.03
ORGANIZER:Alexander Keith Simpson
RELATED-TO:fmf-AFLABS-URNIK:srecanje:5219
X-WR-TIMEZONE:Europe/Ljubljana
END:VEVENT
END:VCALENDAR
