BEGIN:VCALENDAR
VERSION:2.0
PRODID:-//AFLabs urnik izvoz - fmf//aflabs.si//SI
DTSTAMP:20260424T090428Z
NAME:UL FMF urnik
REFRESH-INTERVAL:PT1H
SOURCE:https://urnik.fmf.uni-lj.si/teacher/694?day=2021-06-21&export=1
URL:https://urnik.fmf.uni-lj.si/teacher/694?day=2021-06-21&export=1
X-PUBLISHED-TTL:PT1H
X-WR-CALNAME:UL FMF urnik
X-WR-TIMEZONE:Europe/Ljubljana
BEGIN:VTIMEZONE
TZID:Europe/Ljubljana
BEGIN:DAYLIGHT
DTSTART:20260329T020000
RDATE:20260329T020000
RDATE:20270328T020000
TZNAME:CEST
TZOFFSETFROM:+0100
TZOFFSETTO:+0200
END:DAYLIGHT
BEGIN:STANDARD
DTSTART:20261025T030000
RDATE:20261025T030000
RDATE:20271031T030000
TZNAME:CET
TZOFFSETFROM:+0200
TZOFFSETTO:+0100
END:STANDARD
END:VTIMEZONE
BEGIN:VEVENT
SUMMARY:Programiranje 2 (FM-3\, MAT-2)\, Predavanja (P)
DTSTART;TZID=Europe/Ljubljana:20210517T080000
DTEND;TZID=Europe/Ljubljana:20210517T100000
DTSTAMP:20260424T090428Z
UID:fmf-AFLABS-URNIK:premaknjeno-srecanje:86725
ATTENDEE:2. letnik (M)
ATTENDEE:3. letnik (FM)
CATEGORIES:Entry,Standard
COLOR:darkgreen
DESCRIPTION:Predmet: Programiranje 2 (FM-3\, MAT-2)\, Predavanja (P)\nLetn
 iki: 3. letnik (FM)\, 2. letnik (M)\nIzvajalci: Alexander Keith Simpson\nP
 rostor: 3.11
LOCATION:3.11
ORGANIZER:Alexander Keith Simpson
RELATED-TO:fmf-AFLABS-URNIK:srecanje:5828
X-WR-TIMEZONE:Europe/Ljubljana
END:VEVENT
BEGIN:VEVENT
SUMMARY:Programiranje 2 (FM-3\, MAT-2)\, Predavanja (P)
DTSTART;TZID=Europe/Ljubljana:20210524T080000
DTEND;TZID=Europe/Ljubljana:20210524T100000
DTSTAMP:20260424T090428Z
UID:fmf-AFLABS-URNIK:premaknjeno-srecanje:86726
ATTENDEE:2. letnik (M)
ATTENDEE:3. letnik (FM)
CATEGORIES:Entry,Standard
COLOR:darkgreen
DESCRIPTION:Predmet: Programiranje 2 (FM-3\, MAT-2)\, Predavanja (P)\nLetn
 iki: 3. letnik (FM)\, 2. letnik (M)\nIzvajalci: Alexander Keith Simpson\nP
 rostor: 3.11
LOCATION:3.11
ORGANIZER:Alexander Keith Simpson
RELATED-TO:fmf-AFLABS-URNIK:srecanje:5828
X-WR-TIMEZONE:Europe/Ljubljana
END:VEVENT
BEGIN:VEVENT
SUMMARY:Programiranje 2 (FM-3\, MAT-2)\, Predavanja (P)
DTSTART;TZID=Europe/Ljubljana:20210531T080000
DTEND;TZID=Europe/Ljubljana:20210531T100000
DTSTAMP:20260424T090428Z
UID:fmf-AFLABS-URNIK:premaknjeno-srecanje:86727
ATTENDEE:2. letnik (M)
ATTENDEE:3. letnik (FM)
CATEGORIES:Entry,Standard
COLOR:darkgreen
DESCRIPTION:Predmet: Programiranje 2 (FM-3\, MAT-2)\, Predavanja (P)\nLetn
 iki: 3. letnik (FM)\, 2. letnik (M)\nIzvajalci: Alexander Keith Simpson\nP
 rostor: 3.11
LOCATION:3.11
ORGANIZER:Alexander Keith Simpson
RELATED-TO:fmf-AFLABS-URNIK:srecanje:5828
X-WR-TIMEZONE:Europe/Ljubljana
END:VEVENT
BEGIN:VEVENT
SUMMARY:Logika (FM-M\, MAT-M\, PM-5)\, Predavanja (P)
DTSTART;TZID=Europe/Ljubljana:20210518T080000
DTEND;TZID=Europe/Ljubljana:20210518T110000
DTSTAMP:20260424T090428Z
UID:fmf-AFLABS-URNIK:premaknjeno-srecanje:57695
ATTENDEE:5. letnik (PM)
ATTENDEE:magistrski študij (FM)
ATTENDEE:magistrski študij (M)
CATEGORIES:Entry,Standard
COLOR:darkgreen
DESCRIPTION:Predmet: Logika (FM-M\, MAT-M\, PM-5)\, Predavanja (P)\nLetnik
 i: magistrski študij (FM)\, magistrski študij (M)\, 5. letnik (PM)\nIzva
 jalci: Alexander Keith Simpson\nProstor: 3.07
LOCATION:3.07
ORGANIZER:Alexander Keith Simpson
RELATED-TO:fmf-AFLABS-URNIK:srecanje:5686
X-WR-TIMEZONE:Europe/Ljubljana
END:VEVENT
BEGIN:VEVENT
SUMMARY:Logika (FM-M\, MAT-M\, PM-5)\, Predavanja (P)
DTSTART;TZID=Europe/Ljubljana:20210525T080000
DTEND;TZID=Europe/Ljubljana:20210525T110000
DTSTAMP:20260424T090428Z
UID:fmf-AFLABS-URNIK:premaknjeno-srecanje:57696
ATTENDEE:5. letnik (PM)
ATTENDEE:magistrski študij (FM)
ATTENDEE:magistrski študij (M)
CATEGORIES:Entry,Standard
COLOR:darkgreen
DESCRIPTION:Predmet: Logika (FM-M\, MAT-M\, PM-5)\, Predavanja (P)\nLetnik
 i: magistrski študij (FM)\, magistrski študij (M)\, 5. letnik (PM)\nIzva
 jalci: Alexander Keith Simpson\nProstor: 3.07
LOCATION:3.07
ORGANIZER:Alexander Keith Simpson
RELATED-TO:fmf-AFLABS-URNIK:srecanje:5686
X-WR-TIMEZONE:Europe/Ljubljana
END:VEVENT
BEGIN:VEVENT
SUMMARY:Matematično izražanje v angleškem jeziku (APM-1)\, Predavanja (
 P)
DTSTART;TZID=Europe/Ljubljana:20210519T120000
DTEND;TZID=Europe/Ljubljana:20210519T140000
DTSTAMP:20260424T090428Z
UID:fmf-AFLABS-URNIK:premaknjeno-srecanje:69240
ATTENDEE:1. letnik (APM)
CATEGORIES:Entry,Standard
COLOR:darkgreen
DESCRIPTION:Predmet: Matematično izražanje v angleškem jeziku (APM-1)\,
  Predavanja (P)\nLetniki: 1. letnik (APM)\nIzvajalci: Alexander Keith Simp
 son\nProstor: 3.05
LOCATION:3.05
ORGANIZER:Alexander Keith Simpson
RELATED-TO:fmf-AFLABS-URNIK:srecanje:5733
X-WR-TIMEZONE:Europe/Ljubljana
END:VEVENT
BEGIN:VEVENT
SUMMARY:Matematično izražanje v angleškem jeziku (APM-1)\, Predavanja (
 P)
DTSTART;TZID=Europe/Ljubljana:20210526T120000
DTEND;TZID=Europe/Ljubljana:20210526T140000
DTSTAMP:20260424T090428Z
UID:fmf-AFLABS-URNIK:premaknjeno-srecanje:69241
ATTENDEE:1. letnik (APM)
CATEGORIES:Entry,Standard
COLOR:darkgreen
DESCRIPTION:Predmet: Matematično izražanje v angleškem jeziku (APM-1)\,
  Predavanja (P)\nLetniki: 1. letnik (APM)\nIzvajalci: Alexander Keith Simp
 son\nProstor: 3.05
LOCATION:3.05
ORGANIZER:Alexander Keith Simpson
RELATED-TO:fmf-AFLABS-URNIK:srecanje:5733
X-WR-TIMEZONE:Europe/Ljubljana
END:VEVENT
BEGIN:VEVENT
SUMMARY:Poučevanje matematike in fizike v angleškem jeziku (PEF-1\, PEF-
 2\, PM-4\, PM-5)\, Predavanja (P)
DTSTART;TZID=Europe/Ljubljana:20210519T170000
DTEND;TZID=Europe/Ljubljana:20210519T190000
DTSTAMP:20260424T090428Z
UID:fmf-AFLABS-URNIK:premaknjeno-srecanje:83804
ATTENDEE:1. letnik (Pedagoška fizika, 2. stopnja)
ATTENDEE:2. letnik (Pedagoška fizika, 2. stopnja)
ATTENDEE:4. letnik (PM)
ATTENDEE:5. letnik (PM)
CATEGORIES:Entry,Standard
COLOR:darkgreen
DESCRIPTION:Predmet: Poučevanje matematike in fizike v angleškem jeziku 
 (PEF-1\, PEF-2\, PM-4\, PM-5)\, Predavanja (P)\nLetniki: 1. letnik (Pedago
 ška fizika\, 2. stopnja)\, 2. letnik (Pedagoška fizika\, 2. stopnja)\, 4
 . letnik (PM)\, 5. letnik (PM)\nIzvajalci: Eugenia Etkina\, Gorazd Planin
 šič\, Alexander Keith Simpson\nProstor: 3.06
LOCATION:3.06
ORGANIZER:Eugenia Etkina, Gorazd Planinšič, Alexander Keith Simpson
RELATED-TO:fmf-AFLABS-URNIK:srecanje:5992
X-WR-TIMEZONE:Europe/Ljubljana
END:VEVENT
BEGIN:VEVENT
SUMMARY:Poučevanje matematike in fizike v angleškem jeziku (PEF-1\, PEF-
 2\, PM-4\, PM-5)\, Predavanja (P)
DTSTART;TZID=Europe/Ljubljana:20210526T170000
DTEND;TZID=Europe/Ljubljana:20210526T190000
DTSTAMP:20260424T090428Z
UID:fmf-AFLABS-URNIK:premaknjeno-srecanje:83805
ATTENDEE:1. letnik (Pedagoška fizika, 2. stopnja)
ATTENDEE:2. letnik (Pedagoška fizika, 2. stopnja)
ATTENDEE:4. letnik (PM)
ATTENDEE:5. letnik (PM)
CATEGORIES:Entry,Standard
COLOR:darkgreen
DESCRIPTION:Predmet: Poučevanje matematike in fizike v angleškem jeziku 
 (PEF-1\, PEF-2\, PM-4\, PM-5)\, Predavanja (P)\nLetniki: 1. letnik (Pedago
 ška fizika\, 2. stopnja)\, 2. letnik (Pedagoška fizika\, 2. stopnja)\, 4
 . letnik (PM)\, 5. letnik (PM)\nIzvajalci: Eugenia Etkina\, Gorazd Planin
 šič\, Alexander Keith Simpson\nProstor: 3.06
LOCATION:3.06
ORGANIZER:Eugenia Etkina, Gorazd Planinšič, Alexander Keith Simpson
RELATED-TO:fmf-AFLABS-URNIK:srecanje:5992
X-WR-TIMEZONE:Europe/Ljubljana
END:VEVENT
BEGIN:VEVENT
SUMMARY:Rezervacija
DTSTART;TZID=Europe/Ljubljana:20210604T090000
DTEND;TZID=Europe/Ljubljana:20210604T120000
DTSTAMP:20260424T090428Z
UID:fmf-AFLABS-URNIK:rezervacija:6738
ATTENDEE:1. letnik (APM)
CATEGORIES:Reservation
COLOR:royalblue
DESCRIPTION:Predmeti: Matematično izražanje v angleškem jeziku (APM-1)\
 nLetniki: 1. letnik (APM)\nIzvajalci: Alexander Keith Simpson\nProstori: 3
 .04
LOCATION:3.04
ORGANIZER:Alexander Keith Simpson
X-WR-TIMEZONE:Europe/Ljubljana
END:VEVENT
BEGIN:VEVENT
SUMMARY:Rezervacija
DTSTART;TZID=Europe/Ljubljana:20210611T090000
DTEND;TZID=Europe/Ljubljana:20210611T120000
DTSTAMP:20260424T090428Z
UID:fmf-AFLABS-URNIK:rezervacija:6829
ATTENDEE:5. letnik (PM)
ATTENDEE:magistrski študij (FM)
ATTENDEE:magistrski študij (M)
CATEGORIES:Reservation
COLOR:royalblue
DESCRIPTION:Predmeti: Logika (FM-M\, MAT-M\, PM-5)\nLetniki: magistrski š
 tudij (FM)\, magistrski študij (M)\, 5. letnik (PM)\nIzvajalci: Alexander
  Keith Simpson\nProstori: 2.02
LOCATION:2.02
ORGANIZER:Alexander Keith Simpson
X-WR-TIMEZONE:Europe/Ljubljana
END:VEVENT
BEGIN:VEVENT
SUMMARY:Rezervacija
DTSTART;TZID=Europe/Ljubljana:20210630T090000
DTEND;TZID=Europe/Ljubljana:20210630T120000
DTSTAMP:20260424T090428Z
UID:fmf-AFLABS-URNIK:rezervacija:7132
ATTENDEE:5. letnik (PM)
ATTENDEE:magistrski študij (FM)
ATTENDEE:magistrski študij (M)
CATEGORIES:Reservation
COLOR:royalblue
DESCRIPTION:Predmeti: Logika (FM-M\, MAT-M\, PM-5)\nLetniki: magistrski š
 tudij (FM)\, magistrski študij (M)\, 5. letnik (PM)\nIzvajalci: Alexander
  Keith Simpson\nProstori: 3.04
LOCATION:3.04
ORGANIZER:Alexander Keith Simpson
X-WR-TIMEZONE:Europe/Ljubljana
END:VEVENT
BEGIN:VEVENT
SUMMARY:Rezervacija
DTSTART;TZID=Europe/Ljubljana:20210705T100000
DTEND;TZID=Europe/Ljubljana:20210705T130000
DTSTAMP:20260424T090428Z
UID:fmf-AFLABS-URNIK:rezervacija:7229
ATTENDEE:5. letnik (PM)
ATTENDEE:magistrski študij (FM)
ATTENDEE:magistrski študij (IŠRM)
ATTENDEE:magistrski študij (M)
CATEGORIES:Reservation
COLOR:royalblue
DESCRIPTION:Predmeti: Teorija izračunljivosti (FM-M\, IŠRM-M\, MAT-M\, P
 M-5)\nLetniki: magistrski študij (FM)\, magistrski študij (IŠRM)\, magi
 strski študij (M)\, 5. letnik (PM)\nIzvajalci: Alexander Keith Simpson\nP
 rostori: 3.05
LOCATION:3.05
ORGANIZER:Alexander Keith Simpson
X-WR-TIMEZONE:Europe/Ljubljana
END:VEVENT
END:VCALENDAR
