BEGIN:VCALENDAR
VERSION:2.0
PRODID:-//AFLabs urnik izvoz - fmf//aflabs.si//SI
DTSTAMP:20260426T011756Z
NAME:UL FMF urnik
REFRESH-INTERVAL:PT1H
SOURCE:https://urnik.fmf.uni-lj.si/teacher/694?day=2022-06-06&export=1
URL:https://urnik.fmf.uni-lj.si/teacher/694?day=2022-06-06&export=1
X-PUBLISHED-TTL:PT1H
X-WR-CALNAME:UL FMF urnik
X-WR-TIMEZONE:Europe/Ljubljana
BEGIN:VTIMEZONE
TZID:Europe/Ljubljana
BEGIN:DAYLIGHT
DTSTART:20260329T020000
RDATE:20260329T020000
RDATE:20270328T020000
TZNAME:CEST
TZOFFSETFROM:+0100
TZOFFSETTO:+0200
END:DAYLIGHT
BEGIN:STANDARD
DTSTART:20261025T030000
RDATE:20261025T030000
RDATE:20271031T030000
TZNAME:CET
TZOFFSETFROM:+0200
TZOFFSETTO:+0100
END:STANDARD
END:VTIMEZONE
BEGIN:VEVENT
SUMMARY:Programiranje 2 (FM-3\, MAT-2)\, Predavanja (P)
DTSTART;TZID=Europe/Ljubljana:20220502T080000
DTEND;TZID=Europe/Ljubljana:20220502T100000
DTSTAMP:20260426T011756Z
UID:fmf-AFLABS-URNIK:premaknjeno-srecanje:86739
ATTENDEE:2. letnik (M)
ATTENDEE:3. letnik (FM)
CATEGORIES:Entry,Standard
COLOR:darkgreen
DESCRIPTION:Predmet: Programiranje 2 (FM-3\, MAT-2)\, Predavanja (P)\nLetn
 iki: 3. letnik (FM)\, 2. letnik (M)\nIzvajalci: Alexander Keith Simpson\nP
 rostor: 2.02
LOCATION:2.02
ORGANIZER:Alexander Keith Simpson
RELATED-TO:fmf-AFLABS-URNIK:srecanje:7205
X-WR-TIMEZONE:Europe/Ljubljana
END:VEVENT
BEGIN:VEVENT
SUMMARY:Programiranje 2 (FM-3\, MAT-2)\, Predavanja (P)
DTSTART;TZID=Europe/Ljubljana:20220509T080000
DTEND;TZID=Europe/Ljubljana:20220509T100000
DTSTAMP:20260426T011756Z
UID:fmf-AFLABS-URNIK:premaknjeno-srecanje:86740
ATTENDEE:2. letnik (M)
ATTENDEE:3. letnik (FM)
CATEGORIES:Entry,Standard
COLOR:darkgreen
DESCRIPTION:Predmet: Programiranje 2 (FM-3\, MAT-2)\, Predavanja (P)\nLetn
 iki: 3. letnik (FM)\, 2. letnik (M)\nIzvajalci: Alexander Keith Simpson\nP
 rostor: 2.02
LOCATION:2.02
ORGANIZER:Alexander Keith Simpson
RELATED-TO:fmf-AFLABS-URNIK:srecanje:7205
X-WR-TIMEZONE:Europe/Ljubljana
END:VEVENT
BEGIN:VEVENT
SUMMARY:Programiranje 2 (FM-3\, MAT-2)\, Predavanja (P)
DTSTART;TZID=Europe/Ljubljana:20220516T080000
DTEND;TZID=Europe/Ljubljana:20220516T100000
DTSTAMP:20260426T011756Z
UID:fmf-AFLABS-URNIK:premaknjeno-srecanje:86741
ATTENDEE:2. letnik (M)
ATTENDEE:3. letnik (FM)
CATEGORIES:Entry,Standard
COLOR:darkgreen
DESCRIPTION:Predmet: Programiranje 2 (FM-3\, MAT-2)\, Predavanja (P)\nLetn
 iki: 3. letnik (FM)\, 2. letnik (M)\nIzvajalci: Alexander Keith Simpson\nP
 rostor: 2.02
LOCATION:2.02
ORGANIZER:Alexander Keith Simpson
RELATED-TO:fmf-AFLABS-URNIK:srecanje:7205
X-WR-TIMEZONE:Europe/Ljubljana
END:VEVENT
BEGIN:VEVENT
SUMMARY:Programiranje 2 (FM-3\, MAT-2)\, Predavanja (P)
DTSTART;TZID=Europe/Ljubljana:20220523T080000
DTEND;TZID=Europe/Ljubljana:20220523T100000
DTSTAMP:20260426T011756Z
UID:fmf-AFLABS-URNIK:premaknjeno-srecanje:86742
ATTENDEE:2. letnik (M)
ATTENDEE:3. letnik (FM)
CATEGORIES:Entry,Standard
COLOR:darkgreen
DESCRIPTION:Predmet: Programiranje 2 (FM-3\, MAT-2)\, Predavanja (P)\nLetn
 iki: 3. letnik (FM)\, 2. letnik (M)\nIzvajalci: Alexander Keith Simpson\nP
 rostor: 2.02
LOCATION:2.02
ORGANIZER:Alexander Keith Simpson
RELATED-TO:fmf-AFLABS-URNIK:srecanje:7205
X-WR-TIMEZONE:Europe/Ljubljana
END:VEVENT
BEGIN:VEVENT
SUMMARY:Programiranje 2 (FM-3\, MAT-2)\, Predavanja (P)
DTSTART;TZID=Europe/Ljubljana:20220530T080000
DTEND;TZID=Europe/Ljubljana:20220530T100000
DTSTAMP:20260426T011756Z
UID:fmf-AFLABS-URNIK:premaknjeno-srecanje:86743
ATTENDEE:2. letnik (M)
ATTENDEE:3. letnik (FM)
CATEGORIES:Entry,Standard
COLOR:darkgreen
DESCRIPTION:Predmet: Programiranje 2 (FM-3\, MAT-2)\, Predavanja (P)\nLetn
 iki: 3. letnik (FM)\, 2. letnik (M)\nIzvajalci: Alexander Keith Simpson\nP
 rostor: 2.02
LOCATION:2.02
ORGANIZER:Alexander Keith Simpson
RELATED-TO:fmf-AFLABS-URNIK:srecanje:7205
X-WR-TIMEZONE:Europe/Ljubljana
END:VEVENT
BEGIN:VEVENT
SUMMARY:REZ FM ()\, Predavanja (P)
DTSTART;TZID=Europe/Ljubljana:20220502T080000
DTEND;TZID=Europe/Ljubljana:20220502T100000
DTSTAMP:20260426T011756Z
UID:fmf-AFLABS-URNIK:premaknjeno-srecanje:90101
CATEGORIES:Entry,Standard
COLOR:darkgreen
DESCRIPTION:Predmet: REZ FM ()\, Predavanja (P)\nLetniki: \nIzvajalci: Ale
 xander Keith Simpson\nProstor: 3.11
LOCATION:3.11
ORGANIZER:Alexander Keith Simpson
RELATED-TO:fmf-AFLABS-URNIK:srecanje:7224
X-WR-TIMEZONE:Europe/Ljubljana
END:VEVENT
BEGIN:VEVENT
SUMMARY:REZ FM ()\, Predavanja (P)
DTSTART;TZID=Europe/Ljubljana:20220509T080000
DTEND;TZID=Europe/Ljubljana:20220509T100000
DTSTAMP:20260426T011756Z
UID:fmf-AFLABS-URNIK:premaknjeno-srecanje:90102
CATEGORIES:Entry,Standard
COLOR:darkgreen
DESCRIPTION:Predmet: REZ FM ()\, Predavanja (P)\nLetniki: \nIzvajalci: Ale
 xander Keith Simpson\nProstor: 3.11
LOCATION:3.11
ORGANIZER:Alexander Keith Simpson
RELATED-TO:fmf-AFLABS-URNIK:srecanje:7224
X-WR-TIMEZONE:Europe/Ljubljana
END:VEVENT
BEGIN:VEVENT
SUMMARY:REZ FM ()\, Predavanja (P)
DTSTART;TZID=Europe/Ljubljana:20220516T080000
DTEND;TZID=Europe/Ljubljana:20220516T100000
DTSTAMP:20260426T011756Z
UID:fmf-AFLABS-URNIK:premaknjeno-srecanje:90103
CATEGORIES:Entry,Standard
COLOR:darkgreen
DESCRIPTION:Predmet: REZ FM ()\, Predavanja (P)\nLetniki: \nIzvajalci: Ale
 xander Keith Simpson\nProstor: 3.11
LOCATION:3.11
ORGANIZER:Alexander Keith Simpson
RELATED-TO:fmf-AFLABS-URNIK:srecanje:7224
X-WR-TIMEZONE:Europe/Ljubljana
END:VEVENT
BEGIN:VEVENT
SUMMARY:REZ FM ()\, Predavanja (P)
DTSTART;TZID=Europe/Ljubljana:20220523T080000
DTEND;TZID=Europe/Ljubljana:20220523T100000
DTSTAMP:20260426T011756Z
UID:fmf-AFLABS-URNIK:premaknjeno-srecanje:90104
CATEGORIES:Entry,Standard
COLOR:darkgreen
DESCRIPTION:Predmet: REZ FM ()\, Predavanja (P)\nLetniki: \nIzvajalci: Ale
 xander Keith Simpson\nProstor: 3.11
LOCATION:3.11
ORGANIZER:Alexander Keith Simpson
RELATED-TO:fmf-AFLABS-URNIK:srecanje:7224
X-WR-TIMEZONE:Europe/Ljubljana
END:VEVENT
BEGIN:VEVENT
SUMMARY:REZ FM ()\, Predavanja (P)
DTSTART;TZID=Europe/Ljubljana:20220530T080000
DTEND;TZID=Europe/Ljubljana:20220530T100000
DTSTAMP:20260426T011756Z
UID:fmf-AFLABS-URNIK:premaknjeno-srecanje:90105
CATEGORIES:Entry,Standard
COLOR:darkgreen
DESCRIPTION:Predmet: REZ FM ()\, Predavanja (P)\nLetniki: \nIzvajalci: Ale
 xander Keith Simpson\nProstor: 3.11
LOCATION:3.11
ORGANIZER:Alexander Keith Simpson
RELATED-TO:fmf-AFLABS-URNIK:srecanje:7224
X-WR-TIMEZONE:Europe/Ljubljana
END:VEVENT
BEGIN:VEVENT
SUMMARY:Kardinalna aritmetika (FM-M\, MAT-M\, PM-5)\, Predavanja (P)
DTSTART;TZID=Europe/Ljubljana:20220504T140000
DTEND;TZID=Europe/Ljubljana:20220504T170000
DTSTAMP:20260426T011756Z
UID:fmf-AFLABS-URNIK:premaknjeno-srecanje:48673
ATTENDEE:5. letnik (PM)
ATTENDEE:magistrski študij (FM)
ATTENDEE:magistrski študij (M)
CATEGORIES:Entry,Standard
COLOR:darkgreen
DESCRIPTION:Predmet: Kardinalna aritmetika (FM-M\, MAT-M\, PM-5)\, Predava
 nja (P)\nLetniki: magistrski študij (FM)\, magistrski študij (M)\, 5. le
 tnik (PM)\nIzvajalci: Alexander Keith Simpson\nProstor: 3.07
LOCATION:3.07
ORGANIZER:Alexander Keith Simpson
RELATED-TO:fmf-AFLABS-URNIK:srecanje:7030
X-WR-TIMEZONE:Europe/Ljubljana
END:VEVENT
BEGIN:VEVENT
SUMMARY:Kardinalna aritmetika (FM-M\, MAT-M\, PM-5)\, Predavanja (P)
DTSTART;TZID=Europe/Ljubljana:20220511T140000
DTEND;TZID=Europe/Ljubljana:20220511T170000
DTSTAMP:20260426T011756Z
UID:fmf-AFLABS-URNIK:premaknjeno-srecanje:48674
ATTENDEE:5. letnik (PM)
ATTENDEE:magistrski študij (FM)
ATTENDEE:magistrski študij (M)
CATEGORIES:Entry,Standard
COLOR:darkgreen
DESCRIPTION:Predmet: Kardinalna aritmetika (FM-M\, MAT-M\, PM-5)\, Predava
 nja (P)\nLetniki: magistrski študij (FM)\, magistrski študij (M)\, 5. le
 tnik (PM)\nIzvajalci: Alexander Keith Simpson\nProstor: 3.07
LOCATION:3.07
ORGANIZER:Alexander Keith Simpson
RELATED-TO:fmf-AFLABS-URNIK:srecanje:7030
X-WR-TIMEZONE:Europe/Ljubljana
END:VEVENT
BEGIN:VEVENT
SUMMARY:Kardinalna aritmetika (FM-M\, MAT-M\, PM-5)\, Predavanja (P)
DTSTART;TZID=Europe/Ljubljana:20220518T140000
DTEND;TZID=Europe/Ljubljana:20220518T170000
DTSTAMP:20260426T011756Z
UID:fmf-AFLABS-URNIK:premaknjeno-srecanje:48675
ATTENDEE:5. letnik (PM)
ATTENDEE:magistrski študij (FM)
ATTENDEE:magistrski študij (M)
CATEGORIES:Entry,Standard
COLOR:darkgreen
DESCRIPTION:Predmet: Kardinalna aritmetika (FM-M\, MAT-M\, PM-5)\, Predava
 nja (P)\nLetniki: magistrski študij (FM)\, magistrski študij (M)\, 5. le
 tnik (PM)\nIzvajalci: Alexander Keith Simpson\nProstor: 3.07
LOCATION:3.07
ORGANIZER:Alexander Keith Simpson
RELATED-TO:fmf-AFLABS-URNIK:srecanje:7030
X-WR-TIMEZONE:Europe/Ljubljana
END:VEVENT
BEGIN:VEVENT
SUMMARY:Kardinalna aritmetika (FM-M\, MAT-M\, PM-5)\, Predavanja (P)
DTSTART;TZID=Europe/Ljubljana:20220525T140000
DTEND;TZID=Europe/Ljubljana:20220525T170000
DTSTAMP:20260426T011756Z
UID:fmf-AFLABS-URNIK:premaknjeno-srecanje:48676
ATTENDEE:5. letnik (PM)
ATTENDEE:magistrski študij (FM)
ATTENDEE:magistrski študij (M)
CATEGORIES:Entry,Standard
COLOR:darkgreen
DESCRIPTION:Predmet: Kardinalna aritmetika (FM-M\, MAT-M\, PM-5)\, Predava
 nja (P)\nLetniki: magistrski študij (FM)\, magistrski študij (M)\, 5. le
 tnik (PM)\nIzvajalci: Alexander Keith Simpson\nProstor: 3.07
LOCATION:3.07
ORGANIZER:Alexander Keith Simpson
RELATED-TO:fmf-AFLABS-URNIK:srecanje:7030
X-WR-TIMEZONE:Europe/Ljubljana
END:VEVENT
BEGIN:VEVENT
SUMMARY:Matematično izražanje v angleškem jeziku (APM-1)\, Predavanja (
 P)
DTSTART;TZID=Europe/Ljubljana:20220506T120000
DTEND;TZID=Europe/Ljubljana:20220506T140000
DTSTAMP:20260426T011756Z
UID:fmf-AFLABS-URNIK:premaknjeno-srecanje:69269
ATTENDEE:1. letnik (APM)
CATEGORIES:Entry,Standard
COLOR:darkgreen
DESCRIPTION:Predmet: Matematično izražanje v angleškem jeziku (APM-1)\,
  Predavanja (P)\nLetniki: 1. letnik (APM)\nIzvajalci: Alexander Keith Simp
 son\nProstor: 2.03
LOCATION:2.03
ORGANIZER:Alexander Keith Simpson
RELATED-TO:fmf-AFLABS-URNIK:srecanje:7114
X-WR-TIMEZONE:Europe/Ljubljana
END:VEVENT
BEGIN:VEVENT
SUMMARY:Matematično izražanje v angleškem jeziku (APM-1)\, Predavanja (
 P)
DTSTART;TZID=Europe/Ljubljana:20220513T120000
DTEND;TZID=Europe/Ljubljana:20220513T140000
DTSTAMP:20260426T011756Z
UID:fmf-AFLABS-URNIK:premaknjeno-srecanje:69270
ATTENDEE:1. letnik (APM)
CATEGORIES:Entry,Standard
COLOR:darkgreen
DESCRIPTION:Predmet: Matematično izražanje v angleškem jeziku (APM-1)\,
  Predavanja (P)\nLetniki: 1. letnik (APM)\nIzvajalci: Alexander Keith Simp
 son\nProstor: 2.03
LOCATION:2.03
ORGANIZER:Alexander Keith Simpson
RELATED-TO:fmf-AFLABS-URNIK:srecanje:7114
X-WR-TIMEZONE:Europe/Ljubljana
END:VEVENT
BEGIN:VEVENT
SUMMARY:Matematično izražanje v angleškem jeziku (APM-1)\, Predavanja (
 P)
DTSTART;TZID=Europe/Ljubljana:20220520T120000
DTEND;TZID=Europe/Ljubljana:20220520T140000
DTSTAMP:20260426T011756Z
UID:fmf-AFLABS-URNIK:premaknjeno-srecanje:69271
ATTENDEE:1. letnik (APM)
CATEGORIES:Entry,Standard
COLOR:darkgreen
DESCRIPTION:Predmet: Matematično izražanje v angleškem jeziku (APM-1)\,
  Predavanja (P)\nLetniki: 1. letnik (APM)\nIzvajalci: Alexander Keith Simp
 son\nProstor: 2.03
LOCATION:2.03
ORGANIZER:Alexander Keith Simpson
RELATED-TO:fmf-AFLABS-URNIK:srecanje:7114
X-WR-TIMEZONE:Europe/Ljubljana
END:VEVENT
BEGIN:VEVENT
SUMMARY:Matematično izražanje v angleškem jeziku (APM-1)\, Predavanja (
 P)
DTSTART;TZID=Europe/Ljubljana:20220527T120000
DTEND;TZID=Europe/Ljubljana:20220527T140000
DTSTAMP:20260426T011756Z
UID:fmf-AFLABS-URNIK:premaknjeno-srecanje:69272
ATTENDEE:1. letnik (APM)
CATEGORIES:Entry,Standard
COLOR:darkgreen
DESCRIPTION:Predmet: Matematično izražanje v angleškem jeziku (APM-1)\,
  Predavanja (P)\nLetniki: 1. letnik (APM)\nIzvajalci: Alexander Keith Simp
 son\nProstor: 2.03
LOCATION:2.03
ORGANIZER:Alexander Keith Simpson
RELATED-TO:fmf-AFLABS-URNIK:srecanje:7114
X-WR-TIMEZONE:Europe/Ljubljana
END:VEVENT
BEGIN:VEVENT
SUMMARY:Rezervacija
DTSTART;TZID=Europe/Ljubljana:20220603T100000
DTEND;TZID=Europe/Ljubljana:20220603T120000
DTSTAMP:20260426T011756Z
UID:fmf-AFLABS-URNIK:rezervacija:9168
ATTENDEE:1. letnik (APM)
CATEGORIES:Reservation
COLOR:royalblue
DESCRIPTION:Predmeti: Matematično izražanje v angleškem jeziku (APM-1)\
 nLetniki: 1. letnik (APM)\nIzvajalci: Alexander Keith Simpson\nProstori: 3
 .07
LOCATION:3.07
ORGANIZER:Alexander Keith Simpson
X-WR-TIMEZONE:Europe/Ljubljana
END:VEVENT
BEGIN:VEVENT
SUMMARY:Rezervacija
DTSTART;TZID=Europe/Ljubljana:20220607T100000
DTEND;TZID=Europe/Ljubljana:20220607T130000
DTSTAMP:20260426T011756Z
UID:fmf-AFLABS-URNIK:rezervacija:9215
ATTENDEE:5. letnik (PM)
ATTENDEE:magistrski študij (FM)
ATTENDEE:magistrski študij (M)
CATEGORIES:Reservation
COLOR:royalblue
DESCRIPTION:Predmeti: Kardinalna aritmetika (FM-M\, MAT-M\, PM-5)\nLetniki
 : magistrski študij (FM)\, magistrski študij (M)\, 5. letnik (PM)\nIzvaj
 alci: Alexander Keith Simpson\nProstori: 3.07
LOCATION:3.07
ORGANIZER:Alexander Keith Simpson
X-WR-TIMEZONE:Europe/Ljubljana
END:VEVENT
BEGIN:VEVENT
SUMMARY:Rezervacija
DTSTART;TZID=Europe/Ljubljana:20220608T140000
DTEND;TZID=Europe/Ljubljana:20220608T150000
DTSTAMP:20260426T011756Z
UID:fmf-AFLABS-URNIK:rezervacija:9244
ATTENDEE:1. letnik (APM)
CATEGORIES:Reservation
COLOR:royalblue
DESCRIPTION:Predmeti: Matematično izražanje v angleškem jeziku (APM-1)\
 nLetniki: 1. letnik (APM)\nIzvajalci: Alexander Keith Simpson\nProstori: 3
 .06
LOCATION:3.06
ORGANIZER:Alexander Keith Simpson
X-WR-TIMEZONE:Europe/Ljubljana
END:VEVENT
BEGIN:VEVENT
SUMMARY:Rezervacija
DTSTART;TZID=Europe/Ljubljana:20220628T100000
DTEND;TZID=Europe/Ljubljana:20220628T130000
DTSTAMP:20260426T011756Z
UID:fmf-AFLABS-URNIK:rezervacija:9557
ATTENDEE:5. letnik (PM)
ATTENDEE:magistrski študij (FM)
ATTENDEE:magistrski študij (M)
CATEGORIES:Reservation
COLOR:royalblue
DESCRIPTION:Predmeti: Kardinalna aritmetika (FM-M\, MAT-M\, PM-5)\nLetniki
 : magistrski študij (FM)\, magistrski študij (M)\, 5. letnik (PM)\nIzvaj
 alci: Alexander Keith Simpson\nProstori: 3.07
LOCATION:3.07
ORGANIZER:Alexander Keith Simpson
X-WR-TIMEZONE:Europe/Ljubljana
END:VEVENT
END:VCALENDAR
