BEGIN:VCALENDAR
VERSION:2.0
PRODID:-//AFLabs urnik izvoz - fmf//aflabs.si//SI
DTSTAMP:20260423T162337Z
NAME:UL FMF urnik
REFRESH-INTERVAL:PT1H
SOURCE:https://urnik.fmf.uni-lj.si/teacher/694?day=2024-09-02&export=1
URL:https://urnik.fmf.uni-lj.si/teacher/694?day=2024-09-02&export=1
X-PUBLISHED-TTL:PT1H
X-WR-CALNAME:UL FMF urnik
X-WR-TIMEZONE:Europe/Ljubljana
BEGIN:VTIMEZONE
TZID:Europe/Ljubljana
BEGIN:DAYLIGHT
DTSTART:20260329T020000
RDATE:20260329T020000
RDATE:20270328T020000
TZNAME:CEST
TZOFFSETFROM:+0100
TZOFFSETTO:+0200
END:DAYLIGHT
BEGIN:STANDARD
DTSTART:20261025T030000
RDATE:20261025T030000
RDATE:20271031T030000
TZNAME:CET
TZOFFSETFROM:+0200
TZOFFSETTO:+0100
END:STANDARD
END:VTIMEZONE
BEGIN:VEVENT
SUMMARY:Teorija izračunljivosti (FM-M\, IŠRM-M\, MAT-M\, PM-5)\, Predava
 nja (P)
DTSTART;TZID=Europe/Ljubljana:20241002T140000
DTEND;TZID=Europe/Ljubljana:20241002T170000
DTSTAMP:20260423T162337Z
UID:fmf-AFLABS-URNIK:premaknjeno-srecanje:185497
ATTENDEE:5. letnik (PM)
ATTENDEE:magistrski študij (FM)
ATTENDEE:magistrski študij (IŠRM)
ATTENDEE:magistrski študij (M)
CATEGORIES:Entry,Standard
COLOR:darkgreen
DESCRIPTION:Predmet: Teorija izračunljivosti (FM-M\, IŠRM-M\, MAT-M\, PM
 -5)\, Predavanja (P)\nLetniki: magistrski študij (FM)\, magistrski študi
 j (IŠRM)\, magistrski študij (M)\, 5. letnik (PM)\nIzvajalci: Alexander 
 Keith Simpson\nProstor: 2.03
LOCATION:2.03
ORGANIZER:Alexander Keith Simpson
RELATED-TO:fmf-AFLABS-URNIK:srecanje:14086
X-WR-TIMEZONE:Europe/Ljubljana
END:VEVENT
BEGIN:VEVENT
SUMMARY:Logika in množice (MAT-1\, PM-1)\, Predavanja (P)
DTSTART;TZID=Europe/Ljubljana:20241003T080000
DTEND;TZID=Europe/Ljubljana:20241003T100000
DTSTAMP:20260423T162337Z
UID:fmf-AFLABS-URNIK:premaknjeno-srecanje:187659
ATTENDEE:1. letnik (M)
ATTENDEE:1. letnik (PM)
CATEGORIES:Entry,Standard
COLOR:darkgreen
DESCRIPTION:Predmet: Logika in množice (MAT-1\, PM-1)\, Predavanja (P)\nL
 etniki: 1. letnik (M)\, 1. letnik (PM)\nIzvajalci: Alexander Keith Simpson
 \nProstor: 2.05
LOCATION:2.05
ORGANIZER:Alexander Keith Simpson
RELATED-TO:fmf-AFLABS-URNIK:srecanje:14385
X-WR-TIMEZONE:Europe/Ljubljana
END:VEVENT
BEGIN:VEVENT
SUMMARY:Podatkovne strukture in algoritmi 1 (FM-3\, MAT-3)\, Predavanja (P
 )
DTSTART;TZID=Europe/Ljubljana:20241004T130000
DTEND;TZID=Europe/Ljubljana:20241004T150000
DTSTAMP:20260423T162337Z
UID:fmf-AFLABS-URNIK:premaknjeno-srecanje:188875
ATTENDEE:3. letnik (FM)
ATTENDEE:3. letnik (M)
CATEGORIES:Entry,Standard
COLOR:darkgreen
DESCRIPTION:Predmet: Podatkovne strukture in algoritmi 1 (FM-3\, MAT-3)\, 
 Predavanja (P)\nLetniki: 3. letnik (FM)\, 3. letnik (M)\nIzvajalci: Alexan
 der Keith Simpson\nProstor: 2.04
LOCATION:2.04
ORGANIZER:Alexander Keith Simpson
RELATED-TO:fmf-AFLABS-URNIK:srecanje:14540
X-WR-TIMEZONE:Europe/Ljubljana
END:VEVENT
BEGIN:VEVENT
SUMMARY:Rezervacija
DTSTART;TZID=Europe/Ljubljana:20240820T100000
DTEND;TZID=Europe/Ljubljana:20240820T120000
DTSTAMP:20260423T162337Z
UID:fmf-AFLABS-URNIK:rezervacija:14090
ATTENDEE:1. letnik (APM)
CATEGORIES:Reservation
COLOR:royalblue
DESCRIPTION:Predmeti: Matematično izražanje v angleškem jeziku (APM-1)\
 nLetniki: 1. letnik (APM)\nIzvajalci: Alexander Keith Simpson\nProstori: 3
 .07
LOCATION:3.07
ORGANIZER:Alexander Keith Simpson
X-WR-TIMEZONE:Europe/Ljubljana
END:VEVENT
BEGIN:VEVENT
SUMMARY:Rezervacija
DTSTART;TZID=Europe/Ljubljana:20240830T100000
DTEND;TZID=Europe/Ljubljana:20240830T120000
DTSTAMP:20260423T162337Z
UID:fmf-AFLABS-URNIK:rezervacija:14116
ATTENDEE:1. letnik (APM)
CATEGORIES:Reservation
COLOR:royalblue
DESCRIPTION:Predmeti: Matematično izražanje v angleškem jeziku (APM-1)\
 nLetniki: 1. letnik (APM)\nIzvajalci: Alexander Keith Simpson\nProstori: 3
 .07
LOCATION:3.07
ORGANIZER:Alexander Keith Simpson
X-WR-TIMEZONE:Europe/Ljubljana
END:VEVENT
BEGIN:VEVENT
SUMMARY:Filip Koprivec: prestavitev rezultatov doktorske disertacije
DTSTART;TZID=Europe/Ljubljana:20240822T100000
DTEND;TZID=Europe/Ljubljana:20240822T140000
DTSTAMP:20260423T162337Z
UID:fmf-AFLABS-URNIK:rezervacija:17524
CATEGORIES:Reservation
COLOR:royalblue
DESCRIPTION:Predmeti: \nLetniki: \nIzvajalci: Alexander Keith Simpson\nPro
 stori: 3.07
LOCATION:3.07
ORGANIZER:Alexander Keith Simpson
X-WR-TIMEZONE:Europe/Ljubljana
END:VEVENT
BEGIN:VEVENT
SUMMARY:3. izpit predmeta Kardinalna aritmetika
DTSTART;TZID=Europe/Ljubljana:20240829T090000
DTEND;TZID=Europe/Ljubljana:20240829T120000
DTSTAMP:20260423T162337Z
UID:fmf-AFLABS-URNIK:rezervacija:17701
ATTENDEE:5. letnik (PM)
ATTENDEE:magistrski študij (FM)
ATTENDEE:magistrski študij (M)
CATEGORIES:Reservation
COLOR:royalblue
DESCRIPTION:Predmeti: Kardinalna aritmetika (FM-M\, MAT-M\, PM-5)\nLetniki
 : magistrski študij (FM)\, magistrski študij (M)\, 5. letnik (PM)\nIzvaj
 alci: Gregor Dolinar\, Alexander Keith Simpson\nProstori: 3.06
LOCATION:3.06
ORGANIZER:Gregor Dolinar, Alexander Keith Simpson
X-WR-TIMEZONE:Europe/Ljubljana
END:VEVENT
BEGIN:VEVENT
SUMMARY:Študentstka predstavitev
DTSTART;TZID=Europe/Ljubljana:20240827T090000
DTEND;TZID=Europe/Ljubljana:20240827T100000
DTSTAMP:20260423T162337Z
UID:fmf-AFLABS-URNIK:rezervacija:17868
ATTENDEE:1. letnik (APM)
CATEGORIES:Reservation
COLOR:royalblue
DESCRIPTION:Predmeti: Matematično izražanje v angleškem jeziku (APM-1)\
 nLetniki: 1. letnik (APM)\nIzvajalci: Alexander Keith Simpson\nProstori: 3
 .06
LOCATION:3.06
ORGANIZER:Alexander Keith Simpson
X-WR-TIMEZONE:Europe/Ljubljana
END:VEVENT
BEGIN:VEVENT
SUMMARY:Zagovor doktorata - Koprivec
DTSTART;TZID=Europe/Ljubljana:20240924T100000
DTEND;TZID=Europe/Ljubljana:20240924T120000
DTSTAMP:20260423T162337Z
UID:fmf-AFLABS-URNIK:rezervacija:18360
CATEGORIES:Reservation
COLOR:royalblue
DESCRIPTION:Predmeti: \nLetniki: \nIzvajalci: Alexander Keith Simpson\nPro
 stori: 3.05
LOCATION:3.05
ORGANIZER:Alexander Keith Simpson
X-WR-TIMEZONE:Europe/Ljubljana
END:VEVENT
END:VCALENDAR
