BEGIN:VCALENDAR
VERSION:2.0
PRODID:-//AFLabs urnik izvoz - fmf//aflabs.si//SI
DTSTAMP:20260422T044658Z
NAME:UL FMF urnik
REFRESH-INTERVAL:PT1H
SOURCE:https://urnik.fmf.uni-lj.si/teacher/695?day=2024-01-01&export=1
URL:https://urnik.fmf.uni-lj.si/teacher/695?day=2024-01-01&export=1
X-PUBLISHED-TTL:PT1H
X-WR-CALNAME:UL FMF urnik
X-WR-TIMEZONE:Europe/Ljubljana
BEGIN:VTIMEZONE
TZID:Europe/Ljubljana
BEGIN:DAYLIGHT
DTSTART:20260329T020000
RDATE:20260329T020000
RDATE:20270328T020000
TZNAME:CEST
TZOFFSETFROM:+0100
TZOFFSETTO:+0200
END:DAYLIGHT
BEGIN:STANDARD
DTSTART:20261025T030000
RDATE:20261025T030000
RDATE:20271031T030000
TZNAME:CET
TZOFFSETFROM:+0200
TZOFFSETTO:+0100
END:STANDARD
END:VTIMEZONE
BEGIN:VEVENT
SUMMARY:Rezervacija
DTSTART;TZID=Europe/Ljubljana:20231005T100000
DTEND;TZID=Europe/Ljubljana:20231005T120000
DTSTAMP:20260422T044658Z
UID:fmf-AFLABS-URNIK:rezervacija:13406
CATEGORIES:Reservation
COLOR:royalblue
DESCRIPTION:Predmeti: \nLetniki: \nIzvajalci: Nina Rogelja\nProstori: F7
LOCATION:F7
ORGANIZER:Nina Rogelja
X-WR-TIMEZONE:Europe/Ljubljana
END:VEVENT
BEGIN:VEVENT
SUMMARY:Rezervacija
DTSTART;TZID=Europe/Ljubljana:20231020T100000
DTEND;TZID=Europe/Ljubljana:20231020T130000
DTSTAMP:20260422T044658Z
UID:fmf-AFLABS-URNIK:rezervacija:13476
CATEGORIES:Reservation
COLOR:royalblue
DESCRIPTION:Predmeti: \nLetniki: \nIzvajalci: Nina Rogelja\nProstori: F6
LOCATION:F6
ORGANIZER:Nina Rogelja
X-WR-TIMEZONE:Europe/Ljubljana
END:VEVENT
BEGIN:VEVENT
SUMMARY:Rezervacija
DTSTART;TZID=Europe/Ljubljana:20231130T140000
DTEND;TZID=Europe/Ljubljana:20231130T150000
DTSTAMP:20260422T044658Z
UID:fmf-AFLABS-URNIK:rezervacija:13675
CATEGORIES:Reservation
COLOR:royalblue
DESCRIPTION:Predmeti: \nLetniki: \nIzvajalci: Nina Rogelja\nProstori: Sejn
 a soba J21
LOCATION:Sejna soba J21
ORGANIZER:Nina Rogelja
X-WR-TIMEZONE:Europe/Ljubljana
END:VEVENT
BEGIN:VEVENT
SUMMARY:Rezervacija
DTSTART;TZID=Europe/Ljubljana:20231219T170000
DTEND;TZID=Europe/Ljubljana:20231219T200000
DTSTAMP:20260422T044658Z
UID:fmf-AFLABS-URNIK:rezervacija:13821
CATEGORIES:Reservation
COLOR:royalblue
DESCRIPTION:Predmeti: \nLetniki: \nIzvajalci: Nina Rogelja\nProstori: VFP
LOCATION:VFP
ORGANIZER:Nina Rogelja
X-WR-TIMEZONE:Europe/Ljubljana
END:VEVENT
BEGIN:VEVENT
SUMMARY:FGG
DTSTART;TZID=Europe/Ljubljana:20240125T130000
DTEND;TZID=Europe/Ljubljana:20240125T150000
DTSTAMP:20260422T044658Z
UID:fmf-AFLABS-URNIK:rezervacija:14626
CATEGORIES:Reservation
COLOR:royalblue
DESCRIPTION:Predmeti: \nLetniki: \nIzvajalci: Nina Rogelja\nProstori: MFP
LOCATION:MFP
ORGANIZER:Nina Rogelja
X-WR-TIMEZONE:Europe/Ljubljana
END:VEVENT
END:VCALENDAR
