BEGIN:VCALENDAR
VERSION:2.0
PRODID:-//AFLabs urnik izvoz - fmf//aflabs.si//SI
DTSTAMP:20260422T014950Z
NAME:UL FMF urnik
REFRESH-INTERVAL:PT1H
SOURCE:https://urnik.fmf.uni-lj.si/teacher/696?day=2021-10-04&export=1
URL:https://urnik.fmf.uni-lj.si/teacher/696?day=2021-10-04&export=1
X-PUBLISHED-TTL:PT1H
X-WR-CALNAME:UL FMF urnik
X-WR-TIMEZONE:Europe/Ljubljana
BEGIN:VTIMEZONE
TZID:Europe/Ljubljana
BEGIN:DAYLIGHT
DTSTART:20260329T020000
RDATE:20260329T020000
RDATE:20270328T020000
TZNAME:CEST
TZOFFSETFROM:+0100
TZOFFSETTO:+0200
END:DAYLIGHT
BEGIN:STANDARD
DTSTART:20261025T030000
RDATE:20261025T030000
RDATE:20271031T030000
TZNAME:CET
TZOFFSETFROM:+0200
TZOFFSETTO:+0100
END:STANDARD
END:VTIMEZONE
BEGIN:VEVENT
SUMMARY:Rezervacija
DTSTART;TZID=Europe/Ljubljana:20211019T120000
DTEND;TZID=Europe/Ljubljana:20211019T160000
DTSTAMP:20260422T014950Z
UID:fmf-AFLABS-URNIK:rezervacija:7929
CATEGORIES:Reservation
COLOR:royalblue
DESCRIPTION:Predmeti: \nLetniki: \nIzvajalci: Mojca Avbelj Korošec\nProst
 ori: 3.07
LOCATION:3.07
ORGANIZER:Mojca Avbelj Korošec
X-WR-TIMEZONE:Europe/Ljubljana
END:VEVENT
BEGIN:VEVENT
SUMMARY:Rezervacija
DTSTART;TZID=Europe/Ljubljana:20211022T100000
DTEND;TZID=Europe/Ljubljana:20211022T110000
DTSTAMP:20260422T014950Z
UID:fmf-AFLABS-URNIK:rezervacija:7940
CATEGORIES:Reservation
COLOR:royalblue
DESCRIPTION:Predmeti: \nLetniki: \nIzvajalci: Mojca Avbelj Korošec\nProst
 ori: 2.01
LOCATION:2.01
ORGANIZER:Mojca Avbelj Korošec
X-WR-TIMEZONE:Europe/Ljubljana
END:VEVENT
BEGIN:VEVENT
SUMMARY:Rezervacija
DTSTART;TZID=Europe/Ljubljana:20211022T110000
DTEND;TZID=Europe/Ljubljana:20211022T120000
DTSTAMP:20260422T014950Z
UID:fmf-AFLABS-URNIK:rezervacija:7942
CATEGORIES:Reservation
COLOR:royalblue
DESCRIPTION:Predmeti: \nLetniki: \nIzvajalci: Mojca Avbelj Korošec\nProst
 ori: 3.07
LOCATION:3.07
ORGANIZER:Mojca Avbelj Korošec
X-WR-TIMEZONE:Europe/Ljubljana
END:VEVENT
BEGIN:VEVENT
SUMMARY:Rezervacija
DTSTART;TZID=Europe/Ljubljana:20211028T090000
DTEND;TZID=Europe/Ljubljana:20211028T110000
DTSTAMP:20260422T014950Z
UID:fmf-AFLABS-URNIK:rezervacija:7954
CATEGORIES:Reservation
COLOR:royalblue
DESCRIPTION:Predmeti: \nLetniki: \nIzvajalci: Mojca Avbelj Korošec\nProst
 ori: 3.06
LOCATION:3.06
ORGANIZER:Mojca Avbelj Korošec
X-WR-TIMEZONE:Europe/Ljubljana
END:VEVENT
BEGIN:VEVENT
SUMMARY:Rezervacija
DTSTART;TZID=Europe/Ljubljana:20211029T120000
DTEND;TZID=Europe/Ljubljana:20211029T140000
DTSTAMP:20260422T014950Z
UID:fmf-AFLABS-URNIK:rezervacija:7959
CATEGORIES:Reservation
COLOR:royalblue
DESCRIPTION:Predmeti: \nLetniki: \nIzvajalci: Mojca Avbelj Korošec\nProst
 ori: 2.02
LOCATION:2.02
ORGANIZER:Mojca Avbelj Korošec
X-WR-TIMEZONE:Europe/Ljubljana
END:VEVENT
BEGIN:VEVENT
SUMMARY:Rezervacija
DTSTART;TZID=Europe/Ljubljana:20211104T120000
DTEND;TZID=Europe/Ljubljana:20211104T140000
DTSTAMP:20260422T014950Z
UID:fmf-AFLABS-URNIK:rezervacija:7969
CATEGORIES:Reservation
COLOR:royalblue
DESCRIPTION:Predmeti: \nLetniki: \nIzvajalci: Mojca Avbelj Korošec\nProst
 ori: 3.07
LOCATION:3.07
ORGANIZER:Mojca Avbelj Korošec
X-WR-TIMEZONE:Europe/Ljubljana
END:VEVENT
BEGIN:VEVENT
SUMMARY:Rezervacija
DTSTART;TZID=Europe/Ljubljana:20211105T090000
DTEND;TZID=Europe/Ljubljana:20211105T100000
DTSTAMP:20260422T014950Z
UID:fmf-AFLABS-URNIK:rezervacija:7973
CATEGORIES:Reservation
COLOR:royalblue
DESCRIPTION:Predmeti: \nLetniki: \nIzvajalci: Mojca Avbelj Korošec\nProst
 ori: 3.06
LOCATION:3.06
ORGANIZER:Mojca Avbelj Korošec
X-WR-TIMEZONE:Europe/Ljubljana
END:VEVENT
BEGIN:VEVENT
SUMMARY:Rezervacija
DTSTART;TZID=Europe/Ljubljana:20211110T080000
DTEND;TZID=Europe/Ljubljana:20211110T090000
DTSTAMP:20260422T014950Z
UID:fmf-AFLABS-URNIK:rezervacija:7981
CATEGORIES:Reservation
COLOR:royalblue
DESCRIPTION:Predmeti: \nLetniki: \nIzvajalci: Mojca Avbelj Korošec\nProst
 ori: 2.01
LOCATION:2.01
ORGANIZER:Mojca Avbelj Korošec
X-WR-TIMEZONE:Europe/Ljubljana
END:VEVENT
BEGIN:VEVENT
SUMMARY:Rezervacija
DTSTART;TZID=Europe/Ljubljana:20211123T120000
DTEND;TZID=Europe/Ljubljana:20211123T130000
DTSTAMP:20260422T014950Z
UID:fmf-AFLABS-URNIK:rezervacija:8013
CATEGORIES:Reservation
COLOR:royalblue
DESCRIPTION:Predmeti: \nLetniki: \nIzvajalci: Mojca Avbelj Korošec\nProst
 ori: 3.07
LOCATION:3.07
ORGANIZER:Mojca Avbelj Korošec
X-WR-TIMEZONE:Europe/Ljubljana
END:VEVENT
BEGIN:VEVENT
SUMMARY:Rezervacija
DTSTART;TZID=Europe/Ljubljana:20211124T090000
DTEND;TZID=Europe/Ljubljana:20211124T100000
DTSTAMP:20260422T014950Z
UID:fmf-AFLABS-URNIK:rezervacija:8019
CATEGORIES:Reservation
COLOR:royalblue
DESCRIPTION:Predmeti: \nLetniki: \nIzvajalci: Mojca Avbelj Korošec\nProst
 ori: 2.05
LOCATION:2.05
ORGANIZER:Mojca Avbelj Korošec
X-WR-TIMEZONE:Europe/Ljubljana
END:VEVENT
BEGIN:VEVENT
SUMMARY:Rezervacija
DTSTART;TZID=Europe/Ljubljana:20211202T130000
DTEND;TZID=Europe/Ljubljana:20211202T140000
DTSTAMP:20260422T014950Z
UID:fmf-AFLABS-URNIK:rezervacija:8059
CATEGORIES:Reservation
COLOR:royalblue
DESCRIPTION:Predmeti: \nLetniki: \nIzvajalci: Mojca Avbelj Korošec\nProst
 ori: 3.07
LOCATION:3.07
ORGANIZER:Mojca Avbelj Korošec
X-WR-TIMEZONE:Europe/Ljubljana
END:VEVENT
BEGIN:VEVENT
SUMMARY:Rezervacija
DTSTART;TZID=Europe/Ljubljana:20211203T120000
DTEND;TZID=Europe/Ljubljana:20211203T140000
DTSTAMP:20260422T014950Z
UID:fmf-AFLABS-URNIK:rezervacija:8067
CATEGORIES:Reservation
COLOR:royalblue
DESCRIPTION:Predmeti: \nLetniki: \nIzvajalci: Mojca Avbelj Korošec\nProst
 ori: 2.02
LOCATION:2.02
ORGANIZER:Mojca Avbelj Korošec
X-WR-TIMEZONE:Europe/Ljubljana
END:VEVENT
BEGIN:VEVENT
SUMMARY:Rezervacija
DTSTART;TZID=Europe/Ljubljana:20211209T170000
DTEND;TZID=Europe/Ljubljana:20211209T200000
DTSTAMP:20260422T014950Z
UID:fmf-AFLABS-URNIK:rezervacija:8093
CATEGORIES:Reservation
COLOR:royalblue
DESCRIPTION:Predmeti: \nLetniki: \nIzvajalci: Mojca Avbelj Korošec\nProst
 ori: 2.02
LOCATION:2.02
ORGANIZER:Mojca Avbelj Korošec
X-WR-TIMEZONE:Europe/Ljubljana
END:VEVENT
BEGIN:VEVENT
SUMMARY:Rezervacija
DTSTART;TZID=Europe/Ljubljana:20211214T120000
DTEND;TZID=Europe/Ljubljana:20211214T130000
DTSTAMP:20260422T014950Z
UID:fmf-AFLABS-URNIK:rezervacija:8118
CATEGORIES:Reservation
COLOR:royalblue
DESCRIPTION:Predmeti: \nLetniki: \nIzvajalci: Mojca Avbelj Korošec\nProst
 ori: 3.07
LOCATION:3.07
ORGANIZER:Mojca Avbelj Korošec
X-WR-TIMEZONE:Europe/Ljubljana
END:VEVENT
BEGIN:VEVENT
SUMMARY:Rezervacija
DTSTART;TZID=Europe/Ljubljana:20211216T170000
DTEND;TZID=Europe/Ljubljana:20211216T200000
DTSTAMP:20260422T014950Z
UID:fmf-AFLABS-URNIK:rezervacija:8133
CATEGORIES:Reservation
COLOR:royalblue
DESCRIPTION:Predmeti: \nLetniki: \nIzvajalci: Mojca Avbelj Korošec\nProst
 ori: P.02
LOCATION:P.02
ORGANIZER:Mojca Avbelj Korošec
X-WR-TIMEZONE:Europe/Ljubljana
END:VEVENT
BEGIN:VEVENT
SUMMARY:Rezervacija
DTSTART;TZID=Europe/Ljubljana:20211217T160000
DTEND;TZID=Europe/Ljubljana:20211217T200000
DTSTAMP:20260422T014950Z
UID:fmf-AFLABS-URNIK:rezervacija:8138
CATEGORIES:Reservation
COLOR:royalblue
DESCRIPTION:Predmeti: \nLetniki: \nIzvajalci: Mojca Avbelj Korošec\nProst
 ori: 3.12
LOCATION:3.12
ORGANIZER:Mojca Avbelj Korošec
X-WR-TIMEZONE:Europe/Ljubljana
END:VEVENT
BEGIN:VEVENT
SUMMARY:Rezervacija
DTSTART;TZID=Europe/Ljubljana:20211222T120000
DTEND;TZID=Europe/Ljubljana:20211222T130000
DTSTAMP:20260422T014950Z
UID:fmf-AFLABS-URNIK:rezervacija:8156
CATEGORIES:Reservation
COLOR:royalblue
DESCRIPTION:Predmeti: \nLetniki: \nIzvajalci: Mojca Avbelj Korošec\nProst
 ori: 3.11
LOCATION:3.11
ORGANIZER:Mojca Avbelj Korošec
X-WR-TIMEZONE:Europe/Ljubljana
END:VEVENT
BEGIN:VEVENT
SUMMARY:Rezervacija
DTSTART;TZID=Europe/Ljubljana:20211222T120000
DTEND;TZID=Europe/Ljubljana:20211222T140000
DTSTAMP:20260422T014950Z
UID:fmf-AFLABS-URNIK:rezervacija:8157
CATEGORIES:Reservation
COLOR:royalblue
DESCRIPTION:Predmeti: \nLetniki: \nIzvajalci: Mojca Avbelj Korošec\nProst
 ori: 2.01
LOCATION:2.01
ORGANIZER:Mojca Avbelj Korošec
X-WR-TIMEZONE:Europe/Ljubljana
END:VEVENT
BEGIN:VEVENT
SUMMARY:Rezervacija
DTSTART;TZID=Europe/Ljubljana:20211223T140000
DTEND;TZID=Europe/Ljubljana:20211223T160000
DTSTAMP:20260422T014950Z
UID:fmf-AFLABS-URNIK:rezervacija:8164
CATEGORIES:Reservation
COLOR:royalblue
DESCRIPTION:Predmeti: \nLetniki: \nIzvajalci: Mojca Avbelj Korošec\nProst
 ori: 2.01
LOCATION:2.01
ORGANIZER:Mojca Avbelj Korošec
X-WR-TIMEZONE:Europe/Ljubljana
END:VEVENT
BEGIN:VEVENT
SUMMARY:Rezervacija
DTSTART;TZID=Europe/Ljubljana:20211229T160000
DTEND;TZID=Europe/Ljubljana:20211229T180000
DTSTAMP:20260422T014950Z
UID:fmf-AFLABS-URNIK:rezervacija:8170
ATTENDEE:2. letnik (Fizika, 2. stopnja)
CATEGORIES:Reservation
COLOR:royalblue
DESCRIPTION:Predmeti: Atomska fizika (FIZ-M2)\nLetniki: 2. letnik (Fizika\
 , 2. stopnja)\nIzvajalci: Mojca Avbelj Korošec\nProstori: 3.12
LOCATION:3.12
ORGANIZER:Mojca Avbelj Korošec
X-WR-TIMEZONE:Europe/Ljubljana
END:VEVENT
BEGIN:VEVENT
SUMMARY:Rezervacija
DTSTART;TZID=Europe/Ljubljana:20220105T090000
DTEND;TZID=Europe/Ljubljana:20220105T100000
DTSTAMP:20260422T014950Z
UID:fmf-AFLABS-URNIK:rezervacija:8179
CATEGORIES:Reservation
COLOR:royalblue
DESCRIPTION:Predmeti: \nLetniki: \nIzvajalci: Mojca Avbelj Korošec\nProst
 ori: 3.12
LOCATION:3.12
ORGANIZER:Mojca Avbelj Korošec
X-WR-TIMEZONE:Europe/Ljubljana
END:VEVENT
BEGIN:VEVENT
SUMMARY:Rezervacija
DTSTART;TZID=Europe/Ljubljana:20220106T170000
DTEND;TZID=Europe/Ljubljana:20220106T200000
DTSTAMP:20260422T014950Z
UID:fmf-AFLABS-URNIK:rezervacija:8191
CATEGORIES:Reservation
COLOR:royalblue
DESCRIPTION:Predmeti: \nLetniki: \nIzvajalci: Mojca Avbelj Korošec\nProst
 ori: P.02
LOCATION:P.02
ORGANIZER:Mojca Avbelj Korošec
X-WR-TIMEZONE:Europe/Ljubljana
END:VEVENT
BEGIN:VEVENT
SUMMARY:Rezervacija
DTSTART;TZID=Europe/Ljubljana:20220110T170000
DTEND;TZID=Europe/Ljubljana:20220110T190000
DTSTAMP:20260422T014950Z
UID:fmf-AFLABS-URNIK:rezervacija:8209
CATEGORIES:Reservation
COLOR:royalblue
DESCRIPTION:Predmeti: \nLetniki: \nIzvajalci: Mojca Avbelj Korošec\nProst
 ori: 3.05
LOCATION:3.05
ORGANIZER:Mojca Avbelj Korošec
X-WR-TIMEZONE:Europe/Ljubljana
END:VEVENT
BEGIN:VEVENT
SUMMARY:Rezervacija
DTSTART;TZID=Europe/Ljubljana:20220112T090000
DTEND;TZID=Europe/Ljubljana:20220112T100000
DTSTAMP:20260422T014950Z
UID:fmf-AFLABS-URNIK:rezervacija:8220
CATEGORIES:Reservation
COLOR:royalblue
DESCRIPTION:Predmeti: \nLetniki: \nIzvajalci: Mojca Avbelj Korošec\nProst
 ori: 3.12
LOCATION:3.12
ORGANIZER:Mojca Avbelj Korošec
X-WR-TIMEZONE:Europe/Ljubljana
END:VEVENT
BEGIN:VEVENT
SUMMARY:Rezervacija
DTSTART;TZID=Europe/Ljubljana:20220113T120000
DTEND;TZID=Europe/Ljubljana:20220113T150000
DTSTAMP:20260422T014950Z
UID:fmf-AFLABS-URNIK:rezervacija:8232
CATEGORIES:Reservation
COLOR:royalblue
DESCRIPTION:Predmeti: \nLetniki: \nIzvajalci: Mojca Avbelj Korošec\nProst
 ori: 3.07
LOCATION:3.07
ORGANIZER:Mojca Avbelj Korošec
X-WR-TIMEZONE:Europe/Ljubljana
END:VEVENT
BEGIN:VEVENT
SUMMARY:Rezervacija
DTSTART;TZID=Europe/Ljubljana:20220113T170000
DTEND;TZID=Europe/Ljubljana:20220113T200000
DTSTAMP:20260422T014950Z
UID:fmf-AFLABS-URNIK:rezervacija:8240
CATEGORIES:Reservation
COLOR:royalblue
DESCRIPTION:Predmeti: \nLetniki: \nIzvajalci: Mojca Avbelj Korošec\nProst
 ori: P.02
LOCATION:P.02
ORGANIZER:Mojca Avbelj Korošec
X-WR-TIMEZONE:Europe/Ljubljana
END:VEVENT
BEGIN:VEVENT
SUMMARY:Rezervacija
DTSTART;TZID=Europe/Ljubljana:20220114T110000
DTEND;TZID=Europe/Ljubljana:20220114T120000
DTSTAMP:20260422T014950Z
UID:fmf-AFLABS-URNIK:rezervacija:8243
CATEGORIES:Reservation
COLOR:royalblue
DESCRIPTION:Predmeti: \nLetniki: \nIzvajalci: Mojca Avbelj Korošec\nProst
 ori: 3.07
LOCATION:3.07
ORGANIZER:Mojca Avbelj Korošec
X-WR-TIMEZONE:Europe/Ljubljana
END:VEVENT
END:VCALENDAR
