BEGIN:VCALENDAR
VERSION:2.0
PRODID:-//AFLabs urnik izvoz - fmf//aflabs.si//SI
DTSTAMP:20260421T203024Z
NAME:UL FMF urnik
REFRESH-INTERVAL:PT1H
SOURCE:https://urnik.fmf.uni-lj.si/teacher/696?day=2022-05-02&export=1
URL:https://urnik.fmf.uni-lj.si/teacher/696?day=2022-05-02&export=1
X-PUBLISHED-TTL:PT1H
X-WR-CALNAME:UL FMF urnik
X-WR-TIMEZONE:Europe/Ljubljana
BEGIN:VTIMEZONE
TZID:Europe/Ljubljana
BEGIN:DAYLIGHT
DTSTART:20260329T020000
RDATE:20260329T020000
RDATE:20270328T020000
TZNAME:CEST
TZOFFSETFROM:+0100
TZOFFSETTO:+0200
END:DAYLIGHT
BEGIN:STANDARD
DTSTART:20261025T030000
RDATE:20261025T030000
RDATE:20271031T030000
TZNAME:CET
TZOFFSETFROM:+0200
TZOFFSETTO:+0100
END:STANDARD
END:VTIMEZONE
BEGIN:VEVENT
SUMMARY:Rezervacija
DTSTART;TZID=Europe/Ljubljana:20220518T140000
DTEND;TZID=Europe/Ljubljana:20220518T190000
DTSTAMP:20260421T203024Z
UID:fmf-AFLABS-URNIK:rezervacija:176
CATEGORIES:Reservation
COLOR:royalblue
DESCRIPTION:Predmeti: \nLetniki: \nIzvajalci: Mojca Avbelj Korošec\nProst
 ori: VFP
LOCATION:VFP
ORGANIZER:Mojca Avbelj Korošec
X-WR-TIMEZONE:Europe/Ljubljana
END:VEVENT
BEGIN:VEVENT
SUMMARY:Rezervacija
DTSTART;TZID=Europe/Ljubljana:20220519T090000
DTEND;TZID=Europe/Ljubljana:20220519T100000
DTSTAMP:20260421T203024Z
UID:fmf-AFLABS-URNIK:rezervacija:1498
CATEGORIES:Reservation
COLOR:royalblue
DESCRIPTION:Predmeti: \nLetniki: \nIzvajalci: Mojca Avbelj Korošec\nProst
 ori: F8
LOCATION:F8
ORGANIZER:Mojca Avbelj Korošec
X-WR-TIMEZONE:Europe/Ljubljana
END:VEVENT
BEGIN:VEVENT
SUMMARY:Rezervacija
DTSTART;TZID=Europe/Ljubljana:20220215T120000
DTEND;TZID=Europe/Ljubljana:20220215T140000
DTSTAMP:20260421T203024Z
UID:fmf-AFLABS-URNIK:rezervacija:8585
CATEGORIES:Reservation
COLOR:royalblue
DESCRIPTION:Predmeti: \nLetniki: \nIzvajalci: Mojca Avbelj Korošec\nProst
 ori: 3.07
LOCATION:3.07
ORGANIZER:Mojca Avbelj Korošec
X-WR-TIMEZONE:Europe/Ljubljana
END:VEVENT
BEGIN:VEVENT
SUMMARY:Rezervacija
DTSTART;TZID=Europe/Ljubljana:20220217T120000
DTEND;TZID=Europe/Ljubljana:20220217T130000
DTSTAMP:20260421T203024Z
UID:fmf-AFLABS-URNIK:rezervacija:8597
CATEGORIES:Reservation
COLOR:royalblue
DESCRIPTION:Predmeti: \nLetniki: \nIzvajalci: Mojca Avbelj Korošec\nProst
 ori: 3.07
LOCATION:3.07
ORGANIZER:Mojca Avbelj Korošec
X-WR-TIMEZONE:Europe/Ljubljana
END:VEVENT
BEGIN:VEVENT
SUMMARY:Rezervacija
DTSTART;TZID=Europe/Ljubljana:20220302T120000
DTEND;TZID=Europe/Ljubljana:20220302T140000
DTSTAMP:20260421T203024Z
UID:fmf-AFLABS-URNIK:rezervacija:8662
CATEGORIES:Reservation
COLOR:royalblue
DESCRIPTION:Predmeti: \nLetniki: \nIzvajalci: Mojca Avbelj Korošec\nProst
 ori: 3.07
LOCATION:3.07
ORGANIZER:Mojca Avbelj Korošec
X-WR-TIMEZONE:Europe/Ljubljana
END:VEVENT
BEGIN:VEVENT
SUMMARY:Rezervacija
DTSTART;TZID=Europe/Ljubljana:20220303T120000
DTEND;TZID=Europe/Ljubljana:20220303T130000
DTSTAMP:20260421T203024Z
UID:fmf-AFLABS-URNIK:rezervacija:8665
CATEGORIES:Reservation
COLOR:royalblue
DESCRIPTION:Predmeti: \nLetniki: \nIzvajalci: Mojca Avbelj Korošec\nProst
 ori: 3.07
LOCATION:3.07
ORGANIZER:Mojca Avbelj Korošec
X-WR-TIMEZONE:Europe/Ljubljana
END:VEVENT
BEGIN:VEVENT
SUMMARY:Rezervacija
DTSTART;TZID=Europe/Ljubljana:20220304T110000
DTEND;TZID=Europe/Ljubljana:20220304T120000
DTSTAMP:20260421T203024Z
UID:fmf-AFLABS-URNIK:rezervacija:8671
CATEGORIES:Reservation
COLOR:royalblue
DESCRIPTION:Predmeti: \nLetniki: \nIzvajalci: Mojca Avbelj Korošec\nProst
 ori: 3.06
LOCATION:3.06
ORGANIZER:Mojca Avbelj Korošec
X-WR-TIMEZONE:Europe/Ljubljana
END:VEVENT
BEGIN:VEVENT
SUMMARY:Rezervacija
DTSTART;TZID=Europe/Ljubljana:20220310T140000
DTEND;TZID=Europe/Ljubljana:20220310T160000
DTSTAMP:20260421T203024Z
UID:fmf-AFLABS-URNIK:rezervacija:8694
CATEGORIES:Reservation
COLOR:royalblue
DESCRIPTION:Predmeti: \nLetniki: \nIzvajalci: Mojca Avbelj Korošec\nProst
 ori: 3.07
LOCATION:3.07
ORGANIZER:Mojca Avbelj Korošec
X-WR-TIMEZONE:Europe/Ljubljana
END:VEVENT
BEGIN:VEVENT
SUMMARY:Rezervacija
DTSTART;TZID=Europe/Ljubljana:20220311T130000
DTEND;TZID=Europe/Ljubljana:20220311T140000
DTSTAMP:20260421T203024Z
UID:fmf-AFLABS-URNIK:rezervacija:8701
CATEGORIES:Reservation
COLOR:royalblue
DESCRIPTION:Predmeti: \nLetniki: \nIzvajalci: Mojca Avbelj Korošec\nProst
 ori: 2.05
LOCATION:2.05
ORGANIZER:Mojca Avbelj Korošec
X-WR-TIMEZONE:Europe/Ljubljana
END:VEVENT
BEGIN:VEVENT
SUMMARY:Rezervacija
DTSTART;TZID=Europe/Ljubljana:20220314T140000
DTEND;TZID=Europe/Ljubljana:20220314T160000
DTSTAMP:20260421T203024Z
UID:fmf-AFLABS-URNIK:rezervacija:8706
CATEGORIES:Reservation
COLOR:royalblue
DESCRIPTION:Predmeti: \nLetniki: \nIzvajalci: Mojca Avbelj Korošec\nProst
 ori: 3.04
LOCATION:3.04
ORGANIZER:Mojca Avbelj Korošec
X-WR-TIMEZONE:Europe/Ljubljana
END:VEVENT
BEGIN:VEVENT
SUMMARY:Rezervacija
DTSTART;TZID=Europe/Ljubljana:20220315T080000
DTEND;TZID=Europe/Ljubljana:20220315T100000
DTSTAMP:20260421T203024Z
UID:fmf-AFLABS-URNIK:rezervacija:8709
CATEGORIES:Reservation
COLOR:royalblue
DESCRIPTION:Predmeti: \nLetniki: \nIzvajalci: Mojca Avbelj Korošec\nProst
 ori: 3.07
LOCATION:3.07
ORGANIZER:Mojca Avbelj Korošec
X-WR-TIMEZONE:Europe/Ljubljana
END:VEVENT
BEGIN:VEVENT
SUMMARY:Rezervacija
DTSTART;TZID=Europe/Ljubljana:20220315T110000
DTEND;TZID=Europe/Ljubljana:20220315T120000
DTSTAMP:20260421T203024Z
UID:fmf-AFLABS-URNIK:rezervacija:8711
CATEGORIES:Reservation
COLOR:royalblue
DESCRIPTION:Predmeti: \nLetniki: \nIzvajalci: Mojca Avbelj Korošec\nProst
 ori: 3.06
LOCATION:3.06
ORGANIZER:Mojca Avbelj Korošec
X-WR-TIMEZONE:Europe/Ljubljana
END:VEVENT
BEGIN:VEVENT
SUMMARY:Rezervacija
DTSTART;TZID=Europe/Ljubljana:20220325T130000
DTEND;TZID=Europe/Ljubljana:20220325T140000
DTSTAMP:20260421T203024Z
UID:fmf-AFLABS-URNIK:rezervacija:8765
CATEGORIES:Reservation
COLOR:royalblue
DESCRIPTION:Predmeti: \nLetniki: \nIzvajalci: Mojca Avbelj Korošec\nProst
 ori: 2.05
LOCATION:2.05
ORGANIZER:Mojca Avbelj Korošec
X-WR-TIMEZONE:Europe/Ljubljana
END:VEVENT
BEGIN:VEVENT
SUMMARY:Rezervacija
DTSTART;TZID=Europe/Ljubljana:20220413T140000
DTEND;TZID=Europe/Ljubljana:20220413T160000
DTSTAMP:20260421T203024Z
UID:fmf-AFLABS-URNIK:rezervacija:8861
ATTENDEE:5. letnik (PM)
ATTENDEE:magistrski študij (FM)
ATTENDEE:magistrski študij (M)
CATEGORIES:Reservation
COLOR:royalblue
DESCRIPTION:Predmeti: Izbrana poglavja iz finančne matematike 1 (FM-M\, M
 AT-M\, PM-5)\nLetniki: magistrski študij (FM)\, magistrski študij (M)\, 
 5. letnik (PM)\nIzvajalci: Mojca Avbelj Korošec\nProstori: 3.04
LOCATION:3.04
ORGANIZER:Mojca Avbelj Korošec
X-WR-TIMEZONE:Europe/Ljubljana
END:VEVENT
BEGIN:VEVENT
SUMMARY:Rezervacija
DTSTART;TZID=Europe/Ljubljana:20220414T080000
DTEND;TZID=Europe/Ljubljana:20220414T090000
DTSTAMP:20260421T203024Z
UID:fmf-AFLABS-URNIK:rezervacija:8865
ATTENDEE:5. letnik (PM)
ATTENDEE:magistrski študij (FM)
ATTENDEE:magistrski študij (M)
CATEGORIES:Reservation
COLOR:royalblue
DESCRIPTION:Predmeti: Izbrana poglavja iz finančne matematike 1 (FM-M\, M
 AT-M\, PM-5)\nLetniki: magistrski študij (FM)\, magistrski študij (M)\, 
 5. letnik (PM)\nIzvajalci: Mojca Avbelj Korošec\nProstori: 2.03
LOCATION:2.03
ORGANIZER:Mojca Avbelj Korošec
X-WR-TIMEZONE:Europe/Ljubljana
END:VEVENT
BEGIN:VEVENT
SUMMARY:Rezervacija
DTSTART;TZID=Europe/Ljubljana:20220414T120000
DTEND;TZID=Europe/Ljubljana:20220414T130000
DTSTAMP:20260421T203024Z
UID:fmf-AFLABS-URNIK:rezervacija:8868
ATTENDEE:5. letnik (PM)
ATTENDEE:magistrski študij (FM)
ATTENDEE:magistrski študij (M)
CATEGORIES:Reservation
COLOR:royalblue
DESCRIPTION:Predmeti: Izbrana poglavja iz finančne matematike 1 (FM-M\, M
 AT-M\, PM-5)\nLetniki: magistrski študij (FM)\, magistrski študij (M)\, 
 5. letnik (PM)\nIzvajalci: Mojca Avbelj Korošec\nProstori: F1
LOCATION:F1
ORGANIZER:Mojca Avbelj Korošec
X-WR-TIMEZONE:Europe/Ljubljana
END:VEVENT
BEGIN:VEVENT
SUMMARY:Rezervacija
DTSTART;TZID=Europe/Ljubljana:20220414T140000
DTEND;TZID=Europe/Ljubljana:20220414T160000
DTSTAMP:20260421T203024Z
UID:fmf-AFLABS-URNIK:rezervacija:8870
ATTENDEE:5. letnik (PM)
ATTENDEE:magistrski študij (FM)
ATTENDEE:magistrski študij (M)
CATEGORIES:Reservation
COLOR:royalblue
DESCRIPTION:Predmeti: Izbrana poglavja iz finančne matematike 1 (FM-M\, M
 AT-M\, PM-5)\nLetniki: magistrski študij (FM)\, magistrski študij (M)\, 
 5. letnik (PM)\nIzvajalci: Mojca Avbelj Korošec\nProstori: P.02
LOCATION:P.02
ORGANIZER:Mojca Avbelj Korošec
X-WR-TIMEZONE:Europe/Ljubljana
END:VEVENT
BEGIN:VEVENT
SUMMARY:Rezervacija
DTSTART;TZID=Europe/Ljubljana:20220415T140000
DTEND;TZID=Europe/Ljubljana:20220415T150000
DTSTAMP:20260421T203024Z
UID:fmf-AFLABS-URNIK:rezervacija:8890
CATEGORIES:Reservation
COLOR:royalblue
DESCRIPTION:Predmeti: \nLetniki: \nIzvajalci: Mojca Avbelj Korošec\nProst
 ori: Sejna soba J21
LOCATION:Sejna soba J21
ORGANIZER:Mojca Avbelj Korošec
X-WR-TIMEZONE:Europe/Ljubljana
END:VEVENT
BEGIN:VEVENT
SUMMARY:Rezervacija
DTSTART;TZID=Europe/Ljubljana:20220419T140000
DTEND;TZID=Europe/Ljubljana:20220419T160000
DTSTAMP:20260421T203024Z
UID:fmf-AFLABS-URNIK:rezervacija:8896
CATEGORIES:Reservation
COLOR:royalblue
DESCRIPTION:Predmeti: \nLetniki: \nIzvajalci: Mojca Avbelj Korošec\nProst
 ori: F7
LOCATION:F7
ORGANIZER:Mojca Avbelj Korošec
X-WR-TIMEZONE:Europe/Ljubljana
END:VEVENT
BEGIN:VEVENT
SUMMARY:Rezervacija
DTSTART;TZID=Europe/Ljubljana:20220421T140000
DTEND;TZID=Europe/Ljubljana:20220421T150000
DTSTAMP:20260421T203024Z
UID:fmf-AFLABS-URNIK:rezervacija:8924
CATEGORIES:Reservation
COLOR:royalblue
DESCRIPTION:Predmeti: \nLetniki: \nIzvajalci: Mojca Avbelj Korošec\nProst
 ori: 3.06
LOCATION:3.06
ORGANIZER:Mojca Avbelj Korošec
X-WR-TIMEZONE:Europe/Ljubljana
END:VEVENT
BEGIN:VEVENT
SUMMARY:Rezervacija
DTSTART;TZID=Europe/Ljubljana:20220426T120000
DTEND;TZID=Europe/Ljubljana:20220426T140000
DTSTAMP:20260421T203024Z
UID:fmf-AFLABS-URNIK:rezervacija:8959
ATTENDEE:5. letnik (PM)
ATTENDEE:magistrski študij (FM)
ATTENDEE:magistrski študij (M)
CATEGORIES:Reservation
COLOR:royalblue
DESCRIPTION:Predmeti: Izbrana poglavja iz finančne matematike 1 (FM-M\, M
 AT-M\, PM-5)\nLetniki: magistrski študij (FM)\, magistrski študij (M)\, 
 5. letnik (PM)\nIzvajalci: Mojca Avbelj Korošec\nProstori: MFP
LOCATION:MFP
ORGANIZER:Mojca Avbelj Korošec
X-WR-TIMEZONE:Europe/Ljubljana
END:VEVENT
BEGIN:VEVENT
SUMMARY:Rezervacija
DTSTART;TZID=Europe/Ljubljana:20220511T140000
DTEND;TZID=Europe/Ljubljana:20220511T150000
DTSTAMP:20260421T203024Z
UID:fmf-AFLABS-URNIK:rezervacija:9004
CATEGORIES:Reservation
COLOR:royalblue
DESCRIPTION:Predmeti: \nLetniki: \nIzvajalci: Mojca Avbelj Korošec\nProst
 ori: F5
LOCATION:F5
ORGANIZER:Mojca Avbelj Korošec
X-WR-TIMEZONE:Europe/Ljubljana
END:VEVENT
BEGIN:VEVENT
SUMMARY:Rezervacija
DTSTART;TZID=Europe/Ljubljana:20220517T140000
DTEND;TZID=Europe/Ljubljana:20220517T190000
DTSTAMP:20260421T203024Z
UID:fmf-AFLABS-URNIK:rezervacija:9051
CATEGORIES:Reservation
COLOR:royalblue
DESCRIPTION:Predmeti: \nLetniki: \nIzvajalci: Mojca Avbelj Korošec\nProst
 ori: VFP
LOCATION:VFP
ORGANIZER:Mojca Avbelj Korošec
X-WR-TIMEZONE:Europe/Ljubljana
END:VEVENT
END:VCALENDAR
