BEGIN:VCALENDAR
VERSION:2.0
PRODID:-//AFLabs urnik izvoz - fmf//aflabs.si//SI
DTSTAMP:20260423T044736Z
NAME:UL FMF urnik
REFRESH-INTERVAL:PT1H
SOURCE:https://urnik.fmf.uni-lj.si/teacher/696?day=2023-01-23&export=1
URL:https://urnik.fmf.uni-lj.si/teacher/696?day=2023-01-23&export=1
X-PUBLISHED-TTL:PT1H
X-WR-CALNAME:UL FMF urnik
X-WR-TIMEZONE:Europe/Ljubljana
BEGIN:VTIMEZONE
TZID:Europe/Ljubljana
BEGIN:DAYLIGHT
DTSTART:20260329T020000
RDATE:20260329T020000
RDATE:20270328T020000
TZNAME:CEST
TZOFFSETFROM:+0100
TZOFFSETTO:+0200
END:DAYLIGHT
BEGIN:STANDARD
DTSTART:20261025T030000
RDATE:20261025T030000
RDATE:20271031T030000
TZNAME:CET
TZOFFSETFROM:+0200
TZOFFSETTO:+0100
END:STANDARD
END:VTIMEZONE
BEGIN:VEVENT
SUMMARY:Rezervacija
DTSTART;TZID=Europe/Ljubljana:20221221T090000
DTEND;TZID=Europe/Ljubljana:20221221T100000
DTSTAMP:20260423T044736Z
UID:fmf-AFLABS-URNIK:rezervacija:10728
CATEGORIES:Reservation
COLOR:royalblue
DESCRIPTION:Predmeti: \nLetniki: \nIzvajalci: Mojca Avbelj Korošec\nProst
 ori: 3.07
LOCATION:3.07
ORGANIZER:Mojca Avbelj Korošec
X-WR-TIMEZONE:Europe/Ljubljana
END:VEVENT
BEGIN:VEVENT
SUMMARY:Rezervacija
DTSTART;TZID=Europe/Ljubljana:20221222T120000
DTEND;TZID=Europe/Ljubljana:20221222T130000
DTSTAMP:20260423T044736Z
UID:fmf-AFLABS-URNIK:rezervacija:10738
CATEGORIES:Reservation
COLOR:royalblue
DESCRIPTION:Predmeti: \nLetniki: \nIzvajalci: Mojca Avbelj Korošec\nProst
 ori: 3.07
LOCATION:3.07
ORGANIZER:Mojca Avbelj Korošec
X-WR-TIMEZONE:Europe/Ljubljana
END:VEVENT
BEGIN:VEVENT
SUMMARY:Rezervacija
DTSTART;TZID=Europe/Ljubljana:20230105T090000
DTEND;TZID=Europe/Ljubljana:20230105T100000
DTSTAMP:20260423T044736Z
UID:fmf-AFLABS-URNIK:rezervacija:10758
CATEGORIES:Reservation
COLOR:royalblue
DESCRIPTION:Predmeti: \nLetniki: \nIzvajalci: Mojca Avbelj Korošec\nProst
 ori: Sejna soba J21
LOCATION:Sejna soba J21
ORGANIZER:Mojca Avbelj Korošec
X-WR-TIMEZONE:Europe/Ljubljana
END:VEVENT
BEGIN:VEVENT
SUMMARY:Rezervacija
DTSTART;TZID=Europe/Ljubljana:20230106T170000
DTEND;TZID=Europe/Ljubljana:20230106T200000
DTSTAMP:20260423T044736Z
UID:fmf-AFLABS-URNIK:rezervacija:10780
CATEGORIES:Reservation
COLOR:royalblue
DESCRIPTION:Predmeti: \nLetniki: \nIzvajalci: Mojca Avbelj Korošec\nProst
 ori: 2.04
LOCATION:2.04
ORGANIZER:Mojca Avbelj Korošec
X-WR-TIMEZONE:Europe/Ljubljana
END:VEVENT
BEGIN:VEVENT
SUMMARY:Rezervacija
DTSTART;TZID=Europe/Ljubljana:20230111T120000
DTEND;TZID=Europe/Ljubljana:20230111T140000
DTSTAMP:20260423T044736Z
UID:fmf-AFLABS-URNIK:rezervacija:10812
CATEGORIES:Reservation
COLOR:royalblue
DESCRIPTION:Predmeti: \nLetniki: \nIzvajalci: Mojca Avbelj Korošec\nProst
 ori: 3.06
LOCATION:3.06
ORGANIZER:Mojca Avbelj Korošec
X-WR-TIMEZONE:Europe/Ljubljana
END:VEVENT
BEGIN:VEVENT
SUMMARY:Rezervacija
DTSTART;TZID=Europe/Ljubljana:20230116T080000
DTEND;TZID=Europe/Ljubljana:20230116T100000
DTSTAMP:20260423T044736Z
UID:fmf-AFLABS-URNIK:rezervacija:10850
ATTENDEE:3. letnik (APM)
CATEGORIES:Reservation
COLOR:royalblue
DESCRIPTION:Predmeti: Matematično modeliranje (APM-3)\nLetniki: 3. letnik
  (APM)\nIzvajalci: Mojca Avbelj Korošec\nProstori: 3.12
LOCATION:3.12
ORGANIZER:Mojca Avbelj Korošec
X-WR-TIMEZONE:Europe/Ljubljana
END:VEVENT
BEGIN:VEVENT
SUMMARY:Rezervacija
DTSTART;TZID=Europe/Ljubljana:20230116T100000
DTEND;TZID=Europe/Ljubljana:20230116T140000
DTSTAMP:20260423T044736Z
UID:fmf-AFLABS-URNIK:rezervacija:10857
CATEGORIES:Reservation
COLOR:royalblue
DESCRIPTION:Predmeti: \nLetniki: \nIzvajalci: Mojca Avbelj Korošec\nProst
 ori: Kuščerjev seminar
LOCATION:Kuščerjev seminar
ORGANIZER:Mojca Avbelj Korošec
X-WR-TIMEZONE:Europe/Ljubljana
END:VEVENT
BEGIN:VEVENT
SUMMARY:Rezervacija
DTSTART;TZID=Europe/Ljubljana:20230118T140000
DTEND;TZID=Europe/Ljubljana:20230118T150000
DTSTAMP:20260423T044736Z
UID:fmf-AFLABS-URNIK:rezervacija:10924
CATEGORIES:Reservation
COLOR:royalblue
DESCRIPTION:Predmeti: \nLetniki: \nIzvajalci: Mojca Avbelj Korošec\nProst
 ori: 3.05
LOCATION:3.05
ORGANIZER:Mojca Avbelj Korošec
X-WR-TIMEZONE:Europe/Ljubljana
END:VEVENT
BEGIN:VEVENT
SUMMARY:Rezervacija
DTSTART;TZID=Europe/Ljubljana:20230127T170000
DTEND;TZID=Europe/Ljubljana:20230127T200000
DTSTAMP:20260423T044736Z
UID:fmf-AFLABS-URNIK:rezervacija:11069
CATEGORIES:Reservation
COLOR:royalblue
DESCRIPTION:Predmeti: \nLetniki: \nIzvajalci: Mojca Avbelj Korošec\nProst
 ori: 2.04
LOCATION:2.04
ORGANIZER:Mojca Avbelj Korošec
X-WR-TIMEZONE:Europe/Ljubljana
END:VEVENT
BEGIN:VEVENT
SUMMARY:Rezervacija
DTSTART;TZID=Europe/Ljubljana:20230206T170000
DTEND;TZID=Europe/Ljubljana:20230206T200000
DTSTAMP:20260423T044736Z
UID:fmf-AFLABS-URNIK:rezervacija:11193
CATEGORIES:Reservation
COLOR:royalblue
DESCRIPTION:Predmeti: \nLetniki: \nIzvajalci: Mojca Avbelj Korošec\nProst
 ori: 3.07
LOCATION:3.07
ORGANIZER:Mojca Avbelj Korošec
X-WR-TIMEZONE:Europe/Ljubljana
END:VEVENT
BEGIN:VEVENT
SUMMARY:Rezervacija
DTSTART;TZID=Europe/Ljubljana:20230207T100000
DTEND;TZID=Europe/Ljubljana:20230207T110000
DTSTAMP:20260423T044736Z
UID:fmf-AFLABS-URNIK:rezervacija:11200
CATEGORIES:Reservation
COLOR:royalblue
DESCRIPTION:Predmeti: \nLetniki: \nIzvajalci: Mojca Avbelj Korošec\nProst
 ori: Sejna soba J21
LOCATION:Sejna soba J21
ORGANIZER:Mojca Avbelj Korošec
X-WR-TIMEZONE:Europe/Ljubljana
END:VEVENT
BEGIN:VEVENT
SUMMARY:Rezervacija
DTSTART;TZID=Europe/Ljubljana:20230224T090000
DTEND;TZID=Europe/Ljubljana:20230224T100000
DTSTAMP:20260423T044736Z
UID:fmf-AFLABS-URNIK:rezervacija:11333
CATEGORIES:Reservation
COLOR:royalblue
DESCRIPTION:Predmeti: \nLetniki: \nIzvajalci: Mojca Avbelj Korošec\nProst
 ori: Sejna soba J21
LOCATION:Sejna soba J21
ORGANIZER:Mojca Avbelj Korošec
X-WR-TIMEZONE:Europe/Ljubljana
END:VEVENT
END:VCALENDAR
