BEGIN:VCALENDAR
VERSION:2.0
PRODID:-//AFLabs urnik izvoz - fmf//aflabs.si//SI
DTSTAMP:20260423T173059Z
NAME:UL FMF urnik
REFRESH-INTERVAL:PT1H
SOURCE:https://urnik.fmf.uni-lj.si/teacher/699?day=2022-02-07&export=1
URL:https://urnik.fmf.uni-lj.si/teacher/699?day=2022-02-07&export=1
X-PUBLISHED-TTL:PT1H
X-WR-CALNAME:UL FMF urnik
X-WR-TIMEZONE:Europe/Ljubljana
BEGIN:VTIMEZONE
TZID:Europe/Ljubljana
BEGIN:DAYLIGHT
DTSTART:20260329T020000
RDATE:20260329T020000
RDATE:20270328T020000
TZNAME:CEST
TZOFFSETFROM:+0100
TZOFFSETTO:+0200
END:DAYLIGHT
BEGIN:STANDARD
DTSTART:20261025T030000
RDATE:20261025T030000
RDATE:20271031T030000
TZNAME:CET
TZOFFSETFROM:+0200
TZOFFSETTO:+0100
END:STANDARD
END:VTIMEZONE
BEGIN:VEVENT
SUMMARY:Programiranje 1 (FM-3\, MAT-2\, PM-4)\, Vaje (V)\, [1]
DTSTART;TZID=Europe/Ljubljana:20220103T100000
DTEND;TZID=Europe/Ljubljana:20220103T120000
DTSTAMP:20260423T173059Z
UID:fmf-AFLABS-URNIK:premaknjeno-srecanje:85946
ATTENDEE:2. letnik (M)
ATTENDEE:3. letnik (FM)
ATTENDEE:4. letnik (PM)
CATEGORIES:Entry,Standard
COLOR:darkgreen
DESCRIPTION:Predmet: Programiranje 1 (FM-3\, MAT-2\, PM-4)\, Vaje (V)\, [1
 ]\nLetniki: 3. letnik (FM)\, 2. letnik (M)\, 4. letnik (PM)\nIzvajalci: Ka
 tja Berčič\nProstor: 3.11
LOCATION:3.11
ORGANIZER:Katja Berčič
RELATED-TO:fmf-AFLABS-URNIK:srecanje:6502
X-WR-TIMEZONE:Europe/Ljubljana
END:VEVENT
BEGIN:VEVENT
SUMMARY:Programiranje 1 (FM-3\, MAT-2\, PM-4)\, Vaje (V)\, [1]
DTSTART;TZID=Europe/Ljubljana:20220110T100000
DTEND;TZID=Europe/Ljubljana:20220110T120000
DTSTAMP:20260423T173059Z
UID:fmf-AFLABS-URNIK:premaknjeno-srecanje:85947
ATTENDEE:2. letnik (M)
ATTENDEE:3. letnik (FM)
ATTENDEE:4. letnik (PM)
CATEGORIES:Entry,Standard
COLOR:darkgreen
DESCRIPTION:Predmet: Programiranje 1 (FM-3\, MAT-2\, PM-4)\, Vaje (V)\, [1
 ]\nLetniki: 3. letnik (FM)\, 2. letnik (M)\, 4. letnik (PM)\nIzvajalci: Ka
 tja Berčič\nProstor: 3.11
LOCATION:3.11
ORGANIZER:Katja Berčič
RELATED-TO:fmf-AFLABS-URNIK:srecanje:6502
X-WR-TIMEZONE:Europe/Ljubljana
END:VEVENT
BEGIN:VEVENT
SUMMARY:Računalniški praktikum (PM-1)\, Vaje (V)\, [1]
DTSTART;TZID=Europe/Ljubljana:20220104T120000
DTEND;TZID=Europe/Ljubljana:20220104T150000
DTSTAMP:20260423T173059Z
UID:fmf-AFLABS-URNIK:premaknjeno-srecanje:92336
ATTENDEE:1. letnik (PM)
CATEGORIES:Entry,Standard
COLOR:darkgreen
DESCRIPTION:Predmet: Računalniški praktikum (PM-1)\, Vaje (V)\, [1]\nLet
 niki: 1. letnik (PM)\nIzvajalci: Katja Berčič\nProstor: 3.12
LOCATION:3.12
ORGANIZER:Katja Berčič
RELATED-TO:fmf-AFLABS-URNIK:srecanje:6528
X-WR-TIMEZONE:Europe/Ljubljana
END:VEVENT
BEGIN:VEVENT
SUMMARY:Računalniški praktikum (PM-1)\, Vaje (V)\, [1]
DTSTART;TZID=Europe/Ljubljana:20220111T120000
DTEND;TZID=Europe/Ljubljana:20220111T150000
DTSTAMP:20260423T173059Z
UID:fmf-AFLABS-URNIK:premaknjeno-srecanje:92337
ATTENDEE:1. letnik (PM)
CATEGORIES:Entry,Standard
COLOR:darkgreen
DESCRIPTION:Predmet: Računalniški praktikum (PM-1)\, Vaje (V)\, [1]\nLet
 niki: 1. letnik (PM)\nIzvajalci: Katja Berčič\nProstor: 3.12
LOCATION:3.12
ORGANIZER:Katja Berčič
RELATED-TO:fmf-AFLABS-URNIK:srecanje:6528
X-WR-TIMEZONE:Europe/Ljubljana
END:VEVENT
BEGIN:VEVENT
SUMMARY:Računalniški praktikum (mat) (MAT-1)\, Vaje (V)\, [1]
DTSTART;TZID=Europe/Ljubljana:20220104T160000
DTEND;TZID=Europe/Ljubljana:20220104T190000
DTSTAMP:20260423T173059Z
UID:fmf-AFLABS-URNIK:premaknjeno-srecanje:94036
ATTENDEE:1. letnik (M)
CATEGORIES:Entry,Standard
COLOR:darkgreen
DESCRIPTION:Predmet: Računalniški praktikum (mat) (MAT-1)\, Vaje (V)\, [
 1]\nLetniki: 1. letnik (M)\nIzvajalci: Katja Berčič\nProstor: 3.10
LOCATION:3.10
ORGANIZER:Katja Berčič
RELATED-TO:fmf-AFLABS-URNIK:srecanje:6543
X-WR-TIMEZONE:Europe/Ljubljana
END:VEVENT
BEGIN:VEVENT
SUMMARY:Računalniški praktikum (mat) (MAT-1)\, Vaje (V)\, [1]
DTSTART;TZID=Europe/Ljubljana:20220111T160000
DTEND;TZID=Europe/Ljubljana:20220111T190000
DTSTAMP:20260423T173059Z
UID:fmf-AFLABS-URNIK:premaknjeno-srecanje:94037
ATTENDEE:1. letnik (M)
CATEGORIES:Entry,Standard
COLOR:darkgreen
DESCRIPTION:Predmet: Računalniški praktikum (mat) (MAT-1)\, Vaje (V)\, [
 1]\nLetniki: 1. letnik (M)\nIzvajalci: Katja Berčič\nProstor: 3.10
LOCATION:3.10
ORGANIZER:Katja Berčič
RELATED-TO:fmf-AFLABS-URNIK:srecanje:6543
X-WR-TIMEZONE:Europe/Ljubljana
END:VEVENT
BEGIN:VEVENT
SUMMARY:Računalniška orodja v matematiki (APM-1)\, Vaje (V)\, [1]
DTSTART;TZID=Europe/Ljubljana:20220216T140000
DTEND;TZID=Europe/Ljubljana:20220216T160000
DTSTAMP:20260423T173059Z
UID:fmf-AFLABS-URNIK:premaknjeno-srecanje:91543
ATTENDEE:1. letnik (APM)
CATEGORIES:Entry,Standard
COLOR:darkgreen
DESCRIPTION:Predmet: Računalniška orodja v matematiki (APM-1)\, Vaje (V)
 \, [1]\nLetniki: 1. letnik (APM)\nIzvajalci: Katja Berčič\nProstor: 3.12
LOCATION:3.12
ORGANIZER:Katja Berčič
RELATED-TO:fmf-AFLABS-URNIK:srecanje:7362
X-WR-TIMEZONE:Europe/Ljubljana
END:VEVENT
BEGIN:VEVENT
SUMMARY:Računalniška orodja v matematiki (APM-1)\, Vaje (V)\, [1]
DTSTART;TZID=Europe/Ljubljana:20220223T140000
DTEND;TZID=Europe/Ljubljana:20220223T160000
DTSTAMP:20260423T173059Z
UID:fmf-AFLABS-URNIK:premaknjeno-srecanje:91544
ATTENDEE:1. letnik (APM)
CATEGORIES:Entry,Standard
COLOR:darkgreen
DESCRIPTION:Predmet: Računalniška orodja v matematiki (APM-1)\, Vaje (V)
 \, [1]\nLetniki: 1. letnik (APM)\nIzvajalci: Katja Berčič\nProstor: 3.12
LOCATION:3.12
ORGANIZER:Katja Berčič
RELATED-TO:fmf-AFLABS-URNIK:srecanje:7362
X-WR-TIMEZONE:Europe/Ljubljana
END:VEVENT
BEGIN:VEVENT
SUMMARY:Računalniška orodja v matematiki (APM-1)\, Vaje (V)\, [1]
DTSTART;TZID=Europe/Ljubljana:20220302T140000
DTEND;TZID=Europe/Ljubljana:20220302T160000
DTSTAMP:20260423T173059Z
UID:fmf-AFLABS-URNIK:premaknjeno-srecanje:91545
ATTENDEE:1. letnik (APM)
CATEGORIES:Entry,Standard
COLOR:darkgreen
DESCRIPTION:Predmet: Računalniška orodja v matematiki (APM-1)\, Vaje (V)
 \, [1]\nLetniki: 1. letnik (APM)\nIzvajalci: Katja Berčič\nProstor: 3.12
LOCATION:3.12
ORGANIZER:Katja Berčič
RELATED-TO:fmf-AFLABS-URNIK:srecanje:7362
X-WR-TIMEZONE:Europe/Ljubljana
END:VEVENT
BEGIN:VEVENT
SUMMARY:Računalniška orodja v matematiki (APM-1)\, Vaje (V)\, [1]
DTSTART;TZID=Europe/Ljubljana:20220309T140000
DTEND;TZID=Europe/Ljubljana:20220309T160000
DTSTAMP:20260423T173059Z
UID:fmf-AFLABS-URNIK:premaknjeno-srecanje:91546
ATTENDEE:1. letnik (APM)
CATEGORIES:Entry,Standard
COLOR:darkgreen
DESCRIPTION:Predmet: Računalniška orodja v matematiki (APM-1)\, Vaje (V)
 \, [1]\nLetniki: 1. letnik (APM)\nIzvajalci: Katja Berčič\nProstor: 3.12
LOCATION:3.12
ORGANIZER:Katja Berčič
RELATED-TO:fmf-AFLABS-URNIK:srecanje:7362
X-WR-TIMEZONE:Europe/Ljubljana
END:VEVENT
BEGIN:VEVENT
SUMMARY:Računalniška orodja v matematiki (APM-1)\, Vaje (V)\, [2]
DTSTART;TZID=Europe/Ljubljana:20220217T140000
DTEND;TZID=Europe/Ljubljana:20220217T160000
DTSTAMP:20260423T173059Z
UID:fmf-AFLABS-URNIK:premaknjeno-srecanje:91637
ATTENDEE:1. letnik (APM)
CATEGORIES:Entry,Standard
COLOR:darkgreen
DESCRIPTION:Predmet: Računalniška orodja v matematiki (APM-1)\, Vaje (V)
 \, [2]\nLetniki: 1. letnik (APM)\nIzvajalci: Katja Berčič\nProstor: 3.10
LOCATION:3.10
ORGANIZER:Katja Berčič
RELATED-TO:fmf-AFLABS-URNIK:srecanje:7364
X-WR-TIMEZONE:Europe/Ljubljana
END:VEVENT
BEGIN:VEVENT
SUMMARY:Računalniška orodja v matematiki (APM-1)\, Vaje (V)\, [2]
DTSTART;TZID=Europe/Ljubljana:20220224T140000
DTEND;TZID=Europe/Ljubljana:20220224T160000
DTSTAMP:20260423T173059Z
UID:fmf-AFLABS-URNIK:premaknjeno-srecanje:91638
ATTENDEE:1. letnik (APM)
CATEGORIES:Entry,Standard
COLOR:darkgreen
DESCRIPTION:Predmet: Računalniška orodja v matematiki (APM-1)\, Vaje (V)
 \, [2]\nLetniki: 1. letnik (APM)\nIzvajalci: Katja Berčič\nProstor: 3.10
LOCATION:3.10
ORGANIZER:Katja Berčič
RELATED-TO:fmf-AFLABS-URNIK:srecanje:7364
X-WR-TIMEZONE:Europe/Ljubljana
END:VEVENT
BEGIN:VEVENT
SUMMARY:Računalniška orodja v matematiki (APM-1)\, Vaje (V)\, [2]
DTSTART;TZID=Europe/Ljubljana:20220303T140000
DTEND;TZID=Europe/Ljubljana:20220303T160000
DTSTAMP:20260423T173059Z
UID:fmf-AFLABS-URNIK:premaknjeno-srecanje:91639
ATTENDEE:1. letnik (APM)
CATEGORIES:Entry,Standard
COLOR:darkgreen
DESCRIPTION:Predmet: Računalniška orodja v matematiki (APM-1)\, Vaje (V)
 \, [2]\nLetniki: 1. letnik (APM)\nIzvajalci: Katja Berčič\nProstor: 3.10
LOCATION:3.10
ORGANIZER:Katja Berčič
RELATED-TO:fmf-AFLABS-URNIK:srecanje:7364
X-WR-TIMEZONE:Europe/Ljubljana
END:VEVENT
BEGIN:VEVENT
SUMMARY:Računalniška orodja v matematiki (APM-1)\, Vaje (V)\, [2]
DTSTART;TZID=Europe/Ljubljana:20220310T140000
DTEND;TZID=Europe/Ljubljana:20220310T160000
DTSTAMP:20260423T173059Z
UID:fmf-AFLABS-URNIK:premaknjeno-srecanje:91640
ATTENDEE:1. letnik (APM)
CATEGORIES:Entry,Standard
COLOR:darkgreen
DESCRIPTION:Predmet: Računalniška orodja v matematiki (APM-1)\, Vaje (V)
 \, [2]\nLetniki: 1. letnik (APM)\nIzvajalci: Katja Berčič\nProstor: 3.10
LOCATION:3.10
ORGANIZER:Katja Berčič
RELATED-TO:fmf-AFLABS-URNIK:srecanje:7364
X-WR-TIMEZONE:Europe/Ljubljana
END:VEVENT
BEGIN:VEVENT
SUMMARY:Rezervacija
DTSTART;TZID=Europe/Ljubljana:20220114T130000
DTEND;TZID=Europe/Ljubljana:20220114T150000
DTSTAMP:20260423T173059Z
UID:fmf-AFLABS-URNIK:rezervacija:8246
ATTENDEE:1. letnik (FM)
CATEGORIES:Reservation
COLOR:royalblue
DESCRIPTION:Predmeti: Računalniški praktikum (FM-1)\nLetniki: 1. letnik 
 (FM)\nIzvajalci: Katja Berčič\, Ljupčo Todorovski\, Matjaž Zaveršnik\
 nProstori: 3.10\, 3.11\, 3.12
LOCATION:3.10\, 3.11\, 3.12
ORGANIZER:Katja Berčič, Ljupčo Todorovski, Matjaž Zaveršnik
X-WR-TIMEZONE:Europe/Ljubljana
END:VEVENT
BEGIN:VEVENT
SUMMARY:Rezervacija
DTSTART;TZID=Europe/Ljubljana:20220114T160000
DTEND;TZID=Europe/Ljubljana:20220114T200000
DTSTAMP:20260423T173059Z
UID:fmf-AFLABS-URNIK:rezervacija:8251
ATTENDEE:1. letnik (APM)
ATTENDEE:1. letnik (Aplikativna fizika)
ATTENDEE:1. letnik (M)
ATTENDEE:1. letnik (PM)
CATEGORIES:Reservation
COLOR:royalblue
DESCRIPTION:Predmeti: Računalniški praktikum MAT (MAT-1\, PM-1)\, Račun
 alniški praktikum (APF-1\, APM-1)\nLetniki: 1. letnik (Aplikativna fizika
 )\, 1. letnik (APM)\, 1. letnik (M)\, 1. letnik (PM)\nIzvajalci: Katja Ber
 čič\, Ljupčo Todorovski\, Matjaž Zaveršnik\nProstori: 3.10\, 3.11\, 3
 .12
LOCATION:3.10\, 3.11\, 3.12
ORGANIZER:Katja Berčič, Ljupčo Todorovski, Matjaž Zaveršnik
X-WR-TIMEZONE:Europe/Ljubljana
END:VEVENT
BEGIN:VEVENT
SUMMARY:Rezervacija
DTSTART;TZID=Europe/Ljubljana:20220114T160000
DTEND;TZID=Europe/Ljubljana:20220114T200000
DTSTAMP:20260423T173059Z
UID:fmf-AFLABS-URNIK:rezervacija:8252
ATTENDEE:1. letnik (APM)
ATTENDEE:1. letnik (Aplikativna fizika)
ATTENDEE:1. letnik (M)
ATTENDEE:1. letnik (PM)
CATEGORIES:Reservation
COLOR:royalblue
DESCRIPTION:Predmeti: Računalniški praktikum MAT (MAT-1\, PM-1)\, Račun
 alniški praktikum (APF-1\, APM-1)\nLetniki: 1. letnik (Aplikativna fizika
 )\, 1. letnik (APM)\, 1. letnik (M)\, 1. letnik (PM)\nIzvajalci: Katja Ber
 čič\, Ljupčo Todorovski\, Matjaž Zaveršnik\nProstori: P.01
LOCATION:P.01
ORGANIZER:Katja Berčič, Ljupčo Todorovski, Matjaž Zaveršnik
X-WR-TIMEZONE:Europe/Ljubljana
END:VEVENT
BEGIN:VEVENT
SUMMARY:Rezervacija
DTSTART;TZID=Europe/Ljubljana:20220125T110000
DTEND;TZID=Europe/Ljubljana:20220125T150000
DTSTAMP:20260423T173059Z
UID:fmf-AFLABS-URNIK:rezervacija:8362
ATTENDEE:1. letnik (APM)
ATTENDEE:1. letnik (Aplikativna fizika)
ATTENDEE:1. letnik (FM)
ATTENDEE:1. letnik (M)
ATTENDEE:1. letnik (PM)
CATEGORIES:Reservation
COLOR:royalblue
DESCRIPTION:Predmeti: Računalniški praktikum (FM-1)\, Računalniški pra
 ktikum MAT (MAT-1\, PM-1)\, Računalniški praktikum (APF-1\, APM-1)\nLetn
 iki: 1. letnik (Aplikativna fizika)\, 1. letnik (APM)\, 1. letnik (FM)\, 1
 . letnik (M)\, 1. letnik (PM)\nIzvajalci: Katja Berčič\, Ljupčo Todorov
 ski\, Matjaž Zaveršnik\nProstori: 3.10\, 3.11\, 3.12\, P.01
LOCATION:3.10\, 3.11\, 3.12\, P.01
ORGANIZER:Katja Berčič, Ljupčo Todorovski, Matjaž Zaveršnik
X-WR-TIMEZONE:Europe/Ljubljana
END:VEVENT
END:VCALENDAR
