BEGIN:VCALENDAR
VERSION:2.0
PRODID:-//AFLabs urnik izvoz - fmf//aflabs.si//SI
DTSTAMP:20260426T011004Z
NAME:UL FMF urnik
REFRESH-INTERVAL:PT1H
SOURCE:https://urnik.fmf.uni-lj.si/teacher/6?day=2019-02-11&export=1
URL:https://urnik.fmf.uni-lj.si/teacher/6?day=2019-02-11&export=1
X-PUBLISHED-TTL:PT1H
X-WR-CALNAME:UL FMF urnik
X-WR-TIMEZONE:Europe/Ljubljana
BEGIN:VTIMEZONE
TZID:Europe/Ljubljana
BEGIN:DAYLIGHT
DTSTART:20260329T020000
RDATE:20260329T020000
RDATE:20270328T020000
TZNAME:CEST
TZOFFSETFROM:+0100
TZOFFSETTO:+0200
END:DAYLIGHT
BEGIN:STANDARD
DTSTART:20261025T030000
RDATE:20261025T030000
RDATE:20271031T030000
TZNAME:CET
TZOFFSETFROM:+0200
TZOFFSETTO:+0100
END:STANDARD
END:VTIMEZONE
BEGIN:VEVENT
SUMMARY:KA SEM (MAT-D)\, Seminar (S)
DTSTART;TZID=Europe/Ljubljana:20190108T120000
DTEND;TZID=Europe/Ljubljana:20190108T140000
DTSTAMP:20260426T011004Z
UID:fmf-AFLABS-URNIK:premaknjeno-srecanje:45882
ATTENDEE:doktorski študij (M)
CATEGORIES:Entry,Standard
COLOR:darkgreen
DESCRIPTION:Predmet: KA SEM (MAT-D)\, Seminar (S)\nLetniki: doktorski štu
 dij (M)\nIzvajalci: Barbara Drinovec Drnovšek\, Franc Forstnerič\nProsto
 r: 3.06
LOCATION:3.06
ORGANIZER:Barbara Drinovec Drnovšek, Franc Forstnerič
RELATED-TO:fmf-AFLABS-URNIK:srecanje:1933
X-WR-TIMEZONE:Europe/Ljubljana
END:VEVENT
BEGIN:VEVENT
SUMMARY:KA SEM (MAT-D)\, Seminar (S)
DTSTART;TZID=Europe/Ljubljana:20190115T120000
DTEND;TZID=Europe/Ljubljana:20190115T140000
DTSTAMP:20260426T011004Z
UID:fmf-AFLABS-URNIK:premaknjeno-srecanje:45883
ATTENDEE:doktorski študij (M)
CATEGORIES:Entry,Standard
COLOR:darkgreen
DESCRIPTION:Predmet: KA SEM (MAT-D)\, Seminar (S)\nLetniki: doktorski štu
 dij (M)\nIzvajalci: Barbara Drinovec Drnovšek\, Franc Forstnerič\nProsto
 r: 3.06
LOCATION:3.06
ORGANIZER:Barbara Drinovec Drnovšek, Franc Forstnerič
RELATED-TO:fmf-AFLABS-URNIK:srecanje:1933
X-WR-TIMEZONE:Europe/Ljubljana
END:VEVENT
BEGIN:VEVENT
SUMMARY:Riemannove ploskve (FM-M\, MAT-M)\, Predavanja (P)
DTSTART;TZID=Europe/Ljubljana:20190108T090000
DTEND;TZID=Europe/Ljubljana:20190108T110000
DTSTAMP:20260426T011004Z
UID:fmf-AFLABS-URNIK:premaknjeno-srecanje:99047
ATTENDEE:magistrski študij (FM)
ATTENDEE:magistrski študij (M)
CATEGORIES:Entry,Standard
COLOR:darkgreen
DESCRIPTION:Predmet: Riemannove ploskve (FM-M\, MAT-M)\, Predavanja (P)\nL
 etniki: magistrski študij (FM)\, magistrski študij (M)\nIzvajalci: Franc
  Forstnerič\nProstor: ne obstaja več - P.05
LOCATION:ne obstaja več - P.05
ORGANIZER:Franc Forstnerič
RELATED-TO:fmf-AFLABS-URNIK:srecanje:1976
X-WR-TIMEZONE:Europe/Ljubljana
END:VEVENT
BEGIN:VEVENT
SUMMARY:Riemannove ploskve (FM-M\, MAT-M)\, Predavanja (P)
DTSTART;TZID=Europe/Ljubljana:20190115T090000
DTEND;TZID=Europe/Ljubljana:20190115T110000
DTSTAMP:20260426T011004Z
UID:fmf-AFLABS-URNIK:premaknjeno-srecanje:99048
ATTENDEE:magistrski študij (FM)
ATTENDEE:magistrski študij (M)
CATEGORIES:Entry,Standard
COLOR:darkgreen
DESCRIPTION:Predmet: Riemannove ploskve (FM-M\, MAT-M)\, Predavanja (P)\nL
 etniki: magistrski študij (FM)\, magistrski študij (M)\nIzvajalci: Franc
  Forstnerič\nProstor: ne obstaja več - P.05
LOCATION:ne obstaja več - P.05
ORGANIZER:Franc Forstnerič
RELATED-TO:fmf-AFLABS-URNIK:srecanje:1976
X-WR-TIMEZONE:Europe/Ljubljana
END:VEVENT
BEGIN:VEVENT
SUMMARY:Riemannove ploskve (FM-M\, MAT-M)\, Predavanja (P)
DTSTART;TZID=Europe/Ljubljana:20190109T110000
DTEND;TZID=Europe/Ljubljana:20190109T120000
DTSTAMP:20260426T011004Z
UID:fmf-AFLABS-URNIK:premaknjeno-srecanje:99063
ATTENDEE:magistrski študij (FM)
ATTENDEE:magistrski študij (M)
CATEGORIES:Entry,Standard
COLOR:darkgreen
DESCRIPTION:Predmet: Riemannove ploskve (FM-M\, MAT-M)\, Predavanja (P)\nL
 etniki: magistrski študij (FM)\, magistrski študij (M)\nIzvajalci: Franc
  Forstnerič\nProstor: ne obstaja več - P.04
LOCATION:ne obstaja več - P.04
ORGANIZER:Franc Forstnerič
RELATED-TO:fmf-AFLABS-URNIK:srecanje:2405
X-WR-TIMEZONE:Europe/Ljubljana
END:VEVENT
BEGIN:VEVENT
SUMMARY:Riemannove ploskve (FM-M\, MAT-M)\, Predavanja (P)
DTSTART;TZID=Europe/Ljubljana:20190116T110000
DTEND;TZID=Europe/Ljubljana:20190116T120000
DTSTAMP:20260426T011004Z
UID:fmf-AFLABS-URNIK:premaknjeno-srecanje:99064
ATTENDEE:magistrski študij (FM)
ATTENDEE:magistrski študij (M)
CATEGORIES:Entry,Standard
COLOR:darkgreen
DESCRIPTION:Predmet: Riemannove ploskve (FM-M\, MAT-M)\, Predavanja (P)\nL
 etniki: magistrski študij (FM)\, magistrski študij (M)\nIzvajalci: Franc
  Forstnerič\nProstor: ne obstaja več - P.04
LOCATION:ne obstaja več - P.04
ORGANIZER:Franc Forstnerič
RELATED-TO:fmf-AFLABS-URNIK:srecanje:2405
X-WR-TIMEZONE:Europe/Ljubljana
END:VEVENT
BEGIN:VEVENT
SUMMARY:Seminar za kompleksno analizo (MAT-D)\, Seminar (S)
DTSTART;TZID=Europe/Ljubljana:20190219T120000
DTEND;TZID=Europe/Ljubljana:20190219T140000
DTSTAMP:20260426T011004Z
UID:fmf-AFLABS-URNIK:premaknjeno-srecanje:102652
ATTENDEE:doktorski študij (M)
CATEGORIES:Entry,Standard
COLOR:darkgreen
DESCRIPTION:Predmet: Seminar za kompleksno analizo (MAT-D)\, Seminar (S)\n
 Letniki: doktorski študij (M)\nIzvajalci: Barbara Drinovec Drnovšek\, Fr
 anc Forstnerič\nProstor: 3.06
LOCATION:3.06
ORGANIZER:Barbara Drinovec Drnovšek, Franc Forstnerič
RELATED-TO:fmf-AFLABS-URNIK:srecanje:2973
X-WR-TIMEZONE:Europe/Ljubljana
END:VEVENT
BEGIN:VEVENT
SUMMARY:Seminar za kompleksno analizo (MAT-D)\, Seminar (S)
DTSTART;TZID=Europe/Ljubljana:20190226T120000
DTEND;TZID=Europe/Ljubljana:20190226T140000
DTSTAMP:20260426T011004Z
UID:fmf-AFLABS-URNIK:premaknjeno-srecanje:102653
ATTENDEE:doktorski študij (M)
CATEGORIES:Entry,Standard
COLOR:darkgreen
DESCRIPTION:Predmet: Seminar za kompleksno analizo (MAT-D)\, Seminar (S)\n
 Letniki: doktorski študij (M)\nIzvajalci: Barbara Drinovec Drnovšek\, Fr
 anc Forstnerič\nProstor: 3.06
LOCATION:3.06
ORGANIZER:Barbara Drinovec Drnovšek, Franc Forstnerič
RELATED-TO:fmf-AFLABS-URNIK:srecanje:2973
X-WR-TIMEZONE:Europe/Ljubljana
END:VEVENT
BEGIN:VEVENT
SUMMARY:Seminar za kompleksno analizo (MAT-D)\, Seminar (S)
DTSTART;TZID=Europe/Ljubljana:20190305T120000
DTEND;TZID=Europe/Ljubljana:20190305T140000
DTSTAMP:20260426T011004Z
UID:fmf-AFLABS-URNIK:premaknjeno-srecanje:102654
ATTENDEE:doktorski študij (M)
CATEGORIES:Entry,Standard
COLOR:darkgreen
DESCRIPTION:Predmet: Seminar za kompleksno analizo (MAT-D)\, Seminar (S)\n
 Letniki: doktorski študij (M)\nIzvajalci: Barbara Drinovec Drnovšek\, Fr
 anc Forstnerič\nProstor: 3.06
LOCATION:3.06
ORGANIZER:Barbara Drinovec Drnovšek, Franc Forstnerič
RELATED-TO:fmf-AFLABS-URNIK:srecanje:2973
X-WR-TIMEZONE:Europe/Ljubljana
END:VEVENT
BEGIN:VEVENT
SUMMARY:Seminar za kompleksno analizo (MAT-D)\, Seminar (S)
DTSTART;TZID=Europe/Ljubljana:20190312T120000
DTEND;TZID=Europe/Ljubljana:20190312T140000
DTSTAMP:20260426T011004Z
UID:fmf-AFLABS-URNIK:premaknjeno-srecanje:102655
ATTENDEE:doktorski študij (M)
CATEGORIES:Entry,Standard
COLOR:darkgreen
DESCRIPTION:Predmet: Seminar za kompleksno analizo (MAT-D)\, Seminar (S)\n
 Letniki: doktorski študij (M)\nIzvajalci: Barbara Drinovec Drnovšek\, Fr
 anc Forstnerič\nProstor: 3.06
LOCATION:3.06
ORGANIZER:Barbara Drinovec Drnovšek, Franc Forstnerič
RELATED-TO:fmf-AFLABS-URNIK:srecanje:2973
X-WR-TIMEZONE:Europe/Ljubljana
END:VEVENT
BEGIN:VEVENT
SUMMARY:Govorilna ura ()\, Predavanja (P)
DTSTART;TZID=Europe/Ljubljana:20190221T140000
DTEND;TZID=Europe/Ljubljana:20190221T150000
DTSTAMP:20260426T011004Z
UID:fmf-AFLABS-URNIK:premaknjeno-srecanje:41958
CATEGORIES:Entry,Standard
COLOR:darkgreen
DESCRIPTION:Predmet: Govorilna ura ()\, Predavanja (P)\nLetniki: \nIzvajal
 ci: Franc Forstnerič\nProstor: 4.24
LOCATION:4.24
ORGANIZER:Franc Forstnerič
RELATED-TO:fmf-AFLABS-URNIK:srecanje:2694
X-WR-TIMEZONE:Europe/Ljubljana
END:VEVENT
BEGIN:VEVENT
SUMMARY:Govorilna ura ()\, Predavanja (P)
DTSTART;TZID=Europe/Ljubljana:20190228T140000
DTEND;TZID=Europe/Ljubljana:20190228T150000
DTSTAMP:20260426T011004Z
UID:fmf-AFLABS-URNIK:premaknjeno-srecanje:41959
CATEGORIES:Entry,Standard
COLOR:darkgreen
DESCRIPTION:Predmet: Govorilna ura ()\, Predavanja (P)\nLetniki: \nIzvajal
 ci: Franc Forstnerič\nProstor: 4.24
LOCATION:4.24
ORGANIZER:Franc Forstnerič
RELATED-TO:fmf-AFLABS-URNIK:srecanje:2694
X-WR-TIMEZONE:Europe/Ljubljana
END:VEVENT
BEGIN:VEVENT
SUMMARY:Govorilna ura ()\, Predavanja (P)
DTSTART;TZID=Europe/Ljubljana:20190307T140000
DTEND;TZID=Europe/Ljubljana:20190307T150000
DTSTAMP:20260426T011004Z
UID:fmf-AFLABS-URNIK:premaknjeno-srecanje:41960
CATEGORIES:Entry,Standard
COLOR:darkgreen
DESCRIPTION:Predmet: Govorilna ura ()\, Predavanja (P)\nLetniki: \nIzvajal
 ci: Franc Forstnerič\nProstor: 4.24
LOCATION:4.24
ORGANIZER:Franc Forstnerič
RELATED-TO:fmf-AFLABS-URNIK:srecanje:2694
X-WR-TIMEZONE:Europe/Ljubljana
END:VEVENT
BEGIN:VEVENT
SUMMARY:Govorilna ura ()\, Predavanja (P)
DTSTART;TZID=Europe/Ljubljana:20190314T140000
DTEND;TZID=Europe/Ljubljana:20190314T150000
DTSTAMP:20260426T011004Z
UID:fmf-AFLABS-URNIK:premaknjeno-srecanje:41961
CATEGORIES:Entry,Standard
COLOR:darkgreen
DESCRIPTION:Predmet: Govorilna ura ()\, Predavanja (P)\nLetniki: \nIzvajal
 ci: Franc Forstnerič\nProstor: 4.24
LOCATION:4.24
ORGANIZER:Franc Forstnerič
RELATED-TO:fmf-AFLABS-URNIK:srecanje:2694
X-WR-TIMEZONE:Europe/Ljubljana
END:VEVENT
END:VCALENDAR
