BEGIN:VCALENDAR
VERSION:2.0
PRODID:-//AFLabs urnik izvoz - fmf//aflabs.si//SI
DTSTAMP:20260424T161132Z
NAME:UL FMF urnik
REFRESH-INTERVAL:PT1H
SOURCE:https://urnik.fmf.uni-lj.si/teacher/6?day=2019-09-09&export=1
URL:https://urnik.fmf.uni-lj.si/teacher/6?day=2019-09-09&export=1
X-PUBLISHED-TTL:PT1H
X-WR-CALNAME:UL FMF urnik
X-WR-TIMEZONE:Europe/Ljubljana
BEGIN:VTIMEZONE
TZID:Europe/Ljubljana
BEGIN:DAYLIGHT
DTSTART:20260329T020000
RDATE:20260329T020000
RDATE:20270328T020000
TZNAME:CEST
TZOFFSETFROM:+0100
TZOFFSETTO:+0200
END:DAYLIGHT
BEGIN:STANDARD
DTSTART:20261025T030000
RDATE:20261025T030000
RDATE:20271031T030000
TZNAME:CET
TZOFFSETFROM:+0200
TZOFFSETTO:+0100
END:STANDARD
END:VTIMEZONE
BEGIN:VEVENT
SUMMARY:Analiza na mnogoterostih (FM-M\, MAT-M\, PM-5)\, Predavanja (P)
DTSTART;TZID=Europe/Ljubljana:20191001T080000
DTEND;TZID=Europe/Ljubljana:20191001T100000
DTSTAMP:20260424T161132Z
UID:fmf-AFLABS-URNIK:premaknjeno-srecanje:9658
ATTENDEE:5. letnik (PM)
ATTENDEE:magistrski študij (FM)
ATTENDEE:magistrski študij (M)
CATEGORIES:Entry,Standard
COLOR:darkgreen
DESCRIPTION:Predmet: Analiza na mnogoterostih (FM-M\, MAT-M\, PM-5)\, Pred
 avanja (P)\nLetniki: magistrski študij (FM)\, magistrski študij (M)\, 5.
  letnik (PM)\nIzvajalci: Franc Forstnerič\nProstor: 3.05
LOCATION:3.05
ORGANIZER:Franc Forstnerič
RELATED-TO:fmf-AFLABS-URNIK:srecanje:3486
X-WR-TIMEZONE:Europe/Ljubljana
END:VEVENT
BEGIN:VEVENT
SUMMARY:Analiza na mnogoterostih (FM-M\, MAT-M\, PM-5)\, Predavanja (P)
DTSTART;TZID=Europe/Ljubljana:20191008T080000
DTEND;TZID=Europe/Ljubljana:20191008T100000
DTSTAMP:20260424T161132Z
UID:fmf-AFLABS-URNIK:premaknjeno-srecanje:9659
ATTENDEE:5. letnik (PM)
ATTENDEE:magistrski študij (FM)
ATTENDEE:magistrski študij (M)
CATEGORIES:Entry,Standard
COLOR:darkgreen
DESCRIPTION:Predmet: Analiza na mnogoterostih (FM-M\, MAT-M\, PM-5)\, Pred
 avanja (P)\nLetniki: magistrski študij (FM)\, magistrski študij (M)\, 5.
  letnik (PM)\nIzvajalci: Franc Forstnerič\nProstor: 3.05
LOCATION:3.05
ORGANIZER:Franc Forstnerič
RELATED-TO:fmf-AFLABS-URNIK:srecanje:3486
X-WR-TIMEZONE:Europe/Ljubljana
END:VEVENT
BEGIN:VEVENT
SUMMARY:Analiza na mnogoterostih (FM-M\, MAT-M\, PM-5)\, Seminar (S)
DTSTART;TZID=Europe/Ljubljana:20191001T100000
DTEND;TZID=Europe/Ljubljana:20191001T110000
DTSTAMP:20260424T161132Z
UID:fmf-AFLABS-URNIK:premaknjeno-srecanje:9736
ATTENDEE:5. letnik (PM)
ATTENDEE:magistrski študij (FM)
ATTENDEE:magistrski študij (M)
CATEGORIES:Entry,Standard
COLOR:darkgreen
DESCRIPTION:Predmet: Analiza na mnogoterostih (FM-M\, MAT-M\, PM-5)\, Semi
 nar (S)\nLetniki: magistrski študij (FM)\, magistrski študij (M)\, 5. le
 tnik (PM)\nIzvajalci: Franc Forstnerič\nProstor: 3.05
LOCATION:3.05
ORGANIZER:Franc Forstnerič
RELATED-TO:fmf-AFLABS-URNIK:srecanje:3487
X-WR-TIMEZONE:Europe/Ljubljana
END:VEVENT
BEGIN:VEVENT
SUMMARY:Analiza na mnogoterostih (FM-M\, MAT-M\, PM-5)\, Seminar (S)
DTSTART;TZID=Europe/Ljubljana:20191008T100000
DTEND;TZID=Europe/Ljubljana:20191008T110000
DTSTAMP:20260424T161132Z
UID:fmf-AFLABS-URNIK:premaknjeno-srecanje:9737
ATTENDEE:5. letnik (PM)
ATTENDEE:magistrski študij (FM)
ATTENDEE:magistrski študij (M)
CATEGORIES:Entry,Standard
COLOR:darkgreen
DESCRIPTION:Predmet: Analiza na mnogoterostih (FM-M\, MAT-M\, PM-5)\, Semi
 nar (S)\nLetniki: magistrski študij (FM)\, magistrski študij (M)\, 5. le
 tnik (PM)\nIzvajalci: Franc Forstnerič\nProstor: 3.05
LOCATION:3.05
ORGANIZER:Franc Forstnerič
RELATED-TO:fmf-AFLABS-URNIK:srecanje:3487
X-WR-TIMEZONE:Europe/Ljubljana
END:VEVENT
BEGIN:VEVENT
SUMMARY:KA SEM (MAT-D)\, Seminar (S)
DTSTART;TZID=Europe/Ljubljana:20191001T120000
DTEND;TZID=Europe/Ljubljana:20191001T140000
DTSTAMP:20260424T161132Z
UID:fmf-AFLABS-URNIK:premaknjeno-srecanje:45884
ATTENDEE:doktorski študij (M)
CATEGORIES:Entry,Standard
COLOR:darkgreen
DESCRIPTION:Predmet: KA SEM (MAT-D)\, Seminar (S)\nLetniki: doktorski štu
 dij (M)\nIzvajalci: Barbara Drinovec Drnovšek\, Franc Forstnerič\nProsto
 r: 3.06
LOCATION:3.06
ORGANIZER:Barbara Drinovec Drnovšek, Franc Forstnerič
RELATED-TO:fmf-AFLABS-URNIK:srecanje:3443
X-WR-TIMEZONE:Europe/Ljubljana
END:VEVENT
BEGIN:VEVENT
SUMMARY:KA SEM (MAT-D)\, Seminar (S)
DTSTART;TZID=Europe/Ljubljana:20191008T120000
DTEND;TZID=Europe/Ljubljana:20191008T140000
DTSTAMP:20260424T161132Z
UID:fmf-AFLABS-URNIK:premaknjeno-srecanje:45885
ATTENDEE:doktorski študij (M)
CATEGORIES:Entry,Standard
COLOR:darkgreen
DESCRIPTION:Predmet: KA SEM (MAT-D)\, Seminar (S)\nLetniki: doktorski štu
 dij (M)\nIzvajalci: Barbara Drinovec Drnovšek\, Franc Forstnerič\nProsto
 r: 3.06
LOCATION:3.06
ORGANIZER:Barbara Drinovec Drnovšek, Franc Forstnerič
RELATED-TO:fmf-AFLABS-URNIK:srecanje:3443
X-WR-TIMEZONE:Europe/Ljubljana
END:VEVENT
BEGIN:VEVENT
SUMMARY:Kompleksna analiza (FM-M\, MAT-M\, PM-5)\, Predavanja (P)
DTSTART;TZID=Europe/Ljubljana:20191003T100000
DTEND;TZID=Europe/Ljubljana:20191003T120000
DTSTAMP:20260424T161132Z
UID:fmf-AFLABS-URNIK:premaknjeno-srecanje:54743
ATTENDEE:5. letnik (PM)
ATTENDEE:magistrski študij (FM)
ATTENDEE:magistrski študij (M)
CATEGORIES:Entry,Standard
COLOR:darkgreen
DESCRIPTION:Predmet: Kompleksna analiza (FM-M\, MAT-M\, PM-5)\, Predavanja
  (P)\nLetniki: magistrski študij (FM)\, magistrski študij (M)\, 5. letni
 k (PM)\nIzvajalci: Franc Forstnerič\nProstor: 2.04
LOCATION:2.04
ORGANIZER:Franc Forstnerič
RELATED-TO:fmf-AFLABS-URNIK:srecanje:3433
X-WR-TIMEZONE:Europe/Ljubljana
END:VEVENT
BEGIN:VEVENT
SUMMARY:Kompleksna analiza (FM-M\, MAT-M\, PM-5)\, Predavanja (P)
DTSTART;TZID=Europe/Ljubljana:20191010T100000
DTEND;TZID=Europe/Ljubljana:20191010T120000
DTSTAMP:20260424T161132Z
UID:fmf-AFLABS-URNIK:premaknjeno-srecanje:54744
ATTENDEE:5. letnik (PM)
ATTENDEE:magistrski študij (FM)
ATTENDEE:magistrski študij (M)
CATEGORIES:Entry,Standard
COLOR:darkgreen
DESCRIPTION:Predmet: Kompleksna analiza (FM-M\, MAT-M\, PM-5)\, Predavanja
  (P)\nLetniki: magistrski študij (FM)\, magistrski študij (M)\, 5. letni
 k (PM)\nIzvajalci: Franc Forstnerič\nProstor: 2.04
LOCATION:2.04
ORGANIZER:Franc Forstnerič
RELATED-TO:fmf-AFLABS-URNIK:srecanje:3433
X-WR-TIMEZONE:Europe/Ljubljana
END:VEVENT
BEGIN:VEVENT
SUMMARY:Kompleksna analiza (FM-M\, MAT-M\, PM-5)\, Predavanja (P)
DTSTART;TZID=Europe/Ljubljana:20191007T110000
DTEND;TZID=Europe/Ljubljana:20191007T120000
DTSTAMP:20260424T161132Z
UID:fmf-AFLABS-URNIK:premaknjeno-srecanje:54680
ATTENDEE:5. letnik (PM)
ATTENDEE:magistrski študij (FM)
ATTENDEE:magistrski študij (M)
CATEGORIES:Entry,Standard
COLOR:darkgreen
DESCRIPTION:Predmet: Kompleksna analiza (FM-M\, MAT-M\, PM-5)\, Predavanja
  (P)\nLetniki: magistrski študij (FM)\, magistrski študij (M)\, 5. letni
 k (PM)\nIzvajalci: Franc Forstnerič\nProstor: 2.03
LOCATION:2.03
ORGANIZER:Franc Forstnerič
RELATED-TO:fmf-AFLABS-URNIK:srecanje:3968
X-WR-TIMEZONE:Europe/Ljubljana
END:VEVENT
BEGIN:VEVENT
SUMMARY:Kompleksna analiza (FM-M\, MAT-M\, PM-5)\, Predavanja (P)
DTSTART;TZID=Europe/Ljubljana:20191014T110000
DTEND;TZID=Europe/Ljubljana:20191014T120000
DTSTAMP:20260424T161132Z
UID:fmf-AFLABS-URNIK:premaknjeno-srecanje:54681
ATTENDEE:5. letnik (PM)
ATTENDEE:magistrski študij (FM)
ATTENDEE:magistrski študij (M)
CATEGORIES:Entry,Standard
COLOR:darkgreen
DESCRIPTION:Predmet: Kompleksna analiza (FM-M\, MAT-M\, PM-5)\, Predavanja
  (P)\nLetniki: magistrski študij (FM)\, magistrski študij (M)\, 5. letni
 k (PM)\nIzvajalci: Franc Forstnerič\nProstor: 2.03
LOCATION:2.03
ORGANIZER:Franc Forstnerič
RELATED-TO:fmf-AFLABS-URNIK:srecanje:3968
X-WR-TIMEZONE:Europe/Ljubljana
END:VEVENT
END:VCALENDAR
